Workbook

Sheet 원가계산서
B1: 공 사 원 가 계 산 서
B2: 공사명 : 일산병원 병동출입통제 자동문공사
B3: 비 목 | E3: 금 액 | F3: 구 성 비 | G3: 비 고
A4: A1 | B4: 순 공 사 원 가 | C4: 재 료 비 | D4: 직 접 재 료 비 | E4: =+공종별집계표!F6 -> 0
A5: A2 | D5: 간 접 재 료 비 | E5: 0
A6: A3 | D6: 작업설, 부산물(△) | E6: 0
A7: AS | D7: [ 소 계 ] | E7: =TRUNC(E4+E5-E6, 0) -> 0
A8: B1 | C8: 노 무 비 | D8: 직 접 노 무 비 | E8: =+공종별집계표!H6 -> 0
A9: B2 | D9: 간 접 노 무 비 | E9: =TRUNC(E8*0.175, 0) -> 0 | F9: 직접노무비 * 17.5%
A10: BS | D10: [ 소 계 ] | E10: =TRUNC(E8+E9, 0) -> 0
A11: C2 | C11: 경 비 | D11: 경 비 | E11: =+공종별집계표!J6 -> 0
A12: C4 | D12: 산 재 보 험 료 | E12: =TRUNC(E10*0.0356, 0) -> 0 | F12: 노무비 * 3.56%
A13: C5 | D13: 고 용 보 험 료 | E13: =TRUNC(E10*0.0101, 0) -> 0 | F13: 노무비 * 1.01%
A14: C6 | D14: 국민 건강 보험료 | E14: =TRUNC(E8*0.03595, 0) -> 0 | F14: 직접노무비 * 3.595%
A15: C7 | D15: 국민 연금 보험료 | E15: =TRUNC(E8*0.0475, 0) -> 0 | F15: 직접노무비 * 4.75%
A16: CB | D16: 노인장기요양보험료 | E16: =TRUNC(E14*0.1314, 0) -> 0 | F16: 건강보험료 * 13.14%
A17: C8 | D17: 퇴직 공제 부금비 | E17: =TRUNC(E8*0, 0) -> 0 | F17: 직접노무비 * 2.3%
A18: CA | D18: 산업안전보건관리비 | E18: =TRUNC((E7+E8+(0/1.1))*0.0311, 0) -> 0 | F18: (재료비+직노+관급자재비) * 3.11%
A19: CG | D19: 기 타 경 비 | E19: =TRUNC((E7+E10)*0.05, 0) -> 0 | F19: (재료비+노무비) * 5%
A20: CH | D20: 환 경 보 전 비 | E20: =TRUNC((E7+E8+E11)*0.003, 0) -> 0 | F20: (재료비+직노+경비) * 0.3%
A21: CK | D21: 하도급지급보증수수료 | E21: =TRUNC((E7+E8+E11)*0.00081, 0) -> 0 | F21: (재료비+직노+경비) * 0.081%
A22: CL | D22: 건설기계대여금지급보증서발급수수료 | E22: =TRUNC((E7+E8+E11)*0.0007, 0) -> 0 | F22: (재료비+직노+경비) * 0.07%
A23: CM | D23: 석 면 분 담 금 | E23: =TRUNC(E10*0.00006, 0) -> 0 | F23: 노무비 * 0.006%
A24: CN | D24: 임 금 채 권 부 담 금 | E24: =TRUNC(E10*0.0009, 0) -> 0 | F24: 노무비 * 0.09%
A25: CS | D25: [ 소 계 ] | E25: =TRUNC(E11+E12+E13+E14+E15+E17+E18+E16+E19+E20+E21+E22+E23+E24, 0) -> 0
A26: S1 | B26: 계 | E26: =TRUNC(E7+E10+E25, 0) -> 0
A27: D1 | B27: 일 반 관 리 비 | E27: =TRUNC(E26*0.08, 0) -> 0 | F27: 계 * 8%
A28: D2 | B28: 이 윤 | E28: =TRUNC((E10+E25+E27)*0.15/1.1, 0) -> 0 | F28: (노무비+경비+일반관리비) * 15%
A29: D4 | B29: 폐기물 처리비 | E29: =+공종별집계표!L13 -> 0
A30: D9 | B30: 공 급 가 액 | E30: =TRUNC(E26+E27+E28+E29, 0) -> 0
A31: DB | B31: 부 가 가 치 세 | E31: =TRUNC(E30*0.1, 0) -> 0 | F31: 공급가액 * 10%
A32: DH | B32: 도 급 액 | E32: =TRUNC(E30+E31, 0) -> 0
A33: S2 | B33: 총 공 사 비 | E33: =TRUNC(E32+0, 0) -> 0

Sheet 공종별집계표
A1: 공 종 별 집 계 표
A2: [ 일산병원 병동통제 자동문설치공사 ]
A3: 품 명 | B3: 규 격 | C3: 단위 | D3: 수량 | E3: 재 료 비 | G3: 노 무 비 | I3: 경 비 | K3: 합 계 | M3: 비 고 | N3: 공종코드 | O3: 변수 | P3: 상위공종 | Q3: 공종구분 | R3: 공종레벨 | S3: 공종소계 | T3: 원가계산서 연결금액
E4: 단 가 | F4: 금 액 | G4: 단 가 | H4: 금 액 | I4: 단 가 | J4: 금 액 | K4: 단 가 | L4: 금 액
A5: 01 일산병원 병동출입문통제공사 | D5: 1 | E5: =F6 -> 0 | F5: =E5*D5 -> 0 | G5: =H6 -> 0 | H5: =G5*D5 -> 0 | I5: =J6 -> 0 | J5: =I5*D5 -> 0 | K5: =E5+G5+I5 -> 0 | L5: =F5+H5+J5 -> 0 | N5: 01 | R5: 1
A6: 0101 ◆ 건 축 공 사 | D6: 1 | E6: =F7+F8+F9+F10+F11+F12 -> 0 | F6: =E6*D6 -> 0 | G6: =H7+H8+H9+H10+H11+H12 -> 0 | H6: =G6*D6 -> 0 | I6: =J7+J8+J9+J10+J11+J12 -> 0 | J6: =I6*D6 -> 0 | K6: =E6+G6+I6 -> 0 | L6: =F6+H6+J6 -> 0 | N6: 0101 | P6: 01 | R6: 2
A7: 010101 가 설 공 사 | D7: 1 | E7: =공종별내역서!F29 -> 0 | F7: =E7*D7 -> 0 | G7: =공종별내역서!H29 -> 0 | H7: =G7*D7 -> 0 | I7: =공종별내역서!J29 -> 0 | J7: =I7*D7 -> 0 | K7: =E7+G7+I7 -> 0 | L7: =F7+H7+J7 -> 0 | N7: 010101 | P7: 0101 | R7: 3
A8: 010102 미장 및 수장공사 | D8: 1 | E8: =공종별내역서!F55 -> 0 | F8: =E8*D8 -> 0 | G8: =공종별내역서!H55 -> 0 | H8: =G8*D8 -> 0 | I8: =공종별내역서!J55 -> 0 | J8: =I8*D8 -> 0 | K8: =E8+G8+I8 -> 0 | L8: =F8+H8+J8 -> 0 | N8: 010102 | P8: 0101 | R8: 3
A9: 010103 창호 및 유리공사 | D9: 1 | E9: =공종별내역서!F81 -> 0 | F9: =E9*D9 -> 0 | G9: =공종별내역서!H81 -> 0 | H9: =G9*D9 -> 0 | I9: =공종별내역서!J81 -> 0 | J9: =I9*D9 -> 0 | K9: =E9+G9+I9 -> 0 | L9: =F9+H9+J9 -> 0 | N9: 010103 | P9: 0101 | R9: 3
A10: 010104 철 거 공 사 | D10: 1 | E10: =공종별내역서!F107 -> 0 | F10: =E10*D10 -> 0 | G10: =공종별내역서!H107 -> 0 | H10: =G10*D10 -> 0 | I10: =공종별내역서!J107 -> 0 | J10: =I10*D10 -> 0 | K10: =E10+G10+I10 -> 0 | L10: =F10+H10+J10 -> 0 | N10: 010104 | P10: 0101 | R10: 3
A11: 010105 골 재 비 | D11: 1 | E11: =공종별내역서!F133 -> 0 | F11: =E11*D11 -> 0 | G11: =공종별내역서!H133 -> 0 | H11: =G11*D11 -> 0 | I11: =공종별내역서!J133 -> 0 | J11: =I11*D11 -> 0 | K11: =E11+G11+I11 -> 0 | L11: =F11+H11+J11 -> 0 | N11: 010105 | P11: 0101 | R11: 3
A12: 010106 작 업 부 산 물 | D12: 1 | E12: =공종별내역서!F159 -> 0 | F12: =E12*D12 -> 0 | G12: =공종별내역서!H159 -> 0 | H12: =G12*D12 -> 0 | I12: =공종별내역서!J159 -> 0 | J12: =I12*D12 -> 0 | K12: =E12+G12+I12 -> 0 | L12: =F12+H12+J12 -> 0 | N12: 010106 | P12: 0101 | R12: 3
A13: 0102 건설폐기물처리비 | D13: 1 | E13: =공종별내역서!F185 -> 0 | F13: =E13*D13 -> 0 | G13: =공종별내역서!H185 -> 0 | H13: =G13*D13 -> 0 | I13: =공종별내역서!J185 -> 0 | J13: =I13*D13 -> 0 | K13: =E13+G13+I13 -> 0 | L13: =F13+H13+J13 -> 0 | N13: 0102 | Q13: 6 | R13: 2 | T13: =L13*1 -> 0
A29: [ 합 계 ] | F29: =F5 -> 0 | H29: =H5 -> 0 | J29: =J5 -> 0 | L29: =L5 -> 0

Sheet 공종별내역서
A1: [ 일산병원 병동출입문통제공사 ]
A2: 품 명 | B2: 규 격 | C2: 단위 | D2: 수량 | E2: 재 료 비 | G2: 노 무 비 | I2: 경 비 | K2: 합 계 | M2: 비 고 | N2: 품목코드 | O2: 변수 | P2: 설정 | Q2: 공종코드 | R2: 일위 | S2: 단산 | T2: 자재 | U2: 손료적용 | V2: 손료저장 | W2: 적용율 | X2: JUK1 | Y2: JUK2 | Z2: JUK3 | AA2: JUK4 | AB2: JUK5 | AC2: JUK6 | AD2: JUK7 | AE2: JUK8 | AF2: JUK9 | AG2: JUK10 | AH2: JUK11 | AI2: JUK12 | AJ2: JUK13 | AK2: JUK14 | AL2: JUK15 | AM2: JUK16 | AN2: JUK17 | AO2: JUK18 | AP2: JUK19 | AQ2: JUK20 | AR2: 자재구분 | AS2: 공종구분 | AT2: 공종레벨 | AU2: 공종+자재 | AV2: 고유번호
E3: 단 가 | F3: 금 액 | G3: 단 가 | H3: 금 액 | I3: 단 가 | J3: 금 액 | K3: 단 가 | L3: 금 액
A4: 010101 가 설 공 사 | Q4: 010101
A5: 건축물 현장정리 | B5: 실내건축공사기준 | C5: M2 | D5: 30 | F5: =TRUNC(E5*D5, 0) -> 0 | H5: =TRUNC(G5*D5, 0) -> 0 | J5: =TRUNC(I5*D5, 0) -> 0 | K5: =TRUNC(E5+G5+I5, 0) -> 0 | L5: =TRUNC(F5+H5+J5, 0) -> 0 | N5: 53F2B39C2F2872390AF407EB8C81BD | Q5: 010101 | R5: T | S5: F | T5: F | AU5: 01010153F2B39C2F2872390AF407EB8C81BD | AV5: 4
A6: 보양 | B6: 비닐, 바닥, 벽체 | C6: M2 | D6: 30 | F6: =TRUNC(E6*D6, 0) -> 0 | H6: =TRUNC(G6*D6, 0) -> 0 | J6: =TRUNC(I6*D6, 0) -> 0 | K6: =TRUNC(E6+G6+I6, 0) -> 0 | L6: =TRUNC(F6+H6+J6, 0) -> 0 | Q6: 010101
Q7: 010101
Q8: 010101
Q9: 010101
Q10: 010101
Q11: 010101
Q12: 010101
Q13: 010101
Q14: 010101
Q15: 010101
Q16: 010101
Q17: 010101
Q18: 010101
... Q28: 010101
A29: [ 합 계 ] | F29: =SUMIF(Q5:Q28,"010101",F5:F28) -> 0 | H29: =SUMIF(Q5:Q28,"010101",H5:H28) -> 0 | J29: =SUMIF(Q5:Q28,"010101",J5:J28) -> 0 | L29: =SUMIF(Q5:Q28,"010101",L5:L28) -> 0 | N29: TOTAL
A30: 010102 미장 및 수장공사 | Q30: 010102
A31: 비닐시트 깔기 | B31: iQ.OPTIMA, 2.0t | C31: M2 | D31: 1 | F31: =TRUNC(E31*D31, 0) -> 0 | H31: =TRUNC(G31*D31, 0) -> 0 | J31: =TRUNC(I31*D31, 0) -> 0 | K31: =TRUNC(E31+G31+I31, 0) -> 0 | L31: =TRUNC(F31+H31+J31, 0) -> 0 | N31: 53F253312F297A7CB484917D10DBE3 | Q31: 010102 | R31: T | S31: F | T31: F | AU31: 01010253F253312F297A7CB484917D10DBE3 | AV31: 6
A32: 모르타르 바름 | B32: 바닥, 43mm | C32: M2 | D32: 1 | F32: =TRUNC(E32*D32, 0) -> 0 | H32: =TRUNC(G32*D32, 0) -> 0 | J32: =TRUNC(I32*D32, 0) -> 0 | K32: =TRUNC(E32+G32+I32, 0) -> 0 | L32: =TRUNC(F32+H32+J32, 0) -> 0 | N32: 53F2D3E72D2971B96DE468FB938E83 | Q32: 010102 | R32: T | S32: F | T32: F | AU32: 01010253F2D3E72D2971B96DE468FB938E83 | AV32: 8
A33: 창호주위 발포우레탄 충전 | C33: M | D33: 101 | F33: =TRUNC(E33*D33, 0) -> 0 | H33: =TRUNC(G33*D33, 0) -> 0 | J33: =TRUNC(I33*D33, 0) -> 0 | K33: =TRUNC(E33+G33+I33, 0) -> 0 | L33: =TRUNC(F33+H33+J33, 0) -> 0 | N33: 53F263102F28791AB534378AF175DD | Q33: 010102 | R33: T | S33: F | T33: F | AU33: 01010253F263102F28791AB534378AF175DD | AV33: 9
A34: 천장점검구 설치 | B34: 600*600mm | C34: 개소 | D34: 2 | F34: =TRUNC(E34*D34, 0) -> 0 | H34: =TRUNC(G34*D34, 0) -> 0 | K34: =TRUNC(E34+G34+I34, 0) -> 0 | L34: =TRUNC(F34+H34+J34, 0) -> 0 | Q34: 010102
Q36: 010102
Q37: 010102
Q38: 010102
Q39: 010102
Q40: 010102
Q41: 010102
Q42: 010102
Q43: 010102
Q44: 010102
Q45: 010102
Q46: 010102
Q47: 010102
... Q54: 010102
A55: [ 합 계 ] | F55: =SUMIF(Q31:Q54,"010102",F31:F54) -> 0 | H55: =SUMIF(Q31:Q54,"010102",H31:H54) -> 0 | J55: =SUMIF(Q31:Q54,"010102",J31:J54) -> 0 | L55: =SUMIF(Q31:Q54,"010102",L31:L54) -> 0 | N55: TOTAL
A56: 010103 창호 및 유리공사 | Q56: 010103
A57: ASD1/스크린자동도어 | B57: 2.30*2.65=6.095, 철물및마감등 일체공사 | C57: SET | D57: 1 | F57: =TRUNC(E57*D57, 0) -> 0 | H57: =TRUNC(G57*D57, 0) -> 0 | J57: =TRUNC(I57*D57, 0) -> 0 | K57: =TRUNC(E57+G57+I57, 0) -> 0 | L57: =TRUNC(F57+H57+J57, 0) -> 0 | N57: 54D383022221777FD4D41DA32E7D9A719B2BB5 | Q57: 010103 | R57: F | S57: F | T57: T | AU57: 01010354D383022221777FD4D41DA32E7D9A719B2BB5 | AV57: 11
A58: ASD2/스크린자동도어 | B58: 2.54*2.50=6.35, 철물및마감등 일체공사 | C58: SET | D58: 9 | F58: =TRUNC(E58*D58, 0) -> 0 | H58: =TRUNC(G58*D58, 0) -> 0 | J58: =TRUNC(I58*D58, 0) -> 0 | K58: =TRUNC(E58+G58+I58, 0) -> 0 | L58: =TRUNC(F58+H58+J58, 0) -> 0 | N58: 54D383022221777FD4D41DA32E7D9A719B2BB7 | Q58: 010103 | R58: F | S58: F | T58: T | AU58: 01010354D383022221777FD4D41DA32E7D9A719B2BB7 | AV58: 12
A59: 수밀코킹(실리콘) | B59: 삼각, 10mm, 창호주위 | C59: M | D59: 202 | F59: =TRUNC(E59*D59, 0) -> 0 | H59: =TRUNC(G59*D59, 0) -> 0 | J59: =TRUNC(I59*D59, 0) -> 0 | K59: =TRUNC(E59+G59+I59, 0) -> 0 | L59: =TRUNC(F59+H59+J59, 0) -> 0 | N59: 53F223FD2522733A86D4F163DD2D2E | Q59: 010103 | R59: T | S59: F | T59: F | AU59: 01010353F223FD2522733A86D4F163DD2D2E | AV59: 13
Q60: 010103
Q61: 010103
Q62: 010103
Q63: 010103
Q64: 010103
Q65: 010103
Q66: 010103
Q67: 010103
Q68: 010103
Q69: 010103
Q70: 010103
Q71: 010103
... Q80: 010103
A81: [ 합 계 ] | F81: =SUMIF(Q57:Q80,"010103",F57:F80) -> 0 | H81: =SUMIF(Q57:Q80,"010103",H57:H80) -> 0 | J81: =SUMIF(Q57:Q80,"010103",J57:J80) -> 0 | L81: =SUMIF(Q57:Q80,"010103",L57:L80) -> 0 | N81: TOTAL
A82: 010104 철 거 공 사 | Q82: 010104
A83: 스텐레스문 해체 | C83: M2 | D83: 7 | F83: =TRUNC(E83*D83, 0) -> 0 | H83: =TRUNC(G83*D83, 0) -> 0 | J83: =TRUNC(I83*D83, 0) -> 0 | K83: =TRUNC(E83+G83+I83, 0) -> 0 | L83: =TRUNC(F83+H83+J83, 0) -> 0 | N83: 53F3B3052E2F7B24D934ED5DD32820 | Q83: 010104 | R83: T | S83: F | T83: F | AU83: 01010453F3B3052E2F7B24D934ED5DD32820 | AV83: 15
A84: 후로아힌지 해체 | C84: EA | D84: 2 | F84: =TRUNC(E84*D84, 0) -> 0 | H84: =TRUNC(G84*D84, 0) -> 0 | J84: =TRUNC(I84*D84, 0) -> 0 | K84: =TRUNC(E84+G84+I84, 0) -> 0 | L84: =TRUNC(F84+H84+J84, 0) -> 0 | N84: 53F3B3052E2F7B24D934ED5DD6F52E | Q84: 010104 | R84: T | S84: F | T84: F | AU84: 01010453F3B3052E2F7B24D934ED5DD6F52E | AV84: 16
Q85: 010104
Q86: 010104
Q87: 010104
Q88: 010104
Q89: 010104
Q90: 010104
Q91: 010104
Q92: 010104
Q93: 010104
Q94: 010104
Q95: 010104
Q96: 010104
... Q106: 010104
A107: [ 합 계 ] | F107: =SUMIF(Q83:Q106,"010104",F83:F106) -> 0 | H107: =SUMIF(Q83:Q106,"010104",H83:H106) -> 0 | J107: =SUMIF(Q83:Q106,"010104",J83:J106) -> 0 | L107: =SUMIF(Q83:Q106,"010104",L83:L106) -> 0 | N107: TOTAL
A108: 010105 골 재 비 | Q108: 010105
A109: 시멘트 | B109: 건재상 | C109: 포 | D109: 1 | F109: =TRUNC(E109*D109, 0) -> 0 | H109: =TRUNC(G109*D109, 0) -> 0 | J109: =TRUNC(I109*D109, 0) -> 0 | K109: =TRUNC(E109+G109+I109, 0) -> 0 | L109: =TRUNC(F109+H109+J109, 0) -> 0 | N109: 54D38302222779F52E840E3D061522CEA04DCB | Q109: 010105 | R109: F | S109: F | T109: T | AU109: 01010554D38302222779F52E840E3D061522CEA04DCB | AV109: 32
A110: 모래 | B110: 모래, 서울, 자연사, 도착도 | C110: M3 | D110: 0.1 | F110: =TRUNC(E110*D110, 0) -> 0 | H110: =TRUNC(G110*D110, 0) -> 0 | J110: =TRUNC(I110*D110, 0) -> 0 | K110: =TRUNC(E110+G110+I110, 0) -> 0 | L110: =TRUNC(F110+H110+J110, 0) -> 0 | N110: 54FE43F1202B75D8FEF43CC0B5786D3832DC23 | Q110: 010105 | R110: F | S110: F | T110: T | AU110: 01010554FE43F1202B75D8FEF43CC0B5786D3832DC23 | AV110: 33
Q111: 010105
Q112: 010105
Q113: 010105
Q114: 010105
Q115: 010105
Q116: 010105
Q117: 010105
Q118: 010105
Q119: 010105
Q120: 010105
Q121: 010105
Q122: 010105
... Q132: 010105
A133: [ 합 계 ] | F133: =SUMIF(Q109:Q132,"010105",F109:F132) -> 0 | H133: =SUMIF(Q109:Q132,"010105",H109:H132) -> 0 | J133: =SUMIF(Q109:Q132,"010105",J109:J132) -> 0 | L133: =SUMIF(Q109:Q132,"010105",L109:L132) -> 0 | N133: TOTAL
A134: 010106 작 업 부 산 물 | Q134: 010106
A135: 철강설 | B135: 철강설, 스텐레스, 작업설부산물 | C135: kg | D135: -37.674 | F135: =TRUNC(E135*D135, 0) -> 0 | H135: =TRUNC(G135*D135, 0) -> 0 | J135: =TRUNC(I135*D135, 0) -> 0 | K135: =TRUNC(E135+G135+I135, 0) -> 0 | L135: =TRUNC(F135+H135+J135, 0) -> 0 | N135: 54FE43F120237071665414FF40AB5F3033797F | Q135: 010106 | R135: F | S135: F | T135: T | AU135: 01010654FE43F120237071665414FF40AB5F3033797F | AV135: 25
Q136: 010106
Q137: 010106
Q138: 010106
Q139: 010106
Q140: 010106
Q141: 010106
Q142: 010106
...

Sheet  공사설정 
A1: 이 Sheet는 수정하지 마십시요
A2: 공사구분 | B2: A | C2: 타이틀
A3: 확정내역 | B3: 원내역
A4: 자재단가적용 | B4: 5
A5: 경비단가적용 | B5: 5
A6: 품목코드형식 | B6: XXXX-XXXX-XXXXXXXXX
A7: 내역금액소수점처리 | B7: C | C7: T
A8: 일위대가내역소수점처리 | B8: C | C8: 2
A9: 단가명 | B9: 조달청가격 | C9: 거래가격 | D9: 유통물가 | E9: 물가자료 | F9: 조사가격 | G9: TTTTT
A10: 환율 | B10: 1472 | C10: 0 | D10: 0
A11: 시간당작업량 | B11: R | C11: 4
A12: 1회 사이클시간 | B12: R | C12: 4
A13: 시간당 작업사이클 | B13: R | C13: 3
A14: 일반변수 | B14: R | C14: 5
A15: 시간당 노임산출 계수 | B15: A | C15: 1/8*16/12*25/20 | D15: 1/8*16/12*25/20 | E15: 1/8*16/12*25/20 | F15: 1
A16: 재료비 할증 계수 | B16: 1.11 | C16: 1.12
A17: 노무비 할증 계수 | B17: 1 | C17: 1.5 | D17: 1.16 | E17: 1.6 | F17: 1.6 | G17: 1.6 | H17: 1.94 | I17: 1.94 | J17: 1.94 | K17: 1 | L17: 1 | M17: 1
A18: 경비 할증 계수 | B18: 1.25 | C18: 1.071
A19: 내역,일위대가 품명,규격,단위 따로적용
A20: 내역단가 소수점처리 | B20: C | C20: 1
A21: 코드 | B21: 공종구분명 | C21: 원가비목코드
A22: 1 | B22: 작 업 부 산 물 | C22: A3
A23: 2 | B23: 운 반 비 | C23: C1
A24: 3 | B24: 관 급 자 재 비 | C24: DJ
A25: 4 | B25: 사 급 자 재 비 | C25: D3
A26: 5 | B26: 외 자 재
A27: 6 | B27: 폐기물 처리비 | C27: D4
A28: 7 | B28: ...
A29: 8 | B29: ...
A30: 9 | B30: ...
A31: A | B31: ....
A32: B | B32: .....
A33: C | B33: ....
A34: D | B34: ....
A35: E | B35: ....
A36: F | B36: ....
A37: G | B37: ....
A38: H | B38: ....
A39: I | B39: ....
A40: J | B40: ....
A43: 단가 순서 | B43: 1234
