Workbook

Sheet 원가계산서
A1: 공 사 원 가 계 산 서
A2: 공사명 : 2026년도 냉난방 보수공사(EHP) | F2: ="금액 : "&NUMBERSTRING((D32),1)&"원정" -> 금액 : 영원정 | H2: ="(\"&TEXT(D32,"#,##0")&" 원)" -> (\0 원)
A3: 비 목 | D3: 금 액 | E3: 제비율 | F3: 구 성 비 | H3: 비 고
A4: 순 공 사 원 가 | B4: 재 료 비 | C4: 직 접 재 료 비 | D4: =집계표!F5 -> 0
C5: 간 접 재 료 비
C6: 작업설, 부산물(△)
C7: [ 소 계 ] | D7: =SUM(D4-D6) -> 0
B8: 노무비 | C8: 직 접 노 무 비 | D8: =집계표!H5 -> 0
C9: 간 접 노 무 비 | D9: =INT(D8*E9) -> 0 | E9: 0.175 | F9: 직접노무비 * 17.5%
C10: [ 소 계 ] | D10: =SUM(D8:D9) -> 0
C11: 기 계 경 비 | D11: =집계표!J5 -> 0
C12: 산 재 보 험 료 | D12: =INT(D10*E12) -> 0 | E12: 0.0356 | F12: 노무비 * 3.56%
C13: 고 용 보 험 료 | D13: =INT(D10*E13) -> 0 | E13: 0.0101 | F13: 노무비 * 1.01%
C14: 건 강 보 험 료 | D14: =INT(D8*E14) -> 0 | E14: 0.03595 | F14: 직접노무비 * 3.595%
C15: 연 금 보 험 료 | D15: =INT(D8*E15) -> 0 | E15: 0.0475 | F15: 직접노무비 * 4.75%
C16: 노인장기요양보험료 | D16: =INT(D14*E16) -> 0 | E16: 0.1314 | F16: 건강보험료 * 13.14%
C17: 퇴 직 공 제 부금비 | D17: =INT(D8*E17) -> 0 | E17: 0.023 | F17: 직접노무비 * 2.3%
C18: 산 업 안 전 관 리 비 | D18: =INT((D7+D8)*E18) -> 0 | E18: 0.0311 | F18: (재료비+직노) * 3.11%
C19: 기 타 경 비 | D19: =INT((D7+D10)*E19) -> 0 | E19: 0.05 | F19: (재료비+노무비) * 5%
C20: 환 경 보 전 비 | D20: =INT((D7+D8+D11)*E20) -> 0 | E20: 0.003 | F20: (재료비+직노+기계경비) * 0.3%
C21: 공사이행보증수수료 | D21: =(INT((((D7+D8+D11)))*E21))*1 -> 0 | E21: 0.000108 | F21: (직접공사비) * 0.0108%)*1년
C22: 건 설 하 도 급 대 금 지급보증서발급수수료 | D22: =INT((D7+D8+D11)*E22) -> 0 | E22: 0.00081 | F22: (재료비+직노+기계경비) * 0.081%
C23: 석 면 분 담 금 | D23: =D10*E23 -> 0 | E23: 6e-05 | F23: 노무비*0.006%
C24: 임 금 채 권 분 담 금 | D24: =D10*E24 -> 0 | E24: 0.0009 | F24: 노무비*0.09%
C25: [ 소 계 ] | D25: =SUM(D11:D24) -> 0
A26: 계 | D26: =D7+D10+D25 -> 0
A27: 일 반 관 리 비 | D27: =INT(D26*E27) -> 0 | E27: 0.08 | F27: 계 * 8.0%
A28: 이 윤 | D28: =INT((D10+D25+D27)*E28) -> 0 | E28: 0.15 | F28: (노무비+경비+일반관리비) * 15%
A29: 공 급 가 액 | D29: =SUM(D26:D28) -> 0
A30: 부 가 가 치 세 | D30: =SUM(D29:D29)*E30 -> 0 | E30: 0.1 | F30: 10%
A31: 도 급 액 | D31: =SUM(D29:D30) -> 0
A32: 총 공 사 비 | D32: =ROUNDDOWN(SUM(D31:D31),-4) -> 0 | F32: 천원미만 절사

Sheet 집계표
A1: 집 계 표
A2: [공사명] 2026년도 냉난방 보수공사(EHP)
A3: 품 명 | B3: 규 격 | C3: 단위 | D3: 수량 | E3: 재 료 비 | G3: 노 무 비 | I3: 경 비 | K3: 합 계 | M3: 비고
E4: 단가 | F4: 금액 | G4: 단가 | H4: 금액 | I4: 단가 | J4: 금액 | K4: 단가 | L4: 금액
A5: 01 기계설비공사 | D5: 1 | E5: =F6 -> 0 | F5: =D5*E5 -> 0 | G5: =H6 -> 0 | H5: =D5*G5 -> 0 | I5: =J6 -> 0 | J5: =D5*I5 -> 0 | K5: =E5+G5+I5 -> 0 | L5: =D5*K5 -> 0 | N5: 01
A6: 010104 냉난방기설치공사 | D6: 1 | E6: =내역서!H158 -> 0 | F6: =D6*E6 -> 0 | G6: =내역서!J158 -> 0 | H6: =D6*G6 -> 0 | I6: =내역서!L158 -> 0 | J6: =D6*I6 -> 0 | K6: =E6+G6+I6 -> 0 | L6: =D6*K6 -> 0 | N6: 010104
A22: [ 합 계 ] | F22: =F5 -> 0 | H22: =H5 -> 0 | J22: =J5 -> 0 | L22: =F22+H22+J22 -> 0
A23: End Of File(Ver 6.0)
A24: 마지막열은 지우지 마시오

Sheet 내역서
C1: [공사명] 2026년도 냉난방 보수공사(EHP)
A2: 공종 | B2: 코드 | C2: 품 명 | D2: 규 격 | E2: 단위 | F2: 수량 | G2: 재 료 비 | I2: 노 무 비 | K2: 경 비 | M2: 합 계 | O2: 비고
G3: 단가 | H3: 금액 | I3: 단가 | J3: 금액 | K3: 단가 | L3: 금액 | M3: 단가 | N3: 금액
C4: 010104 냉난방기설치공사
A5: 010104 | B5: Y2603040050 | C5: 02. 지하1층 재활치료센터 심폐실 | F5: 0 | G5: =TRUNC(단가대비표!O92,0) -> 0 | H5: =TRUNC(F5*G5,0) -> 0 | I5: 0 | J5: =TRUNC(F5*I5,0) -> 0 | K5: 0 | L5: =TRUNC(F5*K5,0) -> 0 | M5: =G5+I5+K5 -> 0 | N5: =H5+J5+L5 -> 0 | O5: =SUM(N7:N45) -> 0 | P5: =P8+P52+P103 -> 0 | Q5: 공기구비품 | T5: 0 | AC5: 1
A6: 010104 | B6: Y2603040051 | C6: 02-1 제품 및 부품 | F6: 0 | H6: =TRUNC(F6*G6,0) -> 0 | J6: =TRUNC(F6*I6,0) -> 0 | L6: =TRUNC(F6*K6,0) -> 0 | M6: =G6+I6+K6 -> 0 | N6: =H6+J6+L6 -> 0 | T6: 0 | AC6: 1
A7: 010104 | B7: Y2603040052 | C7: 싱글형냉난방기(천정카세트4-Way) | D7: 14.5 / 16.7 kW (1등급) | E7: 대 | F7: 1 | H7: =TRUNC(F7*G7,0) -> 0 | J7: =TRUNC(F7*I7,0) -> 0 | L7: =TRUNC(F7*K7,0) -> 0 | M7: =G7+I7+K7 -> 0 | N7: =H7+J7+L7 -> 0 | O7: 공구기구비품 | T7: 0 | AC7: 1
A8: 010104 | B8: Y2603040053 | C8: 공기청정키트(4Way형) | E8: 개 | F8: 0 | H8: =TRUNC(F8*G8,0) -> 0 | J8: =TRUNC(F8*I8,0) -> 0 | L8: =TRUNC(F8*K8,0) -> 0 | M8: =G8+I8+K8 -> 0 | N8: =H8+J8+L8 -> 0 | O8: 공구기구비품 | P8: =N7+N8 -> 0 | T8: 0 | AC8: 1
A9: 010104 | B9: Y2603040057 | C9: 02-2 교체 설치공사 | F9: 0 | H9: =TRUNC(F9*G9,0) -> 0 | J9: =TRUNC(F9*I9,0) -> 0 | L9: =TRUNC(F9*K9,0) -> 0 | M9: =G9+I9+K9 -> 0 | N9: =H9+J9+L9 -> 0 | T9: 0 | AC9: 1
A10: 010104 | B10: Y2603040054 | C10: 유선리모컨(고급형) | E10: 개 | F10: 1 | H10: =TRUNC(F10*G10,0) -> 0 | J10: =TRUNC(F10*I10,0) -> 0 | L10: =TRUNC(F10*K10,0) -> 0 | M10: =G10+I10+K10 -> 0 | N10: =H10+J10+L10 -> 0 | T10: 0 | AC10: 1
A11: 010104 | B11: Y2603040055 | C11: 실외기(싱글형) 받침대 | E11: 개 | F11: 2 | H11: =TRUNC(F11*G11,0) -> 0 | J11: =TRUNC(F11*I11,0) -> 0 | L11: =TRUNC(F11*K11,0) -> 0 | M11: =G11+I11+K11 -> 0 | N11: =H11+J11+L11 -> 0 | T11: 0 | AC11: 1
A12: 010104 | B12: Y2603040056 | C12: 실외기 바람막이 | E12: 개 | F12: 1 | H12: =TRUNC(F12*G12,0) -> 0 | J12: =TRUNC(F12*I12,0) -> 0 | L12: =TRUNC(F12*K12,0) -> 0 | M12: =G12+I12+K12 -> 0 | N12: =H12+J12+L12 -> 0 | T12: 0 | AC12: 1
A13: 010104 | B13: Y2603040058 | C13: 실내 보양 | D13: 해당 실면적의 30% | E13: ㎡ | F13: 12 | H13: =TRUNC(F13*G13,0) -> 0 | J13: =TRUNC(F13*I13,0) -> 0 | L13: =TRUNC(F13*K13,0) -> 0 | M13: =G13+I13+K13 -> 0 | N13: =H13+J13+L13 -> 0 | T13: 0 | AC13: 1
A14: 010104 | B14: Y2603040059 | C14: 기존 냉방기 철거 | D14: 압축기 전동기출력 3.7kW 이하 | E14: 대 | F14: 1 | H14: =TRUNC(F14*G14,0) -> 0 | J14: =TRUNC(F14*I14,0) -> 0 | L14: =TRUNC(F14*K14,0) -> 0 | M14: =G14+I14+K14 -> 0 | N14: =H14+J14+L14 -> 0 | T14: 0 | AC14: 1
A15: 010104 | B15: Y2603040060 | C15: 천정타공(흡읍텍스 해체) | E15: ㎡ | F15: 4 | H15: =TRUNC(F15*G15,0) -> 0 | J15: =TRUNC(F15*I15,0) -> 0 | L15: =TRUNC(F15*K15,0) -> 0 | M15: =G15+I15+K15 -> 0 | N15: =H15+J15+L15 -> 0 | T15: 0 | AC15: 1
A16: 010104 | B16: Y2603040061 | C16: 경량철골틀 해체 | E16: ㎡ | F16: 4 | H16: =TRUNC(F16*G16,0) -> 0 | J16: =TRUNC(F16*I16,0) -> 0 | L16: =TRUNC(F16*K16,0) -> 0 | M16: =G16+I16+K16 -> 0 | N16: =H16+J16+L16 -> 0 | T16: 0 | AC16: 1
A17: 010104 | B17: Y2603040062 | C17: 점검구 설치 | D17: 450×450 | E17: 개소 | F17: 1 | H17: =TRUNC(F17*G17,0) -> 0 | J17: =TRUNC(F17*I17,0) -> 0 | L17: =TRUNC(F17*K17,0) -> 0 | M17: =G17+I17+K17 -> 0 | N17: =H17+J17+L17 -> 0 | T17: 0 | AC17: 1
A18: 010104 | B18: Y2603040063 | C18: 실내기 설치 | E18: 대 | F18: 1 | H18: =TRUNC(F18*G18,0) -> 0 | J18: =TRUNC(F18*I18,0) -> 0 | L18: =TRUNC(F18*K18,0) -> 0 | M18: =G18+I18+K18 -> 0 | N18: =H18+J18+L18 -> 0 | T18: 0 | AC18: 1
A19: 010104 | B19: Y2603040064 | C19: 실외기 설치 | D19: 16kW 이하 | E19: 대 | F19: 1 | H19: =TRUNC(F19*G19,0) -> 0 | J19: =TRUNC(F19*I19,0) -> 0 | L19: =TRUNC(F19*K19,0) -> 0 | M19: =G19+I19+K19 -> 0 | N19: =H19+J19+L19 -> 0 | T19: 0 | AC19: 1
A20: 010104 | B20: Y2603040065 | C20: 유선리모컨 설치 | E20: 개 | F20: 1 | H20: =TRUNC(F20*G20,0) -> 0 | J20: =TRUNC(F20*I20,0) -> 0 | L20: =TRUNC(F20*K20,0) -> 0 | M20: =G20+I20+K20 -> 0 | N20: =H20+J20+L20 -> 0 | T20: 0 | AC20: 1
A21: 010104 | B21: Y2603040066 | C21: 동파이프 | D21: 15.88mm×1.02T | E21: M | F21: 64 | H21: =TRUNC(F21*G21,0) -> 0 | J21: =TRUNC(F21*I21,0) -> 0 | L21: =TRUNC(F21*K21,0) -> 0 | M21: =G21+I21+K21 -> 0 | N21: =H21+J21+L21 -> 0 | T21: 0 | AC21: 1
A22: 010104 | B22: Y2603040067 | C22: 동파이프 | D22: 9.52mm×0.8T | E22: M | F22: 64 | H22: =TRUNC(F22*G22,0) -> 0 | J22: =TRUNC(F22*I22,0) -> 0 | L22: =TRUNC(F22*K22,0) -> 0 | M22: =G22+I22+K22 -> 0 | N22: =H22+J22+L22 -> 0 | T22: 0 | AC22: 1
A23: 010104 | B23: Y2603040068 | C23: 동엘보 | D23: 15.88mm | E23: 개 | F23: 5 | H23: =TRUNC(F23*G23,0) -> 0 | J23: =TRUNC(F23*I23,0) -> 0 | L23: =TRUNC(F23*K23,0) -> 0 | M23: =G23+I23+K23 -> 0 | N23: =H23+J23+L23 -> 0 | T23: 0 | AC23: 1
A24: 010104 | B24: Y2603040069 | C24: 동엘보 | D24: 9.52mm | E24: 개 | F24: 5 | H24: =TRUNC(F24*G24,0) -> 0 | J24: =TRUNC(F24*I24,0) -> 0 | L24: =TRUNC(F24*K24,0) -> 0 | M24: =G24+I24+K24 -> 0 | N24: =H24+J24+L24 -> 0 | T24: 0 | AC24: 1
A25: 010104 | B25: Y2603040070 | C25: 동소켓 | D25: 15.88mm | E25: 개 | F25: 6 | H25: =TRUNC(F25*G25,0) -> 0 | J25: =TRUNC(F25*I25,0) -> 0 | L25: =TRUNC(F25*K25,0) -> 0 | M25: =G25+I25+K25 -> 0 | N25: =H25+J25+L25 -> 0 | T25: 0 | AC25: 1
A26: 010104 | B26: Y2603040071 | C26: 동소켓 | D26: 9.52mm | E26: 개 | F26: 6 | H26: =TRUNC(F26*G26,0) -> 0 | J26: =TRUNC(F26*I26,0) -> 0 | L26: =TRUNC(F26*K26,0) -> 0 | M26: =G26+I26+K26 -> 0 | N26: =H26+J26+L26 -> 0 | T26: 0 | AC26: 1
A27: 010104 | B27: Y2603040072 | C27: 동용접 | D27: 15.88mm | E27: 개소 | F27: 22 | H27: =TRUNC(F27*G27,0) -> 0 | J27: =TRUNC(F27*I27,0) -> 0 | L27: =TRUNC(F27*K27,0) -> 0 | M27: =G27+I27+K27 -> 0 | N27: =H27+J27+L27 -> 0 | T27: 0 | AC27: 1
A28: 010104 | B28: Y2603040073 | C28: 동용접 | D28: 9.52mm | E28: 개소 | F28: 22 | H28: =TRUNC(F28*G28,0) -> 0 | J28: =TRUNC(F28*I28,0) -> 0 | L28: =TRUNC(F28*K28,0) -> 0 | M28: =G28+I28+K28 -> 0 | N28: =H28+J28+L28 -> 0 | T28: 0 | AC28: 1
A29: 010104 | B29: Y2603040074 | C29: EPDM 고무발포보온재 | D29: 15.88mm, 13T | E29: M | F29: 64 | H29: =TRUNC(F29*G29,0) -> 0 | J29: =TRUNC(F29*I29,0) -> 0 | L29: =TRUNC(F29*K29,0) -> 0 | M29: =G29+I29+K29 -> 0 | N29: =H29+J29+L29 -> 0 | T29: 0 | AC29: 1
A30: 010104 | B30: Y2603040075 | C30: EPDM 고무발포보온재 | D30: 9.52mm, 9T | E30: M | F30: 64 | H30: =TRUNC(F30*G30,0) -> 0 | J30: =TRUNC(F30*I30,0) -> 0 | L30: =TRUNC(F30*K30,0) -> 0 | M30: =G30+I30+K30 -> 0 | N30: =H30+J30+L30 -> 0 | T30: 0 | AC30: 1
A31: 010104 | B31: Y2603040076 | C31: PVC 파이프 | D31: 25mm×2.8T | E31: M | F31: 8 | H31: =TRUNC(F31*G31,0) -> 0 | J31: =TRUNC(F31*I31,0) -> 0 | L31: =TRUNC(F31*K31,0) -> 0 | M31: =G31+I31+K31 -> 0 | N31: =H31+J31+L31 -> 0 | T31: 0 | AC31: 1
A32: 010104 | B32: Y2603040077 | C32: PVC엘보 | D32: 25mm | E32: 개 | F32: 2 | H32: =TRUNC(F32*G32,0) -> 0 | J32: =TRUNC(F32*I32,0) -> 0 | L32: =TRUNC(F32*K32,0) -> 0 | M32: =G32+I32+K32 -> 0 | N32: =H32+J32+L32 -> 0 | T32: 0 | AC32: 1
... A36: 010104 | B36: Y2603040081 | C36: 파이프 관통부 내화채움 | D36: 100A | E36: 개소 | F36: 2 | H36: =TRUNC(F36*G36,0) -> 0 | J36: =TRUNC(F36*I36,0) -> 0 | L36: =TRUNC(F36*K36,0) -> 0 | M36: =G36+I36+K36 -> 0 | N36: =H36+J36+L36 -> 0 | T36: 0 | AC36: 1
A37: 010104 | B37: Y2603040082 | C37: 기밀시험 | E37: 회 | F37: 1 | H37: =TRUNC(F37*G37,0) -> 0 | J37: =TRUNC(F37*I37,0) -> 0 | L37: =TRUNC(F37*K37,0) -> 0 | M37: =G37+I37+K37 -> 0 | N37: =H37+J37+L37 -> 0 | T37: 0 | AC37: 1
A38: 010104 | B38: Y2603040083 | C38: 냉매 | D38: (R410A) 10KG | E38: 통 | F38: 1 | H38: =TRUNC(F38*G38,0) -> 0 | J38: =TRUNC(F38*I38,0) -> 0 | L38: =TRUNC(F38*K38,0) -> 0 | M38: =G38+I38+K38 -> 0 | N38: =H38+J38+L38 -> 0 | T38: 0 | AC38: 1
A39: 010104 | B39: Y2603040084 | C39: 실내외기 통신선 | D39: VCTF 2C 1.5㎟ | E39: M | F39: 64 | H39: =TRUNC(F39*G39,0) -> 0 | J39: =TRUNC(F39*I39,0) -> 0 | L39: =TRUNC(F39*K39,0) -> 0 | M39: =G39+I39+K39 -> 0 | N39: =H39+J39+L39 -> 0 | T39: 0 | AC39: 1
A40: 010104 | B40: Y2603040085 | C40: 유선리모컨 통신선 | D40: 24# AWG 0.75㎟ | E40: M | F40: 6 | H40: =TRUNC(F40*G40,0) -> 0 | J40: =TRUNC(F40*I40,0) -> 0 | L40: =TRUNC(F40*K40,0) -> 0 | M40: =G40+I40+K40 -> 0 | N40: =H40+J40+L40 -> 0 | T40: 0 | AC40: 1
A41: 010104 | B41: Y2603040086 | C41: 전선관(방수플렉시블) | D41: 16mm | E41: M | F41: 70 | H41: =TRUNC(F41*G41,0) -> 0 | J41: =TRUNC(F41*I41,0) -> 0 | L41: =TRUNC(F41*K41,0) -> 0 | M41: =G41+I41+K41 -> 0 | N41: =H41+J41+L41 -> 0 | T41: 0 | AC41: 1
A42: 010104 | B42: Y2603040087 | C42: 파이프접속콘넥터(방수) | D42: 16mm | E42: 개 | F42: 3 | H42: =TRUNC(F42*G42,0) -> 0 | J42: =TRUNC(F42*I42,0) -> 0 | L42: =TRUNC(F42*K42,0) -> 0 | M42: =G42+I42+K42 -> 0 | N42: =H42+J42+L42 -> 0 | T42: 0 | AC42: 1
A43: 010104 | B43: Y2603040088 | C43: 전원선 결선 해체 | D43: 전동기 결선 11KW이상 | E43: 대 | F43: 1 | H43: =TRUNC(F43*G43,0) -> 0 | J43: =TRUNC(F43*I43,0) -> 0 | L43: =TRUNC(F43*K43,0) -> 0 | M43: =G43+I43+K43 -> 0 | N43: =H43+J43+L43 -> 0 | T43: 0 | AC43: 1
A44: 010104 | B44: Y2603040089 | C44: 전원선 결선 | D44: 전동기 결선 11KW이상 | E44: 대 | F44: 1 | H44: =TRUNC(F44*G44,0) -> 0 | J44: =TRUNC(F44*I44,0) -> 0 | L44: =TRUNC(F44*K44,0) -> 0 | M44: =G44+I44+K44 -> 0 | N44: =H44+J44+L44 -> 0 | T44: 0 | AC44: 1
A45: 010104 | B45: Y2603040090 | C45: 실외기 2단 앵글 | D45: L1,000×W400×H1,200mm | E45: 개 | F45: 1 | H45: =TRUNC(F45*G45,0) -> 0 | J45: =TRUNC(F45*I45,0) -> 0 | L45: =TRUNC(F45*K45,0) -> 0 | M45: =G45+I45+K45 -> 0 | N45: =H45+J45+L45 -> 0 | T45: 0 | AC45: 1
C46: 제어선 및 간편중앙제어기 등 | E46: 식 | F46: 1 | H46: =TRUNC(F46*G46,0) -> 0 | J46: =TRUNC(F46*I46,0) -> 0 | L46: =TRUNC(F46*K46,0) -> 0 | N46: =H46+J46+L46 -> 0
A47: 010104 | B47: Y2603040091 | C47: 03. 지상2층 21병동 병실 | F47: 0 | H47: =TRUNC(F47*G47,0) -> 0 | J47: =TRUNC(F47*I47,0) -> 0 | L47: =TRUNC(F47*K47,0) -> 0 | M47: =G47+I47+K47 -> 0 | N47: =H47+J47+L47 -> 0 | O47: =SUM(N49:N96) -> 0 | T47: 0 | AC47: 1
A48: 010104 | B48: Y2603040092 | C48: 03-1 제품 및 부품 | F48: 0 | H48: =TRUNC(F48*G48,0) -> 0 | J48: =TRUNC(F48*I48,0) -> 0 | L48: =TRUNC(F48*K48,0) -> 0 | M48: =G48+I48+K48 -> 0 | N48: =H48+J48+L48 -> 0 | T48: 0 | AC48: 1
A49: 010104 | B49: Y2603040093 | C49: 실외기_Multi-V S 상업 냉난방 | D49: 22.4 / 25.2 kW | E49: 대 | F49: 1 | H49: =TRUNC(F49*G49,0) -> 0 | J49: =TRUNC(F49*I49,0) -> 0 | L49: =TRUNC(F49*K49,0) -> 0 | M49: =G49+I49+K49 -> 0 | N49: =H49+J49+L49 -> 0 | O49: 공구기구비품 | T49: 0 | AC49: 1
A50: 010104 | B50: Y2603040094 | C50: 실내기(천정카세트4-WAY형) | D50: 7.2 / 8.1 kW | E50: 대 | F50: 1 | H50: =TRUNC(F50*G50,0) -> 0 | J50: =TRUNC(F50*I50,0) -> 0 | L50: =TRUNC(F50*K50,0) -> 0 | M50: =G50+I50+K50 -> 0 | N50: =H50+J50+L50 -> 0 | O50: 공구기구비품 | T50: 0 | AC50: 1
A51: 010104 | B51: Y2603040095 | C51: 실내기(천정카세트4-WAY형) | D51: 5.2 / 5.9 kW | E51: 대 | F51: 3 | H51: =TRUNC(F51*G51,0) -> 0 | J51: =TRUNC(F51*I51,0) -> 0 | L51: =TRUNC(F51*K51,0) -> 0 | M51: =G51+I51+K51 -> 0 | N51: =H51+J51+L51 -> 0 | O51: 공구기구비품 | T51: 0 | AC51: 1
A52: 010104 | B52: Y2603040096 | C52: 공기청정키트(4Way형) | E52: 개 | F52: 0 | H52: =TRUNC(F52*G52,0) -> 0 | J52: =TRUNC(F52*I52,0) -> 0 | L52: =TRUNC(F52*K52,0) -> 0 | M52: =G52+I52+K52 -> 0 | N52: =H52+J52+L52 -> 0 | O52: 공구기구비품 | P52: =N49+N50+N51+N52 -> 0 | T52: 0 | AC52: 1
A53: 010104 | B53: Y2603040098 | C53: 판넬(4-WAY 천정카세트형) | E53: 개 | F53: 4 | H53: =TRUNC(F53*G53,0) -> 0 | J53: =TRUNC(F53*I53,0) -> 0 | L53: =TRUNC(F53*K53,0) -> 0 | M53: =G53+I53+K53 -> 0 | N53: =H53+J53+L53 -> 0 | T53: 0 | AC53: 1
A54: 010104 | B54: Y2603040100 | C54: 유선리모컨(고급) | E54: 개 | F54: 4 | H54: =TRUNC(F54*G54,0) -> 0 | J54: =TRUNC(F54*I54,0) -> 0 | L54: =TRUNC(F54*K54,0) -> 0 | M54: =G54+I54+K54 -> 0 | N54: =H54+J54+L54 -> 0 | T54: 0 | AC54: 1
A55: 010104 | B55: Y2603040101 | C55: 실내 보양 | D55: 실면적의 30% | E55: ㎡ | F55: 118 | H55: =TRUNC(F55*G55,0) -> 0 | J55: =TRUNC(F55*I55,0) -> 0 | L55: =TRUNC(F55*K55,0) -> 0 | M55: =G55+I55+K55 -> 0 | N55: =H55+J55+L55 -> 0 | T55: 0 | AC55: 1
A56: 010104 | B56: Y2603040102 | C56: 천정타공(흡읍텍스 해체) | E56: ㎡ | F56: 4 | H56: =TRUNC(F56*G56,0) -> 0 | J56: =TRUNC(F56*I56,0) -> 0 | L56: =TRUNC(F56*K56,0) -> 0 | M56: =G56+I56+K56 -> 0 | N56: =H56+J56+L56 -> 0 | T56: 0 | AC56: 1
A57: 010104 | B57: Y2603040103 | C57: 경량철골틀 해체 | E57: ㎡ | F57: 4 | H57: =TRUNC(F57*G57,0) -> 0 | J57: =TRUNC(F57*I57,0) -> 0 | L57: =TRUNC(F57*K57,0) -> 0 | M57: =G57+I57+K57 -> 0 | N57: =H57+J57+L57 -> 0 | T57: 0 | AC57: 1
A58: 010104 | B58: Y2603040104 | C58: 실내기 설치 | E58: 대 | F58: 4 | H58: =TRUNC(F58*G58,0) -> 0 | J58: =TRUNC(F58*I58,0) -> 0 | L58: =TRUNC(F58*K58,0) -> 0 | M58: =G58+I58+K58 -> 0 | N58: =H58+J58+L58 -> 0 | T58: 0 | AC58: 1
A59: 010104 | B59: Y2603040105 | C59: 실외기 설치 | D59: 16kW 이하 | E59: 대 | F59: 1 | H59: =TRUNC(F59*G59,0) -> 0 | J59: =TRUNC(F59*I59,0) -> 0 | L59: =TRUNC(F59*K59,0) -> 0 | M59: =G59+I59+K59 -> 0 | N59: =H59+J59+L59 -> 0 | T59: 0 | AC59: 1
A60: 010104 | B60: Y2603040106 | C60: 유선리모컨 설치 | E60: 개 | F60: 4 | H60: =TRUNC(F60*G60,0) -> 0 | J60: =TRUNC(F60*I60,0) -> 0 | L60: =TRUNC(F60*K60,0) -> 0 | M60: =G60+I60+K60 -> 0 | N60: =H60+J60+L60 -> 0 | T60: 0 | AC60: 1
A61: 010104 | B61: Y2603040107 | C61: Y분지관 | D61: PBL-3501H2 | E61: EA | F61: 2 | H61: =TRUNC(F61*G61,0) -> 0 | J61: =TRUNC(F61*I61,0) -> 0 | L61: =TRUNC(F61*K61,0) -> 0 | M61: =G61+I61+K61 -> 0 | N61: =H61+J61+L61 -> 0 | T61: 0 | AC61: 1
A62: 010104 | B62: Y2603040108 | C62: Y분지관 | D62: PBL-1601H2 | E62: EA | F62: 1 | H62: =TRUNC(F62*G62,0) -> 0 | J62: =TRUNC(F62*I62,0) -> 0 | L62: =TRUNC(F62*K62,0) -> 0 | M62: =G62+I62+K62 -> 0 | N62: =H62+J62+L62 -> 0 | T62: 0 | AC62: 1
A63: 010104 | B63: Y2603040109 | C63: 동파이프 | D63: 19.05mm×1.07T | E63: M | F63: 24 | H63: =TRUNC(F63*G63,0) -> 0 | J63: =TRUNC(F63*I63,0) -> 0 | L63: =TRUNC(F63*K63,0) -> 0 | M63: =G63+I63+K63 -> 0 | N63: =H63+J63+L63 -> 0 | T63: 0 | AC63: 1
A64: 010104 | B64: Y2603040110 | C64: 동파이프 | D64: 15.88mm×1.02T | E64: M | F64: 24 | H64: =TRUNC(F64*G64,0) -> 0 | J64: =TRUNC(F64*I64,0) -> 0 | L64: =TRUNC(F64*K64,0) -> 0 | M64: =G64+I64+K64 -> 0 | N64: =H64+J64+L64 -> 0 | T64: 0 | AC64: 1
A65: 010104 | B65: Y2603040111 | C65: 동파이프 | D65: 12.7mm×0.89T | E65: M | F65: 6 | H65: =TRUNC(F65*G65,0) -> 0 | J65: =TRUNC(F65*I65,0) -> 0 | L65: =TRUNC(F65*K65,0) -> 0 | M65: =G65+I65+K65 -> 0 | N65: =H65+J65+L65 -> 0 | T65: 0 | AC65: 1
A66: 010104 | B66: Y2603040112 | C66: 동파이프 | D66: 9.52mm×0.8T | E66: M | F66: 48 | H66: =TRUNC(F66*G66,0) -> 0 | J66: =TRUNC(F66*I66,0) -> 0 | L66: =TRUNC(F66*K66,0) -> 0 | M66: =G66+I66+K66 -> 0 | N66: =H66+J66+L66 -> 0 | T66: 0 | AC66: 1
A67: 010104 | B67: Y2603040113 | C67: 동엘보 | D67: 19.05mm | E67: 개 | F67: 8 | H67: =TRUNC(F67*G67,0) -> 0 | J67: =TRUNC(F67*I67,0) -> 0 | L67: =TRUNC(F67*K67,0) -> 0 | M67: =G67+I67+K67 -> 0 | N67: =H67+J67+L67 -> 0 | T67: 0 | AC67: 1
A68: 010104 | B68: Y2603040114 | C68: 동엘보 | D68: 15.88mm | E68: 개 | F68: 8 | H68: =TRUNC(F68*G68,0) -> 0 | J68: =TRUNC(F68*I68,0) -> 0 | L68: =TRUNC(F68*K68,0) -> 0 | M68: =G68+I68+K68 -> 0 | N68: =H68+J68+L68 -> 0 | T68: 0 | AC68: 1
A69: 010104 | B69: Y2603040115 | C69: 동엘보 | D69: 12.7mm | E69: 개 | F69: 2 | H69: =TRUNC(F69*G69,0) -> 0 | J69: =TRUNC(F69*I69,0) -> 0 | L69: =TRUNC(F69*K69,0) -> 0 | M69: =G69+I69+K69 -> 0 | N69: =H69+J69+L69 -> 0 | T69: 0 | AC69: 1
A70: 010104 | B70: Y2603040116 | C70: 동엘보 | D70: 9.52mm | E70: 개 | F70: 16 | H70: =TRUNC(F70*G70,0) -> 0 | J70: =TRUNC(F70*I70,0) -> 0 | L70: =TRUNC(F70*K70,0) -> 0 | M70: =G70+I70+K70 -> 0 | N70: =H70+J70+L70 -> 0 | T70: 0 | AC70: 1
A71: 010104 | B71: Y2603040117 | C71: 동소켓 | D71: 19.05mm | E71: 개 | F71: 4 | H71: =TRUNC(F71*G71,0) -> 0 | J71: =TRUNC(F71*I71,0) -> 0 | L71: =TRUNC(F71*K71,0) -> 0 | M71: =G71+I71+K71 -> 0 | N71: =H71+J71+L71 -> 0 | T71: 0 | AC71: 1
A72: 010104 | B72: Y2603040118 | C72: 동소켓 | D72: 15.88mm | E72: 개 | F72: 4 | H72: =TRUNC(F72*G72,0) -> 0 | J72: =TRUNC(F72*I72,0) -> 0 | L72: =TRUNC(F72*K72,0) -> 0 | M72: =G72+I72+K72 -> 0 | N72: =H72+J72+L72 -> 0 | T72: 0 | AC72: 1
... A88: 010104 | B88: Y2603040134 | C88: 벽체코어(내화충전재포함) | D88: Ø100 | E88: 개소 | F88: 1 | H88: =TRUNC(F88*G88,0) -> 0 | J88: =TRUNC(F88*I88,0) -> 0 | L88: =TRUNC(F88*K88,0) -> 0 | M88: =G88+I88+K88 -> 0 | N88: =H88+J88+L88 -> 0 | T88: 0 | AC88: 1
A89: 010104 | B89: Y2603040135 | C89: 기밀시험 | E89: 회 | F89: 1 | H89: =TRUNC(F89*G89,0) -> 0 | J89: =TRUNC(F89*I89,0) -> 0 | L89: =TRUNC(F89*K89,0) -> 0 | M89: =G89+I89+K89 -> 0 | N89: =H89+J89+L89 -> 0 | T89: 0 | AC89: 1
A90: 010104 | B90: Y2603040136 | C90: 냉매 | D90: (R410A) 10KG | E90: 통 | F90: 2 | H90: =TRUNC(F90*G90,0) -> 0 | J90: =TRUNC(F90*I90,0) -> 0 | L90: =TRUNC(F90*K90,0) -> 0 | M90: =G90+I90+K90 -> 0 | N90: =H90+J90+L90 -> 0 | T90: 0 | AC90: 1
A91: 010104 | B91: Y2603040137 | C91: 실내외기 통신선 | D91: VCTF 2C 1.5㎟ | E91: M | F91: 102 | H91: =TRUNC(F91*G91,0) -> 0 | J91: =TRUNC(F91*I91,0) -> 0 | L91: =TRUNC(F91*K91,0) -> 0 | M91: =G91+I91+K91 -> 0 | N91: =H91+J91+L91 -> 0 | T91: 0 | AC91: 1
A92: 010104 | B92: Y2603040138 | C92: 유선리모컨 통신선 | D92: 24# AWG 0.75㎟ | E92: M | F92: 24 | H92: =TRUNC(F92*G92,0) -> 0 | J92: =TRUNC(F92*I92,0) -> 0 | L92: =TRUNC(F92*K92,0) -> 0 | M92: =G92+I92+K92 -> 0 | N92: =H92+J92+L92 -> 0 | T92: 0 | AC92: 1
A93: 010104 | B93: Y2603040139 | C93: 전선관(방수플렉시블) | D93: 16mm | E93: M | F93: 126 | H93: =TRUNC(F93*G93,0) -> 0 | J93: =TRUNC(F93*I93,0) -> 0 | L93: =TRUNC(F93*K93,0) -> 0 | M93: =G93+I93+K93 -> 0 | N93: =H93+J93+L93 -> 0 | T93: 0 | AC93: 1
A94: 010104 | B94: Y2603040140 | C94: 파이프접속콘넥터(방수) | D94: 16mm | E94: 개 | F94: 8 | H94: =TRUNC(F94*G94,0) -> 0 | J94: =TRUNC(F94*I94,0) -> 0 | L94: =TRUNC(F94*K94,0) -> 0 | M94: =G94+I94+K94 -> 0 | N94: =H94+J94+L94 -> 0 | T94: 0 | AC94: 1
A95: 010104 | B95: Y2603040141 | C95: 실외기 받침대 | E95: 개 | F95: 1 | H95: =TRUNC(F95*G95,0) -> 0 | J95: =TRUNC(F95*I95,0) -> 0 | L95: =TRUNC(F95*K95,0) -> 0 | M95: =G95+I95+K95 -> 0 | N95: =H95+J95+L95 -> 0 | T95: 0 | AC95: 1
A96: 010104 | B96: Y2603040142 | C96: 장비사용료 | D96: 지게차 | E96: 시간 | F96: 1 | H96: =TRUNC(F96*G96,0) -> 0 | J96: =TRUNC(F96*I96,0) -> 0 | L96: =TRUNC(F96*K96,0) -> 0 | M96: =G96+I96+K96 -> 0 | N96: =H96+J96+L96 -> 0 | T96: 0 | AC96: 1
C97: 제어선 및 간편중앙제어기 등 | E97: 식 | F97: 1 | H97: =TRUNC(F97*G97,0) -> 0 | J97: =TRUNC(F97*I97,0) -> 0 | L97: =TRUNC(F97*K97,0) -> 0 | N97: =H97+J97+L97 -> 0
A98: 010104 | B98: Y2603040251 | C98: 06. 지상12층 121병동 1인 병실 | F98: 0 | H98: =TRUNC(F98*G98,0) -> 0 | J98: =TRUNC(F98*I98,0) -> 0 | L98: =TRUNC(F98*K98,0) -> 0 | M98: =G98+I98+K98 -> 0 | N98: =H98+J98+L98 -> 0 | O98: =SUM(N100:N157) -> 0 | T98: 0 | AC98: 1
A99: 010104 | B99: Y2603040252 | C99: 06-1 제품 및 부품 | F99: 0 | H99: =TRUNC(F99*G99,0) -> 0 | J99: =TRUNC(F99*I99,0) -> 0 | L99: =TRUNC(F99*K99,0) -> 0 | M99: =G99+I99+K99 -> 0 | N99: =H99+J99+L99 -> 0 | T99: 0 | AC99: 1
A100: 010104 | B100: Y2603040253 | C100: 실외기_Multi-V 슈프림 1등급 | D100: 23.3 / 25.9 kW | E100: 대 | F100: 3 | H100: =TRUNC(F100*G100,0) -> 0 | J100: =TRUNC(F100*I100,0) -> 0 | L100: =TRUNC(F100*K100,0) -> 0 | M100: =G100+I100+K100 -> 0 | N100: =H100+J100+L100 -> 0 | O100: 공구기구비품 | T100: 0 | AC100: 1
A101: 010104 | B101: Y2603040254 | C101: 실내기(천정카세트1-WAY형) | D101: 6.0 / 6.8 kW | E101: 대 | F101: 1 | H101: =TRUNC(F101*G101,0) -> 0 | J101: =TRUNC(F101*I101,0) -> 0 | L101: =TRUNC(F101*K101,0) -> 0 | M101: =G101+I101+K101 -> 0 | N101: =H101+J101+L101 -> 0 | O101: 공구기구비품 | T101: 0 | AC101: 1
A102: 010104 | B102: Y2603040255 | C102: 실내기(천정카세트1-WAY형) | D102: 3.2 / 3.6 kW | E102: 대 | F102: 18 | H102: =TRUNC(F102*G102,0) -> 0 | J102: =TRUNC(F102*I102,0) -> 0 | L102: =TRUNC(F102*K102,0) -> 0 | M102: =G102+I102+K102 -> 0 | N102: =H102+J102+L102 -> 0 | O102: 공구기구비품 | T102: 0 | AC102: 1
A103: 010104 | B103: Y2603040256 | C103: 공기청정키트(1Way형) | E103: 개 | F103: 0 | H103: =TRUNC(F103*G103,0) -> 0 | J103: =TRUNC(F103*I103,0) -> 0 | L103: =TRUNC(F103*K103,0) -> 0 | M103: =G103+I103+K103 -> 0 | N103: =H103+J103+L103 -> 0 | O103: 공구기구비품 | P103: =N100+N101+N102 -> 0 | T103: 0 | AC103: 1
A104: 010104 | B104: Y2603040265 | C104: 06-2 교체 설치공사[기존 배관] | F104: 0 | H104: =TRUNC(F104*G104,0) -> 0 | J104: =TRUNC(F104*I104,0) -> 0 | L104: =TRUNC(F104*K104,0) -> 0 | M104: =G104+I104+K104 -> 0 | N104: =H104+J104+L104 -> 0 | T104: 0 | AC104: 1
A105: 010104 | B105: Y2603040257 | C105: 판넬(1-WAY 천정카세트형, 대) | E105: 개 | F105: 1 | H105: =TRUNC(F105*G105,0) -> 0 | J105: =TRUNC(F105*I105,0) -> 0 | L105: =TRUNC(F105*K105,0) -> 0 | M105: =G105+I105+K105 -> 0 | N105: =H105+J105+L105 -> 0 | T105: 0 | AC105: 1
A106: 010104 | B106: Y2603040258 | C106: 판넬(1-WAY 천정카세트형) | E106: 개 | F106: 18 | H106: =TRUNC(F106*G106,0) -> 0 | J106: =TRUNC(F106*I106,0) -> 0 | L106: =TRUNC(F106*K106,0) -> 0 | M106: =G106+I106+K106 -> 0 | N106: =H106+J106+L106 -> 0 | T106: 0 | AC106: 1
A107: 010104 | B107: Y2603040259 | C107: 유선리모컨(고급) | E107: 개 | F107: 19 | H107: =TRUNC(F107*G107,0) -> 0 | J107: =TRUNC(F107*I107,0) -> 0 | L107: =TRUNC(F107*K107,0) -> 0 | M107: =G107+I107+K107 -> 0 | N107: =H107+J107+L107 -> 0 | T107: 0 | AC107: 1
A108: 010104 | B108: Y2603040260 | C108: 간편중앙제어기 | E108: 개 | F108: 1 | H108: =TRUNC(F108*G108,0) -> 0 | J108: =TRUNC(F108*I108,0) -> 0 | L108: =TRUNC(F108*K108,0) -> 0 | M108: =G108+I108+K108 -> 0 | N108: =H108+J108+L108 -> 0 | T108: 0 | AC108: 1
A109: 010104 | B109: Y2603040261 | C109: Y 분지관(중) | E109: 개 | F109: 3 | H109: =TRUNC(F109*G109,0) -> 0 | J109: =TRUNC(F109*I109,0) -> 0 | L109: =TRUNC(F109*K109,0) -> 0 | M109: =G109+I109+K109 -> 0 | N109: =H109+J109+L109 -> 0 | T109: 0 | AC109: 1
A110: 010104 | B110: Y2603040262 | C110: Y 분지관(소) | E110: 개 | F110: 13 | H110: =TRUNC(F110*G110,0) -> 0 | J110: =TRUNC(F110*I110,0) -> 0 | L110: =TRUNC(F110*K110,0) -> 0 | M110: =G110+I110+K110 -> 0 | N110: =H110+J110+L110 -> 0 | T110: 0 | AC110: 1
A111: 010104 | B111: Y2603040263 | C111: 실외기 에어가이드 | D111: UXA | E111: 개 | F111: 3 | H111: =TRUNC(F111*G111,0) -> 0 | J111: =TRUNC(F111*I111,0) -> 0 | L111: =TRUNC(F111*K111,0) -> 0 | M111: =G111+I111+K111 -> 0 | N111: =H111+J111+L111 -> 0 | T111: 0 | AC111: 1
A112: 010104 | B112: Y2603040264 | C112: 실외기 받침대 | D112: 평균990×830×130mm | E112: 개 | F112: 3 | H112: =TRUNC(F112*G112,0) -> 0 | J112: =TRUNC(F112*I112,0) -> 0 | L112: =TRUNC(F112*K112,0) -> 0 | M112: =G112+I112+K112 -> 0 | N112: =H112+J112+L112 -> 0 | T112: 0 | AC112: 1
A113: 010104 | B113: Y2603040266 | C113: 실내 보양 | D113: 해당 실면적의 100% | E113: ㎡ | F113: 304.2 | H113: =TRUNC(F113*G113,0) -> 0 | J113: =TRUNC(F113*I113,0) -> 0 | L113: =TRUNC(F113*K113,0) -> 0 | M113: =G113+I113+K113 -> 0 | N113: =H113+J113+L113 -> 0 | T113: 0 | AC113: 1
A114: 010104 | B114: Y2603040267 | C114: 천정타공(석고판 해체) | E114: ㎡ | F114: 20 | H114: =TRUNC(F114*G114,0) -> 0 | J114: =TRUNC(F114*I114,0) -> 0 | L114: =TRUNC(F114*K114,0) -> 0 | M114: =G114+I114+K114 -> 0 | N114: =H114+J114+L114 -> 0 | T114: 0 | AC114: 1
A115: 010104 | B115: Y2603040268 | C115: 경량철골틀 해체 | E115: ㎡ | F115: 20 | H115: =TRUNC(F115*G115,0) -> 0 | J115: =TRUNC(F115*I115,0) -> 0 | L115: =TRUNC(F115*K115,0) -> 0 | M115: =G115+I115+K115 -> 0 | N115: =H115+J115+L115 -> 0 | T115: 0 | AC115: 1
A116: 010104 | B116: Y2603040269 | C116: 점검구 설치 | D116: 450×450 | E116: 개소 | F116: 20 | H116: =TRUNC(F116*G116,0) -> 0 | J116: =TRUNC(F116*I116,0) -> 0 | L116: =TRUNC(F116*K116,0) -> 0 | M116: =G116+I116+K116 -> 0 | N116: =H116+J116+L116 -> 0 | T116: 0 | AC116: 1
A117: 010104 | B117: Y2603040270 | C117: 천정형 실내기 철거 | E117: 대 | F117: 19 | H117: =TRUNC(F117*G117,0) -> 0 | J117: =TRUNC(F117*I117,0) -> 0 | L117: =TRUNC(F117*K117,0) -> 0 | M117: =G117+I117+K117 -> 0 | N117: =H117+J117+L117 -> 0 | T117: 0 | AC117: 1
A118: 010104 | B118: Y2603040271 | C118: 멀티형 실외기 철거 | D118: 16kW 이하 | E118: 대 | F118: 3 | H118: =TRUNC(F118*G118,0) -> 0 | J118: =TRUNC(F118*I118,0) -> 0 | L118: =TRUNC(F118*K118,0) -> 0 | M118: =G118+I118+K118 -> 0 | N118: =H118+J118+L118 -> 0 | T118: 0 | AC118: 1
...

Sheet 일위대가목록
A1: 일 위 대 가 목 록
A2: [공사명] 2026년도 냉난방 보수공사(EHP)
A3: 코 드 | B3: 품 명 | C3: 규 격 | D3: 단위 | E3: 재 료 비 | F3: 노 무 비 | G3: 경 비 | H3: 합 계 | I3: 비고
A4: 56940140010 | B4: 동관용접 | C4: D15 | D4: 개소 | E4: =일위대가!H11 -> 0 | F4: =일위대가!J11 -> 0 | G4: =일위대가!L11 -> 0 | H4: =E4+F4+G4 -> 0
A5: 56940140030 | B5: 동관용접 | C5: D25 | D5: 개소 | E5: =일위대가!H20 -> 0 | F5: =일위대가!J20 -> 0 | G5: =일위대가!L20 -> 0 | H5: =E5+F5+G5 -> 0
A6: 56940520010 | B6: 절연행가(달대볼트) | C6: D15 | D6: 개소 | E6: =일위대가!H26 -> 0 | F6: =일위대가!J26 -> 0 | G6: =일위대가!L26 -> 0 | H6: =E6+F6+G6 -> 0
A7: 56940840100 | B7: 아티론보온 | C7: 5TxD15 | D7: M | E7: =일위대가!H35 -> 0 | F7: =일위대가!J35 -> 0 | G7: =일위대가!L35 -> 0 | H7: =E7+F7+G7 -> 0
A8: 56940850181 | B8: 관보온(고무발포,동관용) | C8: 25TxD15 | D8: M | E8: =일위대가!H44 -> 0 | F8: =일위대가!J44 -> 0 | G8: =일위대가!L44 -> 0 | H8: =E8+F8+G8 -> 0
A9: 56941310210 | B9: 각형닥트 설치 | C9: (0.5T) | D9: M2 | E9: =일위대가!H52 -> 0 | F9: =일위대가!J52 -> 0 | G9: =일위대가!L52 -> 0 | H9: =E9+F9+G9 -> 0
A10: 56941820071 | B10: 동및동합금관 | C10: 동관(L-TYPE),D15 | D10: M | E10: =일위대가!H60 -> 0 | F10: =일위대가!J60 -> 0 | G10: =일위대가!L60 -> 0 | H10: =E10+F10+G10 -> 0
A11: 56941840011 | B11: 볼밸브(황동) | C11: D 15 | D11: EA | E11: =일위대가!H66 -> 0 | F11: =일위대가!J66 -> 0 | G11: =일위대가!L66 -> 0 | H11: =E11+F11+G11 -> 0
A12: 56941890001 | B12: 점검구설치 | C12: 200x200 | D12: 개소 | E12: =일위대가!H72 -> 0 | F12: =일위대가!J72 -> 0 | G12: =일위대가!L72 -> 0 | H12: =E12+F12+G12 -> 0
A13: 56941890035 | B13: 후렉시블덕트호스(비보온) | C13: D200 | D13: M | E13: =일위대가!H78 -> 0 | F13: =일위대가!J78 -> 0 | G13: =일위대가!L78 -> 0 | H13: =E13+F13+G13 -> 0
A14: 56942000220 | B14: 코아드릴(바닥)(150mm) | C14: D15 | D14: 개소 | E14: =일위대가!H84 -> 0 | F14: =일위대가!J84 -> 0 | G14: =일위대가!L84 -> 0 | H14: =E14+F14+G14 -> 0
A15: 56958000003 | B15: 디퓨저 | C15: 사각PAN, D200, AL | D15: EA | E15: =일위대가!H90 -> 0 | F15: =일위대가!J90 -> 0 | G15: =일위대가!L90 -> 0 | H15: =E15+F15+G15 -> 0
A16: 56958000016 | B16: B.D.D (STL) | C16: 400 x 250 | D16: EA | E16: =일위대가!H96 -> 0 | F16: =일위대가!J96 -> 0 | G16: =일위대가!L96 -> 0 | H16: =E16+F16+G16 -> 0
A17: 56958000017 | B17: F-1인라인팬 | C17: 2,100CMH*27MMAQ*0.75KW | D17: 대 | E17: =일위대가!H103 -> 0 | F17: =일위대가!J103 -> 0 | G17: =일위대가!L103 -> 0 | H17: =E17+F17+G17 -> 0
A18: 56958000018 | B18: F.D (STL) | C18: 400 x 250 | D18: EA | E18: =일위대가!H109 -> 0 | F18: =일위대가!J109 -> 0 | G18: =일위대가!L109 -> 0 | H18: =E18+F18+G18 -> 0
A30: End Of File(Ver 6.0)
A31: 마지막열은 지우지 마시오

Sheet 일위대가
A1: [공사명] 2026년도 냉난방 보수공사(EHP)
A2: 일위대가 | B2: 자재코드 | C2: 품 명 | D2: 규 격 | E2: 단위 | F2: 수량 | G2: 재 료 비 | I2: 노 무 비 | K2: 경 비 | M2: 합 계 | O2: 비고
G3: 단가 | H3: 금액 | I3: 단가 | J3: 금액 | K3: 단가 | L3: 금액 | M3: 단가 | N3: 금액
C4: 56940140010 동관용접 D15 개소
A5: 56940140010 | B5: 34390787072 | C5: 동 및 동합금용 용접봉 | D5: D2.4mm, BCUP3 | E5: g | F5: 1.2 | G5: =단가대비표!O6 -> 0 | H5: =TRUNC(F5*G5,1) -> 0 | I5: 0 | J5: =TRUNC(F5*I5,1) -> 0 | K5: 0 | L5: =TRUNC(F5*K5,1) -> 0 | M5: =TRUNC(G5+I5+K5,1) -> 0 | N5: =TRUNC(H5+J5+L5,1) -> 0 | R5: 0 | S5: 0 | T5: 0 | AC5: 1
A6: 56940140010 | B6: 34390457005 | C6: 용접용 용재 | D6: 플럭스(FLUX) | E6: g | F6: 0.15 | G6: =단가대비표!O5 -> 0 | H6: =TRUNC(F6*G6,1) -> 0 | I6: 0 | J6: =TRUNC(F6*I6,1) -> 0 | K6: 0 | L6: =TRUNC(F6*K6,1) -> 0 | M6: =TRUNC(G6+I6+K6,1) -> 0 | N6: =TRUNC(H6+J6+L6,1) -> 0 | R6: 0 | S6: 0 | T6: 0 | AC6: 1
A7: 56940140010 | B7: 68300057015 | C7: 산소 가스 | D7: 기체,공업용 99.9% | E7: L | F7: 7.5 | G7: =단가대비표!O38 -> 0 | H7: =TRUNC(F7*G7,1) -> 0 | I7: 0 | J7: =TRUNC(F7*I7,1) -> 0 | K7: 0 | L7: =TRUNC(F7*K7,1) -> 0 | M7: =TRUNC(G7+I7+K7,1) -> 0 | N7: =TRUNC(H7+J7+L7,1) -> 0 | R7: 0 | S7: 0 | T7: 0 | AC7: 1
A8: 56940140010 | B8: 68300067011 | C8: 아세틸렌 가스 | D8: 아세틸렌(g) | E8: G | F8: 8 | G8: =단가대비표!O39 -> 0 | H8: =TRUNC(F8*G8,1) -> 0 | I8: 0 | J8: =TRUNC(F8*I8,1) -> 0 | K8: 0 | L8: =TRUNC(F8*K8,1) -> 0 | M8: =TRUNC(G8+I8+K8,1) -> 0 | N8: =TRUNC(H8+J8+L8,1) -> 0 | R8: 0 | S8: 0 | T8: 0 | AC8: 1
A9: 56940140010 | B9: 56900017056 | C9: 노무비 | D9: 용접공 | E9: 인 | F9: 0.022 | G9: 0 | H9: =TRUNC(F9*G9,1) -> 0 | I9: =단가대비표!O36 -> 0 | J9: =TRUNC(F9*I9,1) -> 0 | K9: 0 | L9: =TRUNC(F9*K9,1) -> 0 | M9: =TRUNC(G9+I9+K9,1) -> 0 | N9: =TRUNC(H9+J9+L9,1) -> 0 | R9: 0 | S9: 0 | T9: 0 | W9: 3 | AC9: 1
A10: 56940140010 | B10: PPS00000003 | C10: 공구손료 | D10: 노무비의 3% | E10: 식 | F10: 1 | G10: =ROUNDDOWN(SUMIF(W5:W10, RIGHTB(B10, 1), J5:J10)*T10, 2) -> 0 | H10: =TRUNC(F10*G10,1) -> 0 | I10: 0 | J10: =TRUNC(F10*I10,1) -> 0 | K10: 0 | L10: =TRUNC(F10*K10,1) -> 0 | M10: =TRUNC(G10+I10+K10,1) -> 0 | N10: =TRUNC(H10+J10+L10,1) -> 0 | P10: 10 | R10: 1 | S10: 0 | T10: 0.03 | AC10: 1
C11: [ 합 계 ] | H11: =ROUNDDOWN(SUMIF(AC5:AC10, 1, H5:H10), 0) -> 0 | J11: =ROUNDDOWN(SUMIF(AC5:AC10, 1, J5:J10), 0) -> 0 | L11: =ROUNDDOWN(SUMIF(AC5:AC10, 1, L5:L10), 0) -> 0 | N11: =H11+J11+L11 -> 0
C13: 56940140030 동관용접 D25 개소
A14: 56940140030 | B14: 34390787072 | C14: 동 및 동합금용 용접봉 | D14: D2.4mm, BCUP3 | E14: g | F14: 4 | G14: =단가대비표!O6 -> 0 | H14: =TRUNC(F14*G14,1) -> 0 | I14: 0 | J14: =TRUNC(F14*I14,1) -> 0 | K14: 0 | L14: =TRUNC(F14*K14,1) -> 0 | M14: =TRUNC(G14+I14+K14,1) -> 0 | N14: =TRUNC(H14+J14+L14,1) -> 0 | R14: 0 | S14: 0 | T14: 0 | AC14: 1
A15: 56940140030 | B15: 34390457005 | C15: 용접용 용재 | D15: 플럭스(FLUX) | E15: g | F15: 0.49 | G15: =단가대비표!O5 -> 0 | H15: =TRUNC(F15*G15,1) -> 0 | I15: 0 | J15: =TRUNC(F15*I15,1) -> 0 | K15: 0 | L15: =TRUNC(F15*K15,1) -> 0 | M15: =TRUNC(G15+I15+K15,1) -> 0 | N15: =TRUNC(H15+J15+L15,1) -> 0 | R15: 0 | S15: 0 | T15: 0 | AC15: 1
A16: 56940140030 | B16: 68300057015 | C16: 산소 가스 | D16: 기체,공업용 99.9% | E16: L | F16: 19 | G16: =단가대비표!O38 -> 0 | H16: =TRUNC(F16*G16,1) -> 0 | I16: 0 | J16: =TRUNC(F16*I16,1) -> 0 | K16: 0 | L16: =TRUNC(F16*K16,1) -> 0 | M16: =TRUNC(G16+I16+K16,1) -> 0 | N16: =TRUNC(H16+J16+L16,1) -> 0 | R16: 0 | S16: 0 | T16: 0 | AC16: 1
A17: 56940140030 | B17: 68300067011 | C17: 아세틸렌 가스 | D17: 아세틸렌(g) | E17: G | F17: 20.2 | G17: =단가대비표!O39 -> 0 | H17: =TRUNC(F17*G17,1) -> 0 | I17: 0 | J17: =TRUNC(F17*I17,1) -> 0 | K17: 0 | L17: =TRUNC(F17*K17,1) -> 0 | M17: =TRUNC(G17+I17+K17,1) -> 0 | N17: =TRUNC(H17+J17+L17,1) -> 0 | R17: 0 | S17: 0 | T17: 0 | AC17: 1
A18: 56940140030 | B18: 56900017056 | C18: 노무비 | D18: 용접공 | E18: 인 | F18: 0.038 | G18: 0 | H18: =TRUNC(F18*G18,1) -> 0 | I18: =단가대비표!O36 -> 0 | J18: =TRUNC(F18*I18,1) -> 0 | K18: 0 | L18: =TRUNC(F18*K18,1) -> 0 | M18: =TRUNC(G18+I18+K18,1) -> 0 | N18: =TRUNC(H18+J18+L18,1) -> 0 | R18: 0 | S18: 0 | T18: 0 | W18: 3 | AC18: 1
A19: 56940140030 | B19: PPS00000003 | C19: 공구손료 | D19: 노무비의 3% | E19: 식 | F19: 1 | G19: =ROUNDDOWN(SUMIF(W14:W19, RIGHTB(B19, 1), J14:J19)*T19, 2) -> 0 | H19: =TRUNC(F19*G19,1) -> 0 | I19: 0 | J19: =TRUNC(F19*I19,1) -> 0 | K19: 0 | L19: =TRUNC(F19*K19,1) -> 0 | M19: =TRUNC(G19+I19+K19,1) -> 0 | N19: =TRUNC(H19+J19+L19,1) -> 0 | P19: 19 | R19: 1 | S19: 0 | T19: 0.03 | AC19: 1
C20: [ 합 계 ] | H20: =ROUNDDOWN(SUMIF(AC14:AC19, 1, H14:H19), 0) -> 0 | J20: =ROUNDDOWN(SUMIF(AC14:AC19, 1, J14:J19), 0) -> 0 | L20: =ROUNDDOWN(SUMIF(AC14:AC19, 1, L14:L19), 0) -> 0 | N20: =H20+J20+L20 -> 0
C22: 56940520010 절연행가(달대볼트) D15 개소
A23: 56940520010 | B23: 53400537033 | C23: 행거 | D23: 절연행거 15A | E23: EA | F23: 1 | G23: =단가대비표!O29 -> 0 | H23: =TRUNC(F23*G23,1) -> 0 | I23: 0 | J23: =TRUNC(F23*I23,1) -> 0 | K23: 0 | L23: =TRUNC(F23*K23,1) -> 0 | M23: =TRUNC(G23+I23+K23,1) -> 0 | N23: =TRUNC(H23+J23+L23,1) -> 0 | R23: 0 | S23: 0 | T23: 0 | AC23: 1
A24: 56940520010 | B24: 53060328101 | C24: 행거볼트 | D24: 아연도금, M10×1000 | E24: EA | F24: 1 | G24: =단가대비표!O23 -> 0 | H24: =TRUNC(F24*G24,1) -> 0 | I24: 0 | J24: =TRUNC(F24*I24,1) -> 0 | K24: 0 | L24: =TRUNC(F24*K24,1) -> 0 | M24: =TRUNC(G24+I24+K24,1) -> 0 | N24: =TRUNC(H24+J24+L24,1) -> 0 | R24: 0 | S24: 0 | T24: 0 | AC24: 1
A25: 56940520010 | B25: 53060807023 | C25: 스트롱앵커 | D25: M10(3/8") | E25: EA | F25: 1 | G25: =단가대비표!O24 -> 0 | H25: =TRUNC(F25*G25,1) -> 0 | I25: 0 | J25: =TRUNC(F25*I25,1) -> 0 | K25: 0 | L25: =TRUNC(F25*K25,1) -> 0 | M25: =TRUNC(G25+I25+K25,1) -> 0 | N25: =TRUNC(H25+J25+L25,1) -> 0 | R25: 0 | S25: 0 | T25: 0 | AC25: 1
C26: [ 합 계 ] | H26: =ROUNDDOWN(SUMIF(AC23:AC25, 1, H23:H25), 0) -> 0 | J26: =ROUNDDOWN(SUMIF(AC23:AC25, 1, J23:J25), 0) -> 0 | L26: =ROUNDDOWN(SUMIF(AC23:AC25, 1, L23:L25), 0) -> 0 | N26: =H26+J26+L26 -> 0
C28: 56940840100 아티론보온 5TxD15 M
A29: 56940840100 | B29: 45400077351 | C29: 관보온재 | D29: 아티론(난연AL), 5TxD15 | E29: M | F29: 1.05 | G29: =단가대비표!O12 -> 0 | H29: =TRUNC(F29*G29,1) -> 0 | I29: 0 | J29: =TRUNC(F29*I29,1) -> 0 | K29: 0 | L29: =TRUNC(F29*K29,1) -> 0 | M29: =TRUNC(G29+I29+K29,1) -> 0 | N29: =TRUNC(H29+J29+L29,1) -> 0 | R29: 0 | S29: 0 | T29: 0 | V29: 2 | AC29: 1
A30: 56940840100 | B30: PPS00000002 | C30: 잡재료비 | D30: 보온재의 3% | E30: 식 | F30: 1 | G30: =ROUNDDOWN(SUMIF(V29:V34, RIGHTB(B30, 1), H29:H34)*T30, 2) -> 0 | H30: =TRUNC(F30*G30,1) -> 0 | I30: 0 | J30: =TRUNC(F30*I30,1) -> 0 | K30: 0 | L30: =TRUNC(F30*K30,1) -> 0 | M30: =TRUNC(G30+I30+K30,1) -> 0 | N30: =TRUNC(H30+J30+L30,1) -> 0 | P30: 30 | R30: 0 | S30: 0 | T30: 0.03 | AC30: 1
A31: 56940840100 | B31: 53300527130 | C31: 은박테이프 | D31: 0.3T*25W | E31: M | F31: 1.2 | G31: =단가대비표!O26 -> 0 | H31: =TRUNC(F31*G31,1) -> 0 | I31: 0 | J31: =TRUNC(F31*I31,1) -> 0 | K31: 0 | L31: =TRUNC(F31*K31,1) -> 0 | M31: =TRUNC(G31+I31+K31,1) -> 0 | N31: =TRUNC(H31+J31+L31,1) -> 0 | R31: 0 | S31: 0 | T31: 0 | AC31: 1
A32: 56940840100 | B32: 56900017038 | C32: 노무비 | D32: 보온공 | E32: 인 | F32: 0.016 | G32: 0 | H32: =TRUNC(F32*G32,1) -> 0 | I32: =단가대비표!O34 -> 0 | J32: =TRUNC(F32*I32,1) -> 0 | K32: 0 | L32: =TRUNC(F32*K32,1) -> 0 | M32: =TRUNC(G32+I32+K32,1) -> 0 | N32: =TRUNC(H32+J32+L32,1) -> 0 | R32: 0 | S32: 0 | T32: 0 | W32: 3 | AC32: 1
A33: 56940840100 | B33: 56900017041 | C33: 노무비 | D33: 보통인부 | E33: 인 | F33: 0.008 | G33: 0 | H33: =TRUNC(F33*G33,1) -> 0 | I33: =단가대비표!O35 -> 0 | J33: =TRUNC(F33*I33,1) -> 0 | K33: 0 | L33: =TRUNC(F33*K33,1) -> 0 | M33: =TRUNC(G33+I33+K33,1) -> 0 | N33: =TRUNC(H33+J33+L33,1) -> 0 | R33: 0 | S33: 0 | T33: 0 | W33: 3 | AC33: 1
A34: 56940840100 | B34: PPS00000003 | C34: 공구손료 | D34: 노무비의 2% | E34: 식 | F34: 1 | G34: =ROUNDDOWN(SUMIF(W29:W34, RIGHTB(B34, 1), J29:J34)*T34, 2) -> 0 | H34: =TRUNC(F34*G34,1) -> 0 | I34: 0 | J34: =TRUNC(F34*I34,1) -> 0 | K34: 0 | L34: =TRUNC(F34*K34,1) -> 0 | M34: =TRUNC(G34+I34+K34,1) -> 0 | N34: =TRUNC(H34+J34+L34,1) -> 0 | P34: 34 | R34: 1 | S34: 0 | T34: 0.02 | AC34: 1
C35: [ 합 계 ] | H35: =ROUNDDOWN(SUMIF(AC29:AC34, 1, H29:H34), 0) -> 0 | J35: =ROUNDDOWN(SUMIF(AC29:AC34, 1, J29:J34), 0) -> 0 | L35: =ROUNDDOWN(SUMIF(AC29:AC34, 1, L29:L34), 0) -> 0 | N35: =H35+J35+L35 -> 0
C37: 56940850181 관보온(고무발포,동관용) 25TxD15 M
A38: 56940850181 | B38: 45400167101 | C38: 고무발포 보온재 (동관용) | D38: 고무발포보온재,D15×25T | E38: M | F38: 1.05 | G38: =단가대비표!O13 -> 0 | H38: =TRUNC(F38*G38,1) -> 0 | I38: 0 | J38: =TRUNC(F38*I38,1) -> 0 | K38: 0 | L38: =TRUNC(F38*K38,1) -> 0 | M38: =TRUNC(G38+I38+K38,1) -> 0 | N38: =TRUNC(H38+J38+L38,1) -> 0 | R38: 0 | S38: 0 | T38: 0 | V38: 2 | AC38: 1
A39: 56940850181 | B39: PPS00000002 | C39: 잡재료비 | D39: 보온재의 3% | E39: 식 | F39: 1 | G39: =ROUNDDOWN(SUMIF(V38:V43, RIGHTB(B39, 1), H38:H43)*T39, 2) -> 0 | H39: =TRUNC(F39*G39,1) -> 0 | I39: 0 | J39: =TRUNC(F39*I39,1) -> 0 | K39: 0 | L39: =TRUNC(F39*K39,1) -> 0 | M39: =TRUNC(G39+I39+K39,1) -> 0 | N39: =TRUNC(H39+J39+L39,1) -> 0 | P39: 39 | R39: 0 | S39: 0 | T39: 0.03 | AC39: 1
A40: 56940850181 | B40: 53300527126 | C40: 본드(고무발포용) | E40: KG | F40: 0.015 | G40: =단가대비표!O25 -> 0 | H40: =TRUNC(F40*G40,1) -> 0 | I40: 0 | J40: =TRUNC(F40*I40,1) -> 0 | K40: 0 | L40: =TRUNC(F40*K40,1) -> 0 | M40: =TRUNC(G40+I40+K40,1) -> 0 | N40: =TRUNC(H40+J40+L40,1) -> 0 | R40: 0 | S40: 0 | T40: 0 | AC40: 1
A41: 56940850181 | B41: 56900017038 | C41: 노무비 | D41: 보온공 | E41: 인 | F41: 0.023 | G41: 0 | H41: =TRUNC(F41*G41,1) -> 0 | I41: =단가대비표!O34 -> 0 | J41: =TRUNC(F41*I41,1) -> 0 | K41: 0 | L41: =TRUNC(F41*K41,1) -> 0 | M41: =TRUNC(G41+I41+K41,1) -> 0 | N41: =TRUNC(H41+J41+L41,1) -> 0 | R41: 0 | S41: 0 | T41: 0 | W41: 3 | AC41: 1
A42: 56940850181 | B42: 56900017041 | C42: 노무비 | D42: 보통인부 | E42: 인 | F42: 0.012 | G42: 0 | H42: =TRUNC(F42*G42,1) -> 0 | I42: =단가대비표!O35 -> 0 | J42: =TRUNC(F42*I42,1) -> 0 | K42: 0 | L42: =TRUNC(F42*K42,1) -> 0 | M42: =TRUNC(G42+I42+K42,1) -> 0 | N42: =TRUNC(H42+J42+L42,1) -> 0 | R42: 1 | S42: 0 | T42: 0.03 | W42: 3 | AC42: 1
A43: 56940850181 | B43: PPS00000003 | C43: 공구손료 | D43: 노무비의 2% | E43: 식 | F43: 1 | G43: =ROUNDDOWN(SUMIF(W38:W43, RIGHTB(B43, 1), J38:J43)*T43, 2) -> 0 | H43: =TRUNC(F43*G43,1) -> 0 | I43: 0 | J43: =TRUNC(F43*I43,1) -> 0 | K43: 0 | L43: =TRUNC(F43*K43,1) -> 0 | M43: =TRUNC(G43+I43+K43,1) -> 0 | N43: =TRUNC(H43+J43+L43,1) -> 0 | P43: 43 | R43: 1 | S43: 0 | T43: 0.02 | AC43: 1
C44: [ 합 계 ] | H44: =ROUNDDOWN(SUMIF(AC38:AC43, 1, H38:H43), 0) -> 0 | J44: =ROUNDDOWN(SUMIF(AC38:AC43, 1, J38:J43), 0) -> 0 | L44: =ROUNDDOWN(SUMIF(AC38:AC43, 1, L38:L43), 0) -> 0 | N44: =H44+J44+L44 -> 0
C46: 56941310210 각형닥트 설치 (0.5T) M2
A47: 56941310210 | B47: 47305267601 | C47: 아연도 사각덕트(부속일체포함) | D47: 0.5T | E47: M2 | F47: 1.1 | G47: =단가대비표!O21 -> 0 | H47: =TRUNC(F47*G47,1) -> 0 | I47: 0 | J47: =TRUNC(F47*I47,1) -> 0 | K47: 0 | L47: =TRUNC(F47*K47,1) -> 0 | M47: =TRUNC(G47+I47+K47,1) -> 0 | N47: =TRUNC(H47+J47+L47,1) -> 0 | R47: 0 | S47: 0 | T47: 0 | U47: 1 | AC47: 1
A48: 56941310210 | B48: PPS00000001 | C48: 소모잡자재 | D48: 주재료비의 2% | E48: 식 | F48: 1 | G48: =ROUNDDOWN(SUMIF(U47:U51, RIGHTB(B48, 1), H47:H51)*T48, 2) -> 0 | H48: =TRUNC(F48*G48,1) -> 0 | I48: 0 | J48: =TRUNC(F48*I48,1) -> 0 | K48: 0 | L48: =TRUNC(F48*K48,1) -> 0 | M48: =TRUNC(G48+I48+K48,1) -> 0 | N48: =TRUNC(H48+J48+L48,1) -> 0 | P48: 48 | R48: 0 | S48: 0 | T48: 0.02 | AC48: 1
A49: 56941310210 | B49: 56900017019 | C49: 노무비 | D49: 덕트공 | E49: 인 | F49: 0.167 | G49: 0 | H49: =TRUNC(F49*G49,1) -> 0 | I49: =단가대비표!O32 -> 0 | J49: =TRUNC(F49*I49,1) -> 0 | K49: 0 | L49: =TRUNC(F49*K49,1) -> 0 | M49: =TRUNC(G49+I49+K49,1) -> 0 | N49: =TRUNC(H49+J49+L49,1) -> 0 | R49: 0 | S49: 0 | T49: 0 | W49: 3 | AC49: 1
A50: 56941310210 | B50: 56900017041 | C50: 노무비 | D50: 보통인부 | E50: 인 | F50: 0.056 | G50: 0 | H50: =TRUNC(F50*G50,1) -> 0 | I50: =단가대비표!O35 -> 0 | J50: =TRUNC(F50*I50,1) -> 0 | K50: 0 | L50: =TRUNC(F50*K50,1) -> 0 | M50: =TRUNC(G50+I50+K50,1) -> 0 | N50: =TRUNC(H50+J50+L50,1) -> 0 | R50: 0 | S50: 0 | T50: 0 | W50: 3 | AC50: 1
A51: 56941310210 | B51: PPS00000003 | C51: 공구손료 | D51: 노무비의 2% | E51: 식 | F51: 1 | G51: =ROUNDDOWN(SUMIF(W47:W51, RIGHTB(B51, 1), J47:J51)*T51, 2) -> 0 | H51: =TRUNC(F51*G51,1) -> 0 | I51: 0 | J51: =TRUNC(F51*I51,1) -> 0 | K51: 0 | L51: =TRUNC(F51*K51,1) -> 0 | M51: =TRUNC(G51+I51+K51,1) -> 0 | N51: =TRUNC(H51+J51+L51,1) -> 0 | P51: 51 | R51: 1 | S51: 0 | T51: 0.02 | AC51: 1
C52: [ 합 계 ] | H52: =ROUNDDOWN(SUMIF(AC47:AC51, 1, H47:H51), 0) -> 0 | J52: =ROUNDDOWN(SUMIF(AC47:AC51, 1, J47:J51), 0) -> 0 | L52: =ROUNDDOWN(SUMIF(AC47:AC51, 1, L47:L51), 0) -> 0 | N52: =H52+J52+L52 -> 0
C54: 56941820071 동및동합금관 동관(L-TYPE),D15 M
A55: 56941820071 | B55: 47100047101 | C55: 동및동합금관 | D55: 동관(L-TYPE),D15 | E55: M | F55: 1.05 | G55: =단가대비표!O14 -> 0 | H55: =TRUNC(F55*G55,1) -> 0 | I55: 0 | J55: =TRUNC(F55*I55,1) -> 0 | K55: 0 | L55: =TRUNC(F55*K55,1) -> 0 | M55: =TRUNC(G55+I55+K55,1) -> 0 | N55: =TRUNC(H55+J55+L55,1) -> 0 | R55: 0 | S55: 0 | T55: 0 | U55: 1 | AC55: 1
A56: 56941820071 | B56: PPS00000001 | C56: 잡재료비 | D56: 관의 3% | E56: 식 | F56: 1 | G56: =ROUNDDOWN(SUMIF(U55:U59, RIGHTB(B56, 1), H55:H59)*T56, 2) -> 0 | H56: =TRUNC(F56*G56,1) -> 0 | I56: 0 | J56: =TRUNC(F56*I56,1) -> 0 | K56: 0 | L56: =TRUNC(F56*K56,1) -> 0 | M56: =TRUNC(G56+I56+K56,1) -> 0 | N56: =TRUNC(H56+J56+L56,1) -> 0 | P56: 56 | R56: 0 | S56: 0 | T56: 0.03 | AC56: 1
A57: 56941820071 | B57: 56900017030 | C57: 노무비 | D57: 배관공 | E57: 인 | F57: 0.03 | G57: 0 | H57: =TRUNC(F57*G57,1) -> 0 | I57: =단가대비표!O33 -> 0 | J57: =TRUNC(F57*I57,1) -> 0 | K57: 0 | L57: =TRUNC(F57*K57,1) -> 0 | M57: =TRUNC(G57+I57+K57,1) -> 0 | N57: =TRUNC(H57+J57+L57,1) -> 0 | R57: 0 | S57: 0 | T57: 0 | W57: 3 | AC57: 1
A58: 56941820071 | B58: 56900017041 | C58: 노무비 | D58: 보통인부 | E58: 인 | F58: 0.01 | G58: 0 | H58: =TRUNC(F58*G58,1) -> 0 | I58: =단가대비표!O35 -> 0 | J58: =TRUNC(F58*I58,1) -> 0 | K58: 0 | L58: =TRUNC(F58*K58,1) -> 0 | M58: =TRUNC(G58+I58+K58,1) -> 0 | N58: =TRUNC(H58+J58+L58,1) -> 0 | R58: 0 | S58: 0 | T58: 0 | W58: 3 | AC58: 1
A59: 56941820071 | B59: PPS00000003 | C59: 공구손료 | D59: 노무비의 2% | E59: 식 | F59: 1 | G59: =ROUNDDOWN(SUMIF(W55:W59, RIGHTB(B59, 1), J55:J59)*T59, 2) -> 0 | H59: =TRUNC(F59*G59,1) -> 0 | I59: 0 | J59: =TRUNC(F59*I59,1) -> 0 | K59: 0 | L59: =TRUNC(F59*K59,1) -> 0 | M59: =TRUNC(G59+I59+K59,1) -> 0 | N59: =TRUNC(H59+J59+L59,1) -> 0 | P59: 59 | R59: 1 | S59: 0 | T59: 0.02 | AC59: 1
C60: [ 합 계 ] | H60: =ROUNDDOWN(SUMIF(AC55:AC59, 1, H55:H59), 0) -> 0 | J60: =ROUNDDOWN(SUMIF(AC55:AC59, 1, J55:J59), 0) -> 0 | L60: =ROUNDDOWN(SUMIF(AC55:AC59, 1, L55:L59), 0) -> 0 | N60: =H60+J60+L60 -> 0
C62: 56941840011 볼밸브(황동) D 15 EA
A63: 56941840011 | B63: 48200147101 | C63: 볼 밸브 | D63: 황동, 10kg, D15 | E63: EA | F63: 1 | G63: =단가대비표!O22 -> 0 | H63: =TRUNC(F63*G63,1) -> 0 | I63: 0 | J63: =TRUNC(F63*I63,1) -> 0 | K63: 0 | L63: =TRUNC(F63*K63,1) -> 0 | M63: =TRUNC(G63+I63+K63,1) -> 0 | N63: =TRUNC(H63+J63+L63,1) -> 0 | R63: 0 | S63: 0 | T63: 0 | AC63: 1
A64: 56941840011 | B64: 56900017030 | C64: 노무비 | D64: 배관공 | E64: 인 | F64: 0.05 | G64: 0 | H64: =TRUNC(F64*G64,1) -> 0 | I64: =단가대비표!O33 -> 0 | J64: =TRUNC(F64*I64,1) -> 0 | K64: 0 | L64: =TRUNC(F64*K64,1) -> 0 | M64: =TRUNC(G64+I64+K64,1) -> 0 | N64: =TRUNC(H64+J64+L64,1) -> 0 | R64: 0 | S64: 0 | T64: 0 | W64: 3 | AC64: 1
A65: 56941840011 | B65: PPS00000003 | C65: 공구손료 | D65: 노무비의 2% | E65: 식 | F65: 1 | G65: =ROUNDDOWN(SUMIF(W63:W65, RIGHTB(B65, 1), J63:J65)*T65, 2) -> 0 | H65: =TRUNC(F65*G65,1) -> 0 | I65: 0 | J65: =TRUNC(F65*I65,1) -> 0 | K65: 0 | L65: =TRUNC(F65*K65,1) -> 0 | M65: =TRUNC(G65+I65+K65,1) -> 0 | N65: =TRUNC(H65+J65+L65,1) -> 0 | P65: 65 | R65: 1 | S65: 0 | T65: 0.02 | AC65: 1
C66: [ 합 계 ] | H66: =ROUNDDOWN(SUMIF(AC63:AC65, 1, H63:H65), 0) -> 0 | J66: =ROUNDDOWN(SUMIF(AC63:AC65, 1, J63:J65), 0) -> 0 | L66: =ROUNDDOWN(SUMIF(AC63:AC65, 1, L63:L65), 0) -> 0 | N66: =H66+J66+L66 -> 0
C68: 56941890001 점검구설치 200x200 개소
A69: 56941890001 | B69: 36940227001 | C69: 점검구 | D69: 200x200 | E69: EA | F69: 1 | G69: =단가대비표!O7 -> 0 | H69: =TRUNC(F69*G69,1) -> 0 | I69: 0 | J69: =TRUNC(F69*I69,1) -> 0 | K69: 0 | L69: =TRUNC(F69*K69,1) -> 0 | M69: =TRUNC(G69+I69+K69,1) -> 0 | N69: =TRUNC(H69+J69+L69,1) -> 0 | R69: 0 | S69: 0 | T69: 0 | AC69: 1
A70: 56941890001 | B70: 56900017019 | C70: 노무비 | D70: 덕트공 | E70: 인 | F70: 0.355 | G70: 0 | H70: =TRUNC(F70*G70,1) -> 0 | I70: =단가대비표!O32 -> 0 | J70: =TRUNC(F70*I70,1) -> 0 | K70: 0 | L70: =TRUNC(F70*K70,1) -> 0 | M70: =TRUNC(G70+I70+K70,1) -> 0 | N70: =TRUNC(H70+J70+L70,1) -> 0 | R70: 0 | S70: 0 | T70: 0 | W70: 3 | AC70: 1
A71: 56941890001 | B71: PPS00000003 | C71: 공구손료 | D71: 노무비의 2% | E71: 식 | F71: 1 | G71: =ROUNDDOWN(SUMIF(W69:W71, RIGHTB(B71, 1), J69:J71)*T71, 2) -> 0 | H71: =TRUNC(F71*G71,1) -> 0 | I71: 0 | J71: =TRUNC(F71*I71,1) -> 0 | K71: 0 | L71: =TRUNC(F71*K71,1) -> 0 | M71: =TRUNC(G71+I71+K71,1) -> 0 | N71: =TRUNC(H71+J71+L71,1) -> 0 | P71: 71 | R71: 1 | S71: 0 | T71: 0.02 | AC71: 1
C72: [ 합 계 ] | H72: =ROUNDDOWN(SUMIF(AC69:AC71, 1, H69:H71), 0) -> 0 | J72: =ROUNDDOWN(SUMIF(AC69:AC71, 1, J69:J71), 0) -> 0 | L72: =ROUNDDOWN(SUMIF(AC69:AC71, 1, L69:L71), 0) -> 0 | N72: =H72+J72+L72 -> 0
C74: 56941890035 후렉시블덕트호스(비보온) D200 M
A75: 56941890035 | B75: 41400227422 | C75: 공조덕트(플렉시블) | D75: (AL비보온), D200 | E75: M | F75: 1 | G75: =단가대비표!O10 -> 0 | H75: =TRUNC(F75*G75,1) -> 0 | I75: 0 | J75: =TRUNC(F75*I75,1) -> 0 | K75: 0 | L75: =TRUNC(F75*K75,1) -> 0 | M75: =TRUNC(G75+I75+K75,1) -> 0 | N75: =TRUNC(H75+J75+L75,1) -> 0 | R75: 0 | S75: 0 | T75: 0 | AC75: 1
A76: 56941890035 | B76: 56900017019 | C76: 노무비 | D76: 덕트공 | E76: 인 | F76: 0.033 | G76: 0 | H76: =TRUNC(F76*G76,1) -> 0 | I76: =단가대비표!O32 -> 0 | J76: =TRUNC(F76*I76,1) -> 0 | K76: 0 | L76: =TRUNC(F76*K76,1) -> 0 | M76: =TRUNC(G76+I76+K76,1) -> 0 | N76: =TRUNC(H76+J76+L76,1) -> 0 | R76: 0 | S76: 0 | T76: 0 | W76: 3 | AC76: 1
A77: 56941890035 | B77: PPS00000003 | C77: 공구손료 | D77: 노무비의 2% | E77: 식 | F77: 1 | G77: =ROUNDDOWN(SUMIF(W75:W77, RIGHTB(B77, 1), J75:J77)*T77, 2) -> 0 | H77: =TRUNC(F77*G77,1) -> 0 | I77: 0 | J77: =TRUNC(F77*I77,1) -> 0 | K77: 0 | L77: =TRUNC(F77*K77,1) -> 0 | M77: =TRUNC(G77+I77+K77,1) -> 0 | N77: =TRUNC(H77+J77+L77,1) -> 0 | P77: 77 | R77: 1 | S77: 0 | T77: 0.02 | AC77: 1
C78: [ 합 계 ] | H78: =ROUNDDOWN(SUMIF(AC75:AC77, 1, H75:H77), 0) -> 0 | J78: =ROUNDDOWN(SUMIF(AC75:AC77, 1, J75:J77), 0) -> 0 | L78: =ROUNDDOWN(SUMIF(AC75:AC77, 1, L75:L77), 0) -> 0 | N78: =H78+J78+L78 -> 0
C80: 56942000220 코아드릴(바닥)(150mm) D15 개소
A81: 56942000220 | B81: 56900017098 | C81: 노무비 | D81: 착암공 | E81: 인 | F81: 0.096 | G81: 0 | H81: =TRUNC(F81*G81,1) -> 0 | I81: =단가대비표!O37 -> 0 | J81: =TRUNC(F81*I81,1) -> 0 | K81: 0 | L81: =TRUNC(F81*K81,1) -> 0 | M81: =TRUNC(G81+I81+K81,1) -> 0 | N81: =TRUNC(H81+J81+L81,1) -> 0 | R81: 0 | S81: 0 | T81: 0 | W81: 3 | AC81: 1
A82: 56942000220 | B82: 56900017041 | C82: 노무비 | D82: 보통인부 | E82: 인 | F82: 0.096 | G82: 0 | H82: =TRUNC(F82*G82,1) -> 0 | I82: =단가대비표!O35 -> 0 | J82: =TRUNC(F82*I82,1) -> 0 | K82: 0 | L82: =TRUNC(F82*K82,1) -> 0 | M82: =TRUNC(G82+I82+K82,1) -> 0 | N82: =TRUNC(H82+J82+L82,1) -> 0 | R82: 0 | S82: 0 | T82: 0 | W82: 3 | AC82: 1
A83: 56942000220 | B83: PPS00000003 | C83: 공구손료 | D83: 노무비의 2% | E83: 식 | F83: 1 | G83: =ROUNDDOWN(SUMIF(W81:W83, RIGHTB(B83, 1), J81:J83)*T83, 2) -> 0 | H83: =TRUNC(F83*G83,1) -> 0 | I83: 0 | J83: =TRUNC(F83*I83,1) -> 0 | K83: 0 | L83: =TRUNC(F83*K83,1) -> 0 | M83: =TRUNC(G83+I83+K83,1) -> 0 | N83: =TRUNC(H83+J83+L83,1) -> 0 | P83: 83 | R83: 1 | S83: 0 | T83: 0.02 | AC83: 1
C84: [ 합 계 ] | H84: =ROUNDDOWN(SUMIF(AC81:AC83, 1, H81:H83), 0) -> 0 | J84: =ROUNDDOWN(SUMIF(AC81:AC83, 1, J81:J83), 0) -> 0 | L84: =ROUNDDOWN(SUMIF(AC81:AC83, 1, L81:L83), 0) -> 0 | N84: =H84+J84+L84 -> 0
C86: 56958000003 디퓨저 사각PAN, D200, AL EA
A87: 56958000003 | B87: 41300247423 | C87: 디퓨져 | D87: 사각PAN, D200, AL | E87: EA | F87: 1 | G87: =단가대비표!O9 -> 0 | H87: =TRUNC(F87*G87,1) -> 0 | I87: 0 | J87: =TRUNC(F87*I87,1) -> 0 | K87: 0 | L87: =TRUNC(F87*K87,1) -> 0 | M87: =TRUNC(G87+I87+K87,1) -> 0 | N87: =TRUNC(H87+J87+L87,1) -> 0 | T87: 0 | AC87: 1
A88: 56958000003 | B88: 56900017019 | C88: 노무비 | D88: 덕트공 | E88: 인 | F88: 0.43 | G88: 0 | H88: =TRUNC(F88*G88,1) -> 0 | I88: =단가대비표!O32 -> 0 | J88: =TRUNC(F88*I88,1) -> 0 | K88: 0 | L88: =TRUNC(F88*K88,1) -> 0 | M88: =TRUNC(G88+I88+K88,1) -> 0 | N88: =TRUNC(H88+J88+L88,1) -> 0 | T88: 0 | W88: 3 | AC88: 1
A89: 56958000003 | B89: PPS00000003 | C89: 공구손료 | D89: 노무비의 2% | E89: 식 | F89: 1 | G89: =ROUNDDOWN(SUMIF(W87:W89, RIGHTB(B89, 1), J87:J89)*T89, 2) -> 0 | H89: =TRUNC(F89*G89,1) -> 0 | I89: 0 | J89: =TRUNC(F89*I89,1) -> 0 | K89: 0 | L89: =TRUNC(F89*K89,1) -> 0 | M89: =TRUNC(G89+I89+K89,1) -> 0 | N89: =TRUNC(H89+J89+L89,1) -> 0 | P89: 89 | R89: 1 | S89: 0 | T89: 0.02 | AC89: 1
C90: [ 합 계 ] | H90: =ROUNDDOWN(SUMIF(AC87:AC89, 1, H87:H89), 0) -> 0 | J90: =ROUNDDOWN(SUMIF(AC87:AC89, 1, J87:J89), 0) -> 0 | L90: =ROUNDDOWN(SUMIF(AC87:AC89, 1, L87:L89), 0) -> 0 | N90: =H90+J90+L90 -> 0
C92: 56958000016 B.D.D (STL) 400 x 250 EA
A93: 56958000016 | B93: MM052600542 | C93: B.D.D (STL) | D93: 400 x 250 | E93: EA | F93: 1 | G93: =단가대비표!O41 -> 0 | H93: =TRUNC(F93*G93,1) -> 0 | I93: 0 | J93: =TRUNC(F93*I93,1) -> 0 | K93: 0 | L93: =TRUNC(F93*K93,1) -> 0 | M93: =TRUNC(G93+I93+K93,1) -> 0 | N93: =TRUNC(H93+J93+L93,1) -> 0 | T93: 0 | AC93: 1
A94: 56958000016 | B94: 56900017019 | C94: 노무비 | D94: 덕트공 | E94: 인 | F94: 0.375 | G94: 0 | H94: =TRUNC(F94*G94,1) -> 0 | I94: =단가대비표!O32 -> 0 | J94: =TRUNC(F94*I94,1) -> 0 | K94: 0 | L94: =TRUNC(F94*K94,1) -> 0 | M94: =TRUNC(G94+I94+K94,1) -> 0 | N94: =TRUNC(H94+J94+L94,1) -> 0 | T94: 0 | W94: 3 | AC94: 1
A95: 56958000016 | B95: PPS00000003 | C95: 공구손료 | D95: 노무비의 2% | E95: 식 | F95: 1 | G95: =ROUNDDOWN(SUMIF(W93:W95, RIGHTB(B95, 1), J93:J95)*T95, 2) -> 0 | H95: =TRUNC(F95*G95,1) -> 0 | I95: 0 | J95: =TRUNC(F95*I95,1) -> 0 | K95: 0 | L95: =TRUNC(F95*K95,1) -> 0 | M95: =TRUNC(G95+I95+K95,1) -> 0 | N95: =TRUNC(H95+J95+L95,1) -> 0 | P95: 95 | R95: 1 | S95: 0 | T95: 0.02 | AC95: 1
C96: [ 합 계 ] | H96: =ROUNDDOWN(SUMIF(AC93:AC95, 1, H93:H95), 0) -> 0 | J96: =ROUNDDOWN(SUMIF(AC93:AC95, 1, J93:J95), 0) -> 0 | L96: =ROUNDDOWN(SUMIF(AC93:AC95, 1, L93:L95), 0) -> 0 | N96: =H96+J96+L96 -> 0
C98: 56958000017 F-1인라인팬 2,100CMH*27MMAQ*0.75KW 대
A99: 56958000017 | B99: MM052170113 | C99: F-1인라인팬 | D99: 2,100CMH*27MMAQ*0.75KW | E99: 대 | F99: 1 | G99: =단가대비표!O40 -> 0 | H99: =TRUNC(F99*G99,1) -> 0 | I99: 0 | J99: =TRUNC(F99*I99,1) -> 0 | K99: 0 | L99: =TRUNC(F99*K99,1) -> 0 | M99: =TRUNC(G99+I99+K99,1) -> 0 | N99: =TRUNC(H99+J99+L99,1) -> 0 | T99: 0 | AC99: 1
A100: 56958000017 | B100: 56900017041 | C100: 노무비 | D100: 보통인부 | E100: 인 | F100: 0.309 | G100: 0 | H100: =TRUNC(F100*G100,1) -> 0 | I100: =단가대비표!O35 -> 0 | J100: =TRUNC(F100*I100,1) -> 0 | K100: 0 | L100: =TRUNC(F100*K100,1) -> 0 | M100: =TRUNC(G100+I100+K100,1) -> 0 | N100: =TRUNC(H100+J100+L100,1) -> 0 | T100: 0 | W100: 3 | AC100: 1
A101: 56958000017 | B101: 56900017015 | C101: 노무비 | D101: 기계설비공 | E101: 인 | F101: 1.042 | G101: 0 | H101: =TRUNC(F101*G101,1) -> 0 | I101: =단가대비표!O31 -> 0 | J101: =TRUNC(F101*I101,1) -> 0 | K101: 0 | L101: =TRUNC(F101*K101,1) -> 0 | M101: =TRUNC(G101+I101+K101,1) -> 0 | N101: =TRUNC(H101+J101+L101,1) -> 0 | T101: 0 | W101: 3 | AC101: 1
A102: 56958000017 | B102: PPS00000003 | C102: 공구손료 | D102: 노무비의 2% | E102: 식 | F102: 1 | G102: =ROUNDDOWN(SUMIF(W99:W102, RIGHTB(B102, 1), J99:J102)*T102, 2) -> 0 | H102: =TRUNC(F102*G102,1) -> 0 | I102: 0 | J102: =TRUNC(F102*I102,1) -> 0 | K102: 0 | L102: =TRUNC(F102*K102,1) -> 0 | M102: =TRUNC(G102+I102+K102,1) -> 0 | N102: =TRUNC(H102+J102+L102,1) -> 0 | P102: 102 | R102: 1 | S102: 0 | T102: 0.02 | AC102: 1
C103: [ 합 계 ] | H103: =ROUNDDOWN(SUMIF(AC99:AC102, 1, H99:H102), 0) -> 0 | J103: =ROUNDDOWN(SUMIF(AC99:AC102, 1, J99:J102), 0) -> 0 | L103: =ROUNDDOWN(SUMIF(AC99:AC102, 1, L99:L102), 0) -> 0 | N103: =H103+J103+L103 -> 0
C105: 56958000018 F.D (STL) 400 x 250 EA
A106: 56958000018 | B106: MM052600543 | C106: F.D (STL) | D106: 400 x 250 | E106: EA | F106: 1 | G106: =단가대비표!O42 -> 0 | H106: =TRUNC(F106*G106,1) -> 0 | I106: 0 | J106: =TRUNC(F106*I106,1) -> 0 | K106: 0 | L106: =TRUNC(F106*K106,1) -> 0 | M106: =TRUNC(G106+I106+K106,1) -> 0 | N106: =TRUNC(H106+J106+L106,1) -> 0 | T106: 0 | AC106: 1
A107: 56958000018 | B107: 56900017019 | C107: 노무비 | D107: 덕트공 | E107: 인 | F107: 0.415 | G107: 0 | H107: =TRUNC(F107*G107,1) -> 0 | I107: =단가대비표!O32 -> 0 | J107: =TRUNC(F107*I107,1) -> 0 | K107: 0 | L107: =TRUNC(F107*K107,1) -> 0 | M107: =TRUNC(G107+I107+K107,1) -> 0 | N107: =TRUNC(H107+J107+L107,1) -> 0 | T107: 0 | W107: 3 | AC107: 1
A108: 56958000018 | B108: PPS00000003 | C108: 공구손료 | D108: 노무비의 2% | E108: 식 | F108: 1 | G108: =ROUNDDOWN(SUMIF(W106:W108, RIGHTB(B108, 1), J106:J108)*T108, 2) -> 0 | H108: =TRUNC(F108*G108,1) -> 0 | I108: 0 | J108: =TRUNC(F108*I108,1) -> 0 | K108: 0 | L108: =TRUNC(F108*K108,1) -> 0 | M108: =TRUNC(G108+I108+K108,1) -> 0 | N108: =TRUNC(H108+J108+L108,1) -> 0 | P108: 108 | R108: 1 | S108: 0 | T108: 0.02 | AC108: 1
C109: [ 합 계 ] | H109: =ROUNDDOWN(SUMIF(AC106:AC108, 1, H106:H108), 0) -> 0 | J109: =ROUNDDOWN(SUMIF(AC106:AC108, 1, J106:J108), 0) -> 0 | L109: =ROUNDDOWN(SUMIF(AC106:AC108, 1, L106:L108), 0) -> 0 | N109: =H109+J109+L109 -> 0
A134: End Of File(Ver 6.0)
C135: A,B행과 마지막열은 지우지 마시오

Sheet 단가대비표
A1: 단 가 대 비 표
A2: [공사명] 2026년도 냉난방 보수공사(EHP)
A3: 코 드 | B3: 품 명 | C3: 규 격 | D3: 단위 | E3: 가격정보 | G3: 물가자료 | I3: 물가정보 | K3: 거래가격 | M3: 조사가격 | O3: 적 용 단 가 | P3: 비고
E4: 단가 | F4: Page | G4: 단가 | H4: Page | I4: 단가 | J4: Page | K4: 단가 | L4: Page | M4: 단가 | N4: Page
A5: 34390457005 | B5: 용접용 용재 | C5: 플럭스(FLUX) | D5: g | R5: 1
A6: 34390787072 | B6: 동 및 동합금용 용접봉 | C6: D2.4mm, BCUP3 | D6: g | R6: 1
A7: 36940227001 | B7: 점검구 | C7: 200x200 | D7: EA | R7: 1
A8: 36940227015 | B8: FD/FVD 휴즈 | D8: EA | R8: 1
A9: 41300247423 | B9: 디퓨져 | C9: 사각PAN, D200, AL | D9: EA | R9: 1
A10: 41400227422 | B10: 공조덕트(플렉시블) | C10: (AL비보온), D200 | D10: M | R10: 1
A11: 41400237010 | B11: 캔버스 | C11: 1.2t | D11: M2 | R11: 1
A12: 45400077351 | B12: 관보온재 | C12: 아티론(난연AL), 5TxD15 | D12: M | R12: 1
A13: 45400167101 | B13: 고무발포 보온재 (동관용) | C13: 고무발포보온재,D15×25T | D13: M | R13: 1
A14: 47100047101 | B14: 동및동합금관 | C14: 동관(L-TYPE),D15 | D14: M | R14: 1
A15: 47301017311 | B15: 동관이음쇠 | C15: 동땜티이 (C*F) D15 | D15: EA | R15: 1
A16: 47301017321 | B16: 동관이음쇠 | C16: 황동아답타 (C*M) D15 | D16: EA | R16: 1
A17: 47301018301 | B17: 동관이음쇠 | C17: 동엘보 D15 | D17: EA | R17: 1
A18: 47301018373 | B18: 동관이음쇠 | C18: 동티이 D25 | D18: EA | R18: 1
A19: 47301018451 | B19: 동관이음쇠 | C19: 동캡 D15 | D19: EA | R19: 1
A20: 47301018487 | B20: 동관이음쇠 | C20: 동유니온 (C*M) D15 | D20: EA | R20: 1
... A24: 53060807023 | B24: 스트롱앵커 | C24: M10(3/8") | D24: EA | R24: 1
A25: 53300527126 | B25: 본드(고무발포용) | D25: KG | R25: 1
A26: 53300527130 | B26: 은박테이프 | C26: 0.3T*25W | D26: M | R26: 1
A27: 53300527216 | B27: 스텐밴드 | C27: D200 | D27: EA | R27: 1
A28: 53300537013 | B28: SPIN IN | C28: D200 | D28: EA | R28: 1
A29: 53400537033 | B29: 행거 | C29: 절연행거 15A | D29: EA | R29: 1
A30: 56810023005 | B30: 내화채움구조(덕트,벽체) | D30: M | R30: 1
A31: 56900017015 | B31: 노무비 | C31: 기계설비공 | D31: 인 | R31: 2
A32: 56900017019 | B32: 노무비 | C32: 덕트공 | D32: 인 | R32: 2
A33: 56900017030 | B33: 노무비 | C33: 배관공 | D33: 인 | R33: 2
A34: 56900017038 | B34: 노무비 | C34: 보온공 | D34: 인 | R34: 2
A35: 56900017041 | B35: 노무비 | C35: 보통인부 | D35: 인 | R35: 2
A36: 56900017056 | B36: 노무비 | C36: 용접공 | D36: 인 | R36: 2
A37: 56900017098 | B37: 노무비 | C37: 착암공 | D37: 인 | R37: 2
A38: 68300057015 | B38: 산소 가스 | C38: 기체,공업용 99.9% | D38: L | R38: 1
A39: 68300067011 | B39: 아세틸렌 가스 | C39: 아세틸렌(g) | D39: G | R39: 1
A40: MM052170113 | B40: F-1인라인팬 | C40: 2,100CMH*27MMAQ*0.75KW | D40: 대 | R40: 1
A41: MM052600542 | B41: B.D.D (STL) | C41: 400 x 250 | D41: EA | R41: 1
A42: MM052600543 | B42: F.D (STL) | C42: 400 x 250 | D42: EA | R42: 1
A43: Y2603040001 | B43: 01. 지하1층 주방 스탠드형냉방 | R43: 1
A44: Y2603040002 | B44: 01-1 제품 및 부품 | R44: 1
A45: Y2603040003 | B45: 스탠드형 냉방기 | C45: 5HP(14.5kW) | D45: 대 | R45: 1
A46: Y2603040004 | B46: 스탠드형 냉방기 | C46: 8HP(23.0kW) | D46: 대 | R46: 1
A47: Y2603040005 | B47: 스탠드형 냉방기 | C47: 10HP(29.0kW) | D47: 대 | R47: 1
A48: Y2603040006 | B48: 실외기 받침대 | D48: 개 | R48: 1
A49: Y2603040007 | B49: 실외기 바람막이 | D49: 개 | R49: 1
A50: Y2603040008 | B50: 드레인펌프 | D50: 개 | R50: 1
A51: Y2603040009 | B51: 01-2 교체 설치공사 | R51: 1
A52: Y2603040010 | B52: 실내 보양 | C52: 해당 실면적의 30% | D52: ㎡ | R52: 1
A53: Y2603040011 | B53: 기존 냉방기 철거 | C53: 압축기 전동기출력 7.5kW 이하 | D53: 대 | R53: 1
A54: Y2603040012 | B54: 기존 냉방기 철거 | C54: 압축기 전동기출력 3.7kW 이하 | D54: 대 | R54: 1
A55: Y2603040013 | B55: 신규 냉방기 설치 | C55: 압축기 전동기출력 7.5kW 이하 | D55: 대 | R55: 1
A56: Y2603040014 | B56: 신규 냉방기 설치 | C56: 압축기 전동기출력 3.7kW 이하 | D56: 대 | R56: 1
A57: Y2603040015 | B57: 동파이프 | C57: 22.2mm×1.14T | D57: M | R57: 1
A58: Y2603040016 | B58: 동파이프 | C58: 19.05mm×1.07T | D58: M | R58: 1
A59: Y2603040017 | B59: 동파이프 | C59: 15.88mm×1.02T | D59: M | R59: 1
A60: Y2603040018 | B60: 동파이프 | C60: 9.52mm×0.8T | D60: M | R60: 1
A61: Y2603040019 | B61: 동엘보 | C61: 22.22mm | D61: 개 | R61: 1
A62: Y2603040020 | B62: 동엘보 | C62: 19.05mm | D62: 개 | R62: 1
A63: Y2603040021 | B63: 동엘보 | C63: 15.88mm | D63: 개 | R63: 1
... A82: Y2603040040 | B82: 파이프 관통부 내화채움 | C82: 100A | D82: 개소 | R82: 1
A83: Y2603040041 | B83: 기밀시험 | D83: 회 | R83: 1
A84: Y2603040042 | B84: 냉매 | C84: (R410A) 10KG | D84: 통 | R84: 1
A85: Y2603040043 | B85: 실내외기 통신선 | C85: VCTF 2C 1.5㎟ | D85: M | R85: 1
A86: Y2603040044 | B86: 전선관(방수플렉시블) | C86: 16mm | D86: M | R86: 1
A87: Y2603040045 | B87: 파이프접속콘넥터(방수) | C87: 16mm | D87: 개 | R87: 1
A88: Y2603040046 | B88: 전원선 결선 해체 | C88: 전동기 결선 11KW이상 | D88: 대 | R88: 2
A89: Y2603040047 | B89: 전원선 결선 | C89: 전동기 결선 11KW이상 | D89: 대 | R89: 2
A90: Y2603040048 | B90: 실외기 배관트레이 | C90: 함석커버포함 | D90: M | R90: 1
A91: Y2603040049 | B91: 장비사용료 | C91: 지게차 | D91: 시간 | R91: 3
A92: Y2603040050 | B92: 02. 지하1층 재활치료센터 심폐 | R92: 1
A93: Y2603040051 | B93: 02-1 제품 및 부품 | R93: 1
A94: Y2603040052 | B94: 싱글형냉난방기(천정카세트4-WA | C94: 14.5 / 16.7 kW (1등급) | D94: 대 | R94: 1
A95: Y2603040053 | B95: 공기청정키트(4Way형) | D95: 개 | R95: 1
A96: Y2603040054 | B96: 유선리모컨(고급형) | D96: 개 | R96: 1
A97: Y2603040055 | B97: 실외기(싱글형) 받침대 | D97: 개 | R97: 1
A98: Y2603040056 | B98: 실외기 바람막이 | D98: 개 | R98: 1
A99: Y2603040057 | B99: 02-2 교체 설치공사 | R99: 1
A100: Y2603040058 | B100: 실내 보양 | C100: 해당 실면적의 30% | D100: ㎡ | R100: 1
A101: Y2603040059 | B101: 기존 냉방기 철거 | C101: 압축기 전동기출력 3.7kW 이하 | D101: 대 | R101: 1
A102: Y2603040060 | B102: 천정타공(흡읍텍스 해체) | D102: ㎡ | R102: 2
A103: Y2603040061 | B103: 경량철골틀 해체 | D103: ㎡ | R103: 2
A104: Y2603040062 | B104: 점검구 설치 | C104: 450×450 | D104: 개소 | R104: 1
A105: Y2603040063 | B105: 실내기 설치 | D105: 대 | R105: 1
A106: Y2603040064 | B106: 실외기 설치 | C106: 16kW 이하 | D106: 대 | R106: 1
A107: Y2603040065 | B107: 유선리모컨 설치 | D107: 개 | R107: 2
A108: Y2603040066 | B108: 동파이프 | C108: 15.88mm×1.02T | D108: M | R108: 1
A109: Y2603040067 | B109: 동파이프 | C109: 9.52mm×0.8T | D109: M | R109: 1
A110: Y2603040068 | B110: 동엘보 | C110: 15.88mm | D110: 개 | R110: 1
A111: Y2603040069 | B111: 동엘보 | C111: 9.52mm | D111: 개 | R111: 1
A112: Y2603040070 | B112: 동소켓 | C112: 15.88mm | D112: 개 | R112: 1
A113: Y2603040071 | B113: 동소켓 | C113: 9.52mm | D113: 개 | R113: 1
A114: Y2603040072 | B114: 동용접 | C114: 15.88mm | D114: 개소 | R114: 1
A115: Y2603040073 | B115: 동용접 | C115: 9.52mm | D115: 개소 | R115: 1
A116: Y2603040074 | B116: EPDM 고무발포보온재 | C116: 15.88mm, 13T | D116: M | R116: 1
A117: Y2603040075 | B117: EPDM 고무발포보온재 | C117: 9.52mm, 9T | D117: M | R117: 1
A118: Y2603040076 | B118: PVC 파이프 | C118: 25mm×2.8T | D118: M | R118: 1
A119: Y2603040077 | B119: PVC엘보 | C119: 25mm | D119: 개 | R119: 1
... A123: Y2603040081 | B123: 파이프 관통부 내화채움 | C123: 100A | D123: 개소 | R123: 1
A124: Y2603040082 | B124: 기밀시험 | D124: 회 | R124: 1
...
