Workbook

Sheet 원가계산서
A1: 공 사 원 가 계 산 서
A2: 공사명 : 2026년도 냉난방 보수공사(EHP) | F2: ="금액 : "&NUMBERSTRING((D32),1)&"원정" -> 금액 : 영원정 | H2: ="(\"&TEXT(D32,"#,##0")&" 원)" -> (\0 원)
A3: 비 목 | D3: 금 액 | E3: 제비율 | F3: 구 성 비 | H3: 비 고
A4: 순 공 사 원 가 | B4: 재 료 비 | C4: 직 접 재 료 비 | D4: =집계표!F5 -> 0
C5: 간 접 재 료 비
C6: 작업설, 부산물(△)
C7: [ 소 계 ] | D7: =SUM(D4-D6) -> 0
B8: 노무비 | C8: 직 접 노 무 비 | D8: =집계표!H5 -> 0
C9: 간 접 노 무 비 | D9: =INT(D8*E9) -> 0 | E9: 0.175 | F9: 직접노무비 * 17.5%
C10: [ 소 계 ] | D10: =SUM(D8:D9) -> 0
C11: 기 계 경 비 | D11: =집계표!J5 -> 0
C12: 산 재 보 험 료 | D12: =INT(D10*E12) -> 0 | E12: 0.0356 | F12: 노무비 * 3.56%
C13: 고 용 보 험 료 | D13: =INT(D10*E13) -> 0 | E13: 0.0101 | F13: 노무비 * 1.01%
C14: 건 강 보 험 료 | D14: =INT(D8*E14) -> 0 | E14: 0.03595 | F14: 직접노무비 * 3.595%
C15: 연 금 보 험 료 | D15: =INT(D8*E15) -> 0 | E15: 0.0475 | F15: 직접노무비 * 4.75%
C16: 노인장기요양보험료 | D16: =INT(D14*E16) -> 0 | E16: 0.1314 | F16: 건강보험료 * 13.14%
C17: 퇴 직 공 제 부금비 | D17: =INT(D8*E17) -> 0 | E17: 0.023 | F17: 직접노무비 * 2.3%
C18: 산 업 안 전 관 리 비 | D18: =INT((D7+D8)*E18) -> 0 | E18: 0.0311 | F18: (재료비+직노) * 3.11%
C19: 기 타 경 비 | D19: =INT((D7+D10)*E19) -> 0 | E19: 0.05 | F19: (재료비+노무비) * 5%
C20: 환 경 보 전 비 | D20: =INT((D7+D8+D11)*E20) -> 0 | E20: 0.003 | F20: (재료비+직노+기계경비) * 0.3%
C21: 공사이행보증수수료 | D21: =(INT((((D7+D8+D11)))*E21))*1 -> 0 | E21: 0.000108 | F21: (직접공사비) * 0.0108%)*1년
C22: 건 설 하 도 급 대 금 지급보증서발급수수료 | D22: =INT((D7+D8+D11)*E22) -> 0 | E22: 0.00081 | F22: (재료비+직노+기계경비) * 0.081%
C23: 석 면 분 담 금 | D23: =D10*E23 -> 0 | E23: 6e-05 | F23: 노무비*0.006%
C24: 임 금 채 권 분 담 금 | D24: =D10*E24 -> 0 | E24: 0.0009 | F24: 노무비*0.09%
C25: [ 소 계 ] | D25: =SUM(D11:D24) -> 0
A26: 계 | D26: =D7+D10+D25 -> 0
A27: 일 반 관 리 비 | D27: =INT(D26*E27) -> 0 | E27: 0.08 | F27: 계 * 8.0%
A28: 이 윤 | D28: =INT((D10+D25+D27)*E28) -> 0 | E28: 0.15 | F28: (노무비+경비+일반관리비) * 15%
A29: 공 급 가 액 | D29: =SUM(D26:D28) -> 0
A30: 부 가 가 치 세 | D30: =SUM(D29:D29)*E30 -> 0 | E30: 0.1 | F30: 10%
A31: 도 급 액 | D31: =SUM(D29:D30) -> 0
A32: 총 공 사 비 | D32: =ROUNDDOWN(SUM(D31:D31),-4) -> 0 | F32: 천원미만 절사

Sheet 집계표
A1: 집 계 표
A2: [공사명] 2026년도 냉난방 보수공사(EHP)
A3: 품 명 | B3: 규 격 | C3: 단위 | D3: 수량 | E3: 재 료 비 | G3: 노 무 비 | I3: 경 비 | K3: 합 계 | M3: 비고
E4: 단가 | F4: 금액 | G4: 단가 | H4: 금액 | I4: 단가 | J4: 금액 | K4: 단가 | L4: 금액
A5: 01 기계설비공사 | D5: 1 | E5: =F6 -> 0 | F5: =D5*E5 -> 0 | G5: =H6 -> 0 | H5: =D5*G5 -> 0 | I5: =J6 -> 0 | J5: =D5*I5 -> 0 | K5: =E5+G5+I5 -> 0 | L5: =D5*K5 -> 0 | N5: 01
A6: 010104 냉난방기설치공사 | D6: 1 | E6: =내역서!H158 -> 0 | F6: =D6*E6 -> 0 | G6: =내역서!J158 -> 0 | H6: =D6*G6 -> 0 | I6: =내역서!L158 -> 0 | J6: =D6*I6 -> 0 | K6: =E6+G6+I6 -> 0 | L6: =D6*K6 -> 0 | N6: 010104
A22: [ 합 계 ] | F22: =F5 -> 0 | H22: =H5 -> 0 | J22: =J5 -> 0 | L22: =F22+H22+J22 -> 0
A23: End Of File(Ver 6.0)
A24: 마지막열은 지우지 마시오

Sheet 내역서
C1: [공사명] 2026년도 냉난방 보수공사(EHP)
A2: 공종 | B2: 코드 | C2: 품 명 | D2: 규 격 | E2: 단위 | F2: 수량 | G2: 재 료 비 | I2: 노 무 비 | K2: 경 비 | M2: 합 계 | O2: 비고
G3: 단가 | H3: 금액 | I3: 단가 | J3: 금액 | K3: 단가 | L3: 금액 | M3: 단가 | N3: 금액
C4: 010104 냉난방기설치공사
A5: 010104 | B5: Y2603040050 | C5: 02. 지하1층 재활치료센터 심폐실 | F5: 0 | G5: =TRUNC(단가대비표!O92,0) -> 0 | H5: =TRUNC(F5*G5,0) -> 0 | I5: 0 | J5: =TRUNC(F5*I5,0) -> 0 | K5: 0 | L5: =TRUNC(F5*K5,0) -> 0 | M5: =G5+I5+K5 -> 0 | N5: =H5+J5+L5 -> 0 | O5: =SUM(N7:N45) -> 0 | P5: =P8+P52+P103 -> 0 | Q5: 공기구비품 | T5: 0 | AC5: 1
A6: 010104 | B6: Y2603040051 | C6: 02-1 제품 및 부품 | F6: 0 | H6: =TRUNC(F6*G6,0) -> 0 | J6: =TRUNC(F6*I6,0) -> 0 | L6: =TRUNC(F6*K6,0) -> 0 | M6: =G6+I6+K6 -> 0 | N6: =H6+J6+L6 -> 0 | T6: 0 | AC6: 1
A7: 010104 | B7: Y2603040052 | C7: 싱글형냉난방기(천정카세트4-Way) | D7: 14.5 / 16.7 kW (1등급) | E7: 대 | F7: 1 | H7: =TRUNC(F7*G7,0) -> 0 | J7: =TRUNC(F7*I7,0) -> 0 | L7: =TRUNC(F7*K7,0) -> 0 | M7: =G7+I7+K7 -> 0 | N7: =H7+J7+L7 -> 0 | O7: 공구기구비품 | T7: 0 | AC7: 1
A8: 010104 | B8: Y2603040053 | C8: 공기청정키트(4Way형) | E8: 개 | F8: 0 | H8: =TRUNC(F8*G8,0) -> 0 | J8: =TRUNC(F8*I8,0) -> 0 | L8: =TRUNC(F8*K8,0) -> 0 | M8: =G8+I8+K8 -> 0 | N8: =H8+J8+L8 -> 0 | O8: 공구기구비품 | P8: =N7+N8 -> 0 | T8: 0 | AC8: 1
A9: 010104 | B9: Y2603040057 | C9: 02-2 교체 설치공사 | F9: 0 | H9: =TRUNC(F9*G9,0) -> 0 | J9: =TRUNC(F9*I9,0) -> 0 | L9: =TRUNC(F9*K9,0) -> 0 | M9: =G9+I9+K9 -> 0 | N9: =H9+J9+L9 -> 0 | T9: 0 | AC9: 1
A10: 010104 | B10: Y2603040054 | C10: 유선리모컨(고급형) | E10: 개 | F10: 1 | H10: =TRUNC(F10*G10,0) -> 0 | J10: =TRUNC(F10*I10,0) -> 0 | L10: =TRUNC(F10*K10,0) -> 0 | M10: =G10+I10+K10 -> 0 | N10: =H10+J10+L10 -> 0 | T10: 0 | AC10: 1
A11: 010104 | B11: Y2603040055 | C11: 실외기(싱글형) 받침대 | E11: 개 | F11: 2 | H11: =TRUNC(F11*G11,0) -> 0 | J11: =TRUNC(F11*I11,0) -> 0 | L11: =TRUNC(F11*K11,0) -> 0 | M11: =G11+I11+K11 -> 0 | N11: =H11+J11+L11 -> 0 | T11: 0 | AC11: 1
A12: 010104 | B12: Y2603040056 | C12: 실외기 바람막이 | E12: 개 | F12: 1 | H12: =TRUNC(F12*G12,0) -> 0 | J12: =TRUNC(F12*I12,0) -> 0 | L12: =TRUNC(F12*K12,0) -> 0 | M12: =G12+I12+K12 -> 0 | N12: =H12+J12+L12 -> 0 | T12: 0 | AC12: 1
A13: 010104 | B13: Y2603040058 | C13: 실내 보양 | D13: 해당 실면적의 30% | E13: ㎡ | F13: 12 | H13: =TRUNC(F13*G13,0) -> 0 | J13: =TRUNC(F13*I13,0) -> 0 | L13: =TRUNC(F13*K13,0) -> 0 | M13: =G13+I13+K13 -> 0 | N13: =H13+J13+L13 -> 0 | T13: 0 | AC13: 1
A14: 010104 | B14: Y2603040059 | C14: 기존 냉방기 철거 | D14: 압축기 전동기출력 3.7kW 이하 | E14: 대 | F14: 1 | H14: =TRUNC(F14*G14,0) -> 0 | J14: =TRUNC(F14*I14,0) -> 0 | L14: =TRUNC(F14*K14,0) -> 0 | M14: =G14+I14+K14 -> 0 | N14: =H14+J14+L14 -> 0 | T14: 0 | AC14: 1
A15: 010104 | B15: Y2603040060 | C15: 천정타공(흡읍텍스 해체) | E15: ㎡ | F15: 4 | H15: =TRUNC(F15*G15,0) -> 0 | J15: =TRUNC(F15*I15,0) -> 0 | L15: =TRUNC(F15*K15,0) -> 0 | M15: =G15+I15+K15 -> 0 | N15: =H15+J15+L15 -> 0 | T15: 0 | AC15: 1
A16: 010104 | B16: Y2603040061 | C16: 경량철골틀 해체 | E16: ㎡ | F16: 4 | H16: =TRUNC(F16*G16,0) -> 0 | J16: =TRUNC(F16*I16,0) -> 0 | L16: =TRUNC(F16*K16,0) -> 0 | M16: =G16+I16+K16 -> 0 | N16: =H16+J16+L16 -> 0 | T16: 0 | AC16: 1
A17: 010104 | B17: Y2603040062 | C17: 점검구 설치 | D17: 450×450 | E17: 개소 | F17: 1 | H17: =TRUNC(F17*G17,0) -> 0 | J17: =TRUNC(F17*I17,0) -> 0 | L17: =TRUNC(F17*K17,0) -> 0 | M17: =G17+I17+K17 -> 0 | N17: =H17+J17+L17 -> 0 | T17: 0 | AC17: 1
A18: 010104 | B18: Y2603040063 | C18: 실내기 설치 | E18: 대 | F18: 1 | H18: =TRUNC(F18*G18,0) -> 0 | J18: =TRUNC(F18*I18,0) -> 0 | L18: =TRUNC(F18*K18,0) -> 0 | M18: =G18+I18+K18 -> 0 | N18: =H18+J18+L18 -> 0 | T18: 0 | AC18: 1
A19: 010104 | B19: Y2603040064 | C19: 실외기 설치 | D19: 16kW 이하 | E19: 대 | F19: 1 | H19: =TRUNC(F19*G19,0) -> 0 | J19: =TRUNC(F19*I19,0) -> 0 | L19: =TRUNC(F19*K19,0) -> 0 | M19: =G19+I19+K19 -> 0 | N19: =H19+J19+L19 -> 0 | T19: 0 | AC19: 1
A20: 010104 | B20: Y2603040065 | C20: 유선리모컨 설치 | E20: 개 | F20: 1 | H20: =TRUNC(F20*G20,0) -> 0 | J20: =TRUNC(F20*I20,0) -> 0 | L20: =TRUNC(F20*K20,0) -> 0 | M20: =G20+I20+K20 -> 0 | N20: =H20+J20+L20 -> 0 | T20: 0 | AC20: 1
A21: 010104 | B21: Y2603040066 | C21: 동파이프 | D21: 15.88mm×1.02T | E21: M | F21: 64 | H21: =TRUNC(F21*G21,0) -> 0 | J21: =TRUNC(F21*I21,0) -> 0 | L21: =TRUNC(F21*K21,0) -> 0 | M21: =G21+I21+K21 -> 0 | N21: =H21+J21+L21 -> 0 | T21: 0 | AC21: 1
A22: 010104 | B22: Y2603040067 | C22: 동파이프 | D22: 9.52mm×0.8T | E22: M | F22: 64 | H22: =TRUNC(F22*G22,0) -> 0 | J22: =TRUNC(F22*I22,0) -> 0 | L22: =TRUNC(F22*K22,0) -> 0 | M22: =G22+I22+K22 -> 0 | N22: =H22+J22+L22 -> 0 | T22: 0 | AC22: 1
A23: 010104 | B23: Y2603040068 | C23: 동엘보 | D23: 15.88mm | E23: 개 | F23: 5 | H23: =TRUNC(F23*G23,0) -> 0 | J23: =TRUNC(F23*I23,0) -> 0 | L23: =TRUNC(F23*K23,0) -> 0 | M23: =G23+I23+K23 -> 0 | N23: =H23+J23+L23 -> 0 | T23: 0 | AC23: 1
A24: 010104 | B24: Y2603040069 | C24: 동엘보 | D24: 9.52mm | E24: 개 | F24: 5 | H24: =TRUNC(F24*G24,0) -> 0 | J24: =TRUNC(F24*I24,0) -> 0 | L24: =TRUNC(F24*K24,0) -> 0 | M24: =G24+I24+K24 -> 0 | N24: =H24+J24+L24 -> 0 | T24: 0 | AC24: 1
A25: 010104 | B25: Y2603040070 | C25: 동소켓 | D25: 15.88mm | E25: 개 | F25: 6 | H25: =TRUNC(F25*G25,0) -> 0 | J25: =TRUNC(F25*I25,0) -> 0 | L25: =TRUNC(F25*K25,0) -> 0 | M25: =G25+I25+K25 -> 0 | N25: =H25+J25+L25 -> 0 | T25: 0 | AC25: 1
A26: 010104 | B26: Y2603040071 | C26: 동소켓 | D26: 9.52mm | E26: 개 | F26: 6 | H26: =TRUNC(F26*G26,0) -> 0 | J26: =TRUNC(F26*I26,0) -> 0 | L26: =TRUNC(F26*K26,0) -> 0 | M26: =G26+I26+K26 -> 0 | N26: =H26+J26+L26 -> 0 | T26: 0 | AC26: 1
A27: 010104 | B27: Y2603040072 | C27: 동용접 | D27: 15.88mm | E27: 개소 | F27: 22 | H27: =TRUNC(F27*G27,0) -> 0 | J27: =TRUNC(F27*I27,0) -> 0 | L27: =TRUNC(F27*K27,0) -> 0 | M27: =G27+I27+K27 -> 0 | N27: =H27+J27+L27 -> 0 | T27: 0 | AC27: 1
A28: 010104 | B28: Y2603040073 | C28: 동용접 | D28: 9.52mm | E28: 개소 | F28: 22 | H28: =TRUNC(F28*G28,0) -> 0 | J28: =TRUNC(F28*I28,0) -> 0 | L28: =TRUNC(F28*K28,0) -> 0 | M28: =G28+I28+K28 -> 0 | N28: =H28+J28+L28 -> 0 | T28: 0 | AC28: 1
A29: 010104 | B29: Y2603040074 | C29: EPDM 고무발포보온재 | D29: 15.88mm, 13T | E29: M | F29: 64 | H29: =TRUNC(F29*G29,0) -> 0 | J29: =TRUNC(F29*I29,0) -> 0 | L29: =TRUNC(F29*K29,0) -> 0 | M29: =G29+I29+K29 -> 0 | N29: =H29+J29+L29 -> 0 | T29: 0 | AC29: 1
A30: 010104 | B30: Y2603040075 | C30: EPDM 고무발포보온재 | D30: 9.52mm, 9T | E30: M | F30: 64 | H30: =TRUNC(F30*G30,0) -> 0 | J30: =TRUNC(F30*I30,0) -> 0 | L30: =TRUNC(F30*K30,0) -> 0 | M30: =G30+I30+K30 -> 0 | N30: =H30+J30+L30 -> 0 | T30: 0 | AC30: 1
A31: 010104 | B31: Y2603040076 | C31: PVC 파이프 | D31: 25mm×2.8T | E31: M | F31: 8 | H31: =TRUNC(F31*G31,0) -> 0 | J31: =TRUNC(F31*I31,0) -> 0 | L31: =TRUNC(F31*K31,0) -> 0 | M31: =G31+I31+K31 -> 0 | N31: =H31+J31+L31 -> 0 | T31: 0 | AC31: 1
A32: 010104 | B32: Y2603040077 | C32: PVC엘보 | D32: 25mm | E32: 개 | F32: 2 | H32: =TRUNC(F32*G32,0) -> 0 | J32: =TRUNC(F32*I32,0) -> 0 | L32: =TRUNC(F32*K32,0) -> 0 | M32: =G32+I32+K32 -> 0 | N32: =H32+J32+L32 -> 0 | T32: 0 | AC32: 1
... A36: 010104 | B36: Y2603040081 | C36: 파이프 관통부 내화채움 | D36: 100A | E36: 개소 | F36: 2 | H36: =TRUNC(F36*G36,0) -> 0 | J36: =TRUNC(F36*I36,0) -> 0 | L36: =TRUNC(F36*K36,0) -> 0 | M36: =G36+I36+K36 -> 0 | N36: =H36+J36+L36 -> 0 | T36: 0 | AC36: 1
A37: 010104 | B37: Y2603040082 | C37: 기밀시험 | E37: 회 | F37: 1 | H37: =TRUNC(F37*G37,0) -> 0 | J37: =TRUNC(F37*I37,0) -> 0 | L37: =TRUNC(F37*K37,0) -> 0 | M37: =G37+I37+K37 -> 0 | N37: =H37+J37+L37 -> 0 | T37: 0 | AC37: 1
A38: 010104 | B38: Y2603040083 | C38: 냉매 | D38: (R410A) 10KG | E38: 통 | F38: 1 | H38: =TRUNC(F38*G38,0) -> 0 | J38: =TRUNC(F38*I38,0) -> 0 | L38: =TRUNC(F38*K38,0) -> 0 | M38: =G38+I38+K38 -> 0 | N38: =H38+J38+L38 -> 0 | T38: 0 | AC38: 1
A39: 010104 | B39: Y2603040084 | C39: 실내외기 통신선 | D39: VCTF 2C 1.5㎟ | E39: M | F39: 64 | H39: =TRUNC(F39*G39,0) -> 0 | J39: =TRUNC(F39*I39,0) -> 0 | L39: =TRUNC(F39*K39,0) -> 0 | M39: =G39+I39+K39 -> 0 | N39: =H39+J39+L39 -> 0 | T39: 0 | AC39: 1
A40: 010104 | B40: Y2603040085 | C40: 유선리모컨 통신선 | D40: 24# AWG 0.75㎟ | E40: M | F40: 6 | H40: =TRUNC(F40*G40,0) -> 0 | J40: =TRUNC(F40*I40,0) -> 0 | L40: =TRUNC(F40*K40,0) -> 0 | M40: =G40+I40+K40 -> 0 | N40: =H40+J40+L40 -> 0 | T40: 0 | AC40: 1
A41: 010104 | B41: Y2603040086 | C41: 전선관(방수플렉시블) | D41: 16mm | E41: M | F41: 70 | H41: =TRUNC(F41*G41,0) -> 0 | J41: =TRUNC(F41*I41,0) -> 0 | L41: =TRUNC(F41*K41,0) -> 0 | M41: =G41+I41+K41 -> 0 | N41: =H41+J41+L41 -> 0 | T41: 0 | AC41: 1
A42: 010104 | B42: Y2603040087 | C42: 파이프접속콘넥터(방수) | D42: 16mm | E42: 개 | F42: 3 | H42: =TRUNC(F42*G42,0) -> 0 | J42: =TRUNC(F42*I42,0) -> 0 | L42: =TRUNC(F42*K42,0) -> 0 | M42: =G42+I42+K42 -> 0 | N42: =H42+J42+L42 -> 0 | T42: 0 | AC42: 1
A43: 010104 | B43: Y2603040088 | C43: 전원선 결선 해체 | D43: 전동기 결선 11KW이상 | E43: 대 | F43: 1 | H43: =TRUNC(F43*G43,0) -> 0 | J43: =TRUNC(F43*I43,0) -> 0 | L43: =TRUNC(F43*K43,0) -> 0 | M43: =G43+I43+K43 -> 0 | N43: =H43+J43+L43 -> 0 | T43: 0 | AC43: 1
...

Sheet 일위대가목록
A1: 일 위 대 가 목 록
A2: [공사명] 2026년도 냉난방 보수공사(EHP)
A3: 코 드 | B3: 품 명 | C3: 규 격 | D3: 단위 | E3: 재 료 비 | F3: 노 무 비 | G3: 경 비 | H3: 합 계 | I3: 비고
A4: 56940140010 | B4: 동관용접 | C4: D15 | D4: 개소 | E4: =일위대가!H11 -> 0 | F4: =일위대가!J11 -> 0 | G4: =일위대가!L11 -> 0 | H4: =E4+F4+G4 -> 0
A5: 56940140030 | B5: 동관용접 | C5: D25 | D5: 개소 | E5: =일위대가!H20 -> 0 | F5: =일위대가!J20 -> 0 | G5: =일위대가!L20 -> 0 | H5: =E5+F5+G5 -> 0
A6: 56940520010 | B6: 절연행가(달대볼트) | C6: D15 | D6: 개소 | E6: =일위대가!H26 -> 0 | F6: =일위대가!J26 -> 0 | G6: =일위대가!L26 -> 0 | H6: =E6+F6+G6 -> 0
A7: 56940840100 | B7: 아티론보온 | C7: 5TxD15 | D7: M | E7: =일위대가!H35 -> 0 | F7: =일위대가!J35 -> 0 | G7: =일위대가!L35 -> 0 | H7: =E7+F7+G7 -> 0
A8: 56940850181 | B8: 관보온(고무발포,동관용) | C8: 25TxD15 | D8: M | E8: =일위대가!H44 -> 0 | F8: =일위대가!J44 -> 0 | G8: =일위대가!L44 -> 0 | H8: =E8+F8+G8 -> 0
A9: 56941310210 | B9: 각형닥트 설치 | C9: (0.5T) | D9: M2 | E9: =일위대가!H52 -> 0 | F9: =일위대가!J52 -> 0 | G9: =일위대가!L52 -> 0 | H9: =E9+F9+G9 -> 0
A10: 56941820071 | B10: 동및동합금관 | C10: 동관(L-TYPE),D15 | D10: M | E10: =일위대가!H60 -> 0 | F10: =일위대가!J60 -> 0 | G10: =일위대가!L60 -> 0 | H10: =E10+F10+G10 -> 0
A11: 56941840011 | B11: 볼밸브(황동) | C11: D 15 | D11: EA | E11: =일위대가!H66 -> 0 | F11: =일위대가!J66 -> 0 | G11: =일위대가!L66 -> 0 | H11: =E11+F11+G11 -> 0
A12: 56941890001 | B12: 점검구설치 | C12: 200x200 | D12: 개소 | E12: =일위대가!H72 -> 0 | F12: =일위대가!J72 -> 0 | G12: =일위대가!L72 -> 0 | H12: =E12+F12+G12 -> 0
A13: 56941890035 | B13: 후렉시블덕트호스(비보온) | C13: D200 | D13: M | E13: =일위대가!H78 -> 0 | F13: =일위대가!J78 -> 0 | G13: =일위대가!L78 -> 0 | H13: =E13+F13+G13 -> 0
A14: 56942000220 | B14: 코아드릴(바닥)(150mm) | C14: D15 | D14: 개소 | E14: =일위대가!H84 -> 0 | F14: =일위대가!J84 -> 0 | G14: =일위대가!L84 -> 0 | H14: =E14+F14+G14 -> 0
A15: 56958000003 | B15: 디퓨저 | C15: 사각PAN, D200, AL | D15: EA | E15: =일위대가!H90 -> 0 | F15: =일위대가!J90 -> 0 | G15: =일위대가!L90 -> 0 | H15: =E15+F15+G15 -> 0
A16: 56958000016 | B16: B.D.D (STL) | C16: 400 x 250 | D16: EA | E16: =일위대가!H96 -> 0 | F16: =일위대가!J96 -> 0 | G16: =일위대가!L96 -> 0 | H16: =E16+F16+G16 -> 0
A17: 56958000017 | B17: F-1인라인팬 | C17: 2,100CMH*27MMAQ*0.75KW | D17: 대 | E17: =일위대가!H103 -> 0 | F17: =일위대가!J103 -> 0 | G17: =일위대가!L103 -> 0 | H17: =E17+F17+G17 -> 0
A18: 56958000018 | B18: F.D (STL) | C18: 400 x 250 | D18: EA | E18: =일위대가!H109 -> 0 | F18: =일위대가!J109 -> 0 | G18: =일위대가!L109 -> 0 | H18: =E18+F18+G18 -> 0
A30: End Of File(Ver 6.0)
A31: 마지막열은 지우지 마시오

Sheet 일위대가
A1: [공사명] 2026년도 냉난방 보수공사(EHP)
A2: 일위대가 | B2: 자재코드 | C2: 품 명 | D2: 규 격 | E2: 단위 | F2: 수량 | G2: 재 료 비 | I2: 노 무 비 | K2: 경 비 | M2: 합 계 | O2: 비고
G3: 단가 | H3: 금액 | I3: 단가 | J3: 금액 | K3: 단가 | L3: 금액 | M3: 단가 | N3: 금액
C4: 56940140010 동관용접 D15 개소
A5: 56940140010 | B5: 34390787072 | C5: 동 및 동합금용 용접봉 | D5: D2.4mm, BCUP3 | E5: g | F5: 1.2 | G5: =단가대비표!O6 -> 0 | H5: =TRUNC(F5*G5,1) -> 0 | I5: 0 | J5: =TRUNC(F5*I5,1) -> 0 | K5: 0 | L5: =TRUNC(F5*K5,1) -> 0 | M5: =TRUNC(G5+I5+K5,1) -> 0 | N5: =TRUNC(H5+J5+L5,1) -> 0 | R5: 0 | S5: 0 | T5: 0 | AC5: 1
A6: 56940140010 | B6: 34390457005 | C6: 용접용 용재 | D6: 플럭스(FLUX) | E6: g | F6: 0.15 | G6: =단가대비표!O5 -> 0 | H6: =TRUNC(F6*G6,1) -> 0 | I6: 0 | J6: =TRUNC(F6*I6,1) -> 0 | K6: 0 | L6: =TRUNC(F6*K6,1) -> 0 | M6: =TRUNC(G6+I6+K6,1) -> 0 | N6: =TRUNC(H6+J6+L6,1) -> 0 | R6: 0 | S6: 0 | T6: 0 | AC6: 1
A7: 56940140010 | B7: 68300057015 | C7: 산소 가스 | D7: 기체,공업용 99.9% | E7: L | F7: 7.5 | G7: =단가대비표!O38 -> 0 | H7: =TRUNC(F7*G7,1) -> 0 | I7: 0 | J7: =TRUNC(F7*I7,1) -> 0 | K7: 0 | L7: =TRUNC(F7*K7,1) -> 0 | M7: =TRUNC(G7+I7+K7,1) -> 0 | N7: =TRUNC(H7+J7+L7,1) -> 0 | R7: 0 | S7: 0 | T7: 0 | AC7: 1
A8: 56940140010 | B8: 68300067011 | C8: 아세틸렌 가스 | D8: 아세틸렌(g) | E8: G | F8: 8 | G8: =단가대비표!O39 -> 0 | H8: =TRUNC(F8*G8,1) -> 0 | I8: 0 | J8: =TRUNC(F8*I8,1) -> 0 | K8: 0 | L8: =TRUNC(F8*K8,1) -> 0 | M8: =TRUNC(G8+I8+K8,1) -> 0 | N8: =TRUNC(H8+J8+L8,1) -> 0 | R8: 0 | S8: 0 | T8: 0 | AC8: 1
A9: 56940140010 | B9: 56900017056 | C9: 노무비 | D9: 용접공 | E9: 인 | F9: 0.022 | G9: 0 | H9: =TRUNC(F9*G9,1) -> 0 | I9: =단가대비표!O36 -> 0 | J9: =TRUNC(F9*I9,1) -> 0 | K9: 0 | L9: =TRUNC(F9*K9,1) -> 0 | M9: =TRUNC(G9+I9+K9,1) -> 0 | N9: =TRUNC(H9+J9+L9,1) -> 0 | R9: 0 | S9: 0 | T9: 0 | W9: 3 | AC9: 1
A10: 56940140010 | B10: PPS00000003 | C10: 공구손료 | D10: 노무비의 3% | E10: 식 | F10: 1 | G10: =ROUNDDOWN(SUMIF(W5:W10, RIGHTB(B10, 1), J5:J10)*T10, 2) -> 0 | H10: =TRUNC(F10*G10,1) -> 0 | I10: 0 | J10: =TRUNC(F10*I10,1) -> 0 | K10: 0 | L10: =TRUNC(F10*K10,1) -> 0 | M10: =TRUNC(G10+I10+K10,1) -> 0 | N10: =TRUNC(H10+J10+L10,1) -> 0 | P10: 10 | R10: 1 | S10: 0 | T10: 0.03 | AC10: 1
C11: [ 합 계 ] | H11: =ROUNDDOWN(SUMIF(AC5:AC10, 1, H5:H10), 0) -> 0 | J11: =ROUNDDOWN(SUMIF(AC5:AC10, 1, J5:J10), 0) -> 0 | L11: =ROUNDDOWN(SUMIF(AC5:AC10, 1, L5:L10), 0) -> 0 | N11: =H11+J11+L11 -> 0
C13: 56940140030 동관용접 D25 개소
A14: 56940140030 | B14: 34390787072 | C14: 동 및 동합금용 용접봉 | D14: D2.4mm, BCUP3 | E14: g | F14: 4 | G14: =단가대비표!O6 -> 0 | H14: =TRUNC(F14*G14,1) -> 0 | I14: 0 | J14: =TRUNC(F14*I14,1) -> 0 | K14: 0 | L14: =TRUNC(F14*K14,1) -> 0 | M14: =TRUNC(G14+I14+K14,1) -> 0 | N14: =TRUNC(H14+J14+L14,1) -> 0 | R14: 0 | S14: 0 | T14: 0 | AC14: 1
A15: 56940140030 | B15: 34390457005 | C15: 용접용 용재 | D15: 플럭스(FLUX) | E15: g | F15: 0.49 | G15: =단가대비표!O5 -> 0 | H15: =TRUNC(F15*G15,1) -> 0 | I15: 0 | J15: =TRUNC(F15*I15,1) -> 0 | K15: 0 | L15: =TRUNC(F15*K15,1) -> 0 | M15: =TRUNC(G15+I15+K15,1) -> 0 | N15: =TRUNC(H15+J15+L15,1) -> 0 | R15: 0 | S15: 0 | T15: 0 | AC15: 1
A16: 56940140030 | B16: 68300057015 | C16: 산소 가스 | D16: 기체,공업용 99.9% | E16: L | F16: 19 | G16: =단가대비표!O38 -> 0 | H16: =TRUNC(F16*G16,1) -> 0 | I16: 0 | J16: =TRUNC(F16*I16,1) -> 0 | K16: 0 | L16: =TRUNC(F16*K16,1) -> 0 | M16: =TRUNC(G16+I16+K16,1) -> 0 | N16: =TRUNC(H16+J16+L16,1) -> 0 | R16: 0 | S16: 0 | T16: 0 | AC16: 1
A17: 56940140030 | B17: 68300067011 | C17: 아세틸렌 가스 | D17: 아세틸렌(g) | E17: G | F17: 20.2 | G17: =단가대비표!O39 -> 0 | H17: =TRUNC(F17*G17,1) -> 0 | I17: 0 | J17: =TRUNC(F17*I17,1) -> 0 | K17: 0 | L17: =TRUNC(F17*K17,1) -> 0 | M17: =TRUNC(G17+I17+K17,1) -> 0 | N17: =TRUNC(H17+J17+L17,1) -> 0 | R17: 0 | S17: 0 | T17: 0 | AC17: 1
A18: 56940140030 | B18: 56900017056 | C18: 노무비 | D18: 용접공 | E18: 인 | F18: 0.038 | G18: 0 | H18: =TRUNC(F18*G18,1) -> 0 | I18: =단가대비표!O36 -> 0 | J18: =TRUNC(F18*I18,1) -> 0 | K18: 0 | L18: =TRUNC(F18*K18,1) -> 0 | M18: =TRUNC(G18+I18+K18,1) -> 0 | N18: =TRUNC(H18+J18+L18,1) -> 0 | R18: 0 | S18: 0 | T18: 0 | W18: 3 | AC18: 1
A19: 56940140030 | B19: PPS00000003 | C19: 공구손료 | D19: 노무비의 3% | E19: 식 | F19: 1 | G19: =ROUNDDOWN(SUMIF(W14:W19, RIGHTB(B19, 1), J14:J19)*T19, 2) -> 0 | H19: =TRUNC(F19*G19,1) -> 0 | I19: 0 | J19: =TRUNC(F19*I19,1) -> 0 | K19: 0 | L19: =TRUNC(F19*K19,1) -> 0 | M19: =TRUNC(G19+I19+K19,1) -> 0 | N19: =TRUNC(H19+J19+L19,1) -> 0 | P19: 19 | R19: 1 | S19: 0 | T19: 0.03 | AC19: 1
C20: [ 합 계 ] | H20: =ROUNDDOWN(SUMIF(AC14:AC19, 1, H14:H19), 0) -> 0 | J20: =ROUNDDOWN(SUMIF(AC14:AC19, 1, J14:J19), 0) -> 0 | L20: =ROUNDDOWN(SUMIF(AC14:AC19, 1, L14:L19), 0) -> 0 | N20: =H20+J20+L20 -> 0
C22: 56940520010 절연행가(달대볼트) D15 개소
A23: 56940520010 | B23: 53400537033 | C23: 행거 | D23: 절연행거 15A | E23: EA | F23: 1 | G23: =단가대비표!O29 -> 0 | H23: =TRUNC(F23*G23,1) -> 0 | I23: 0 | J23: =TRUNC(F23*I23,1) -> 0 | K23: 0 | L23: =TRUNC(F23*K23,1) -> 0 | M23: =TRUNC(G23+I23+K23,1) -> 0 | N23: =TRUNC(H23+J23+L23,1) -> 0 | R23: 0 | S23: 0 | T23: 0 | AC23: 1
A24: 56940520010 | B24: 53060328101 | C24: 행거볼트 | D24: 아연도금, M10×1000 | E24: EA | F24: 1 | G24: =단가대비표!O23 -> 0 | H24: =TRUNC(F24*G24,1) -> 0 | I24: 0 | J24: =TRUNC(F24*I24,1) -> 0 | K24: 0 | L24: =TRUNC(F24*K24,1) -> 0 | M24: =TRUNC(G24+I24+K24,1) -> 0 | N24: =TRUNC(H24+J24+L24,1) -> 0 | R24: 0 | S24: 0 | T24: 0 | AC24: 1
A25: 56940520010 | B25: 53060807023 | C25: 스트롱앵커 | D25: M10(3/8") | E25: EA | F25: 1 | G25: =단가대비표!O24 -> 0 | H25: =TRUNC(F25*G25,1) -> 0 | I25: 0 | J25: =TRUNC(F25*I25,1) -> 0 | K25: 0 | L25: =TRUNC(F25*K25,1) -> 0 | M25: =TRUNC(G25+I25+K25,1) -> 0 | N25: =TRUNC(H25+J25+L25,1) -> 0 | R25: 0 | S25: 0 | T25: 0 | AC25: 1
C26: [ 합 계 ] | H26: =ROUNDDOWN(SUMIF(AC23:AC25, 1, H23:H25), 0) -> 0 | J26: =ROUNDDOWN(SUMIF(AC23:AC25, 1, J23:J25), 0) -> 0 | L26: =ROUNDDOWN(SUMIF(AC23:AC25, 1, L23:L25), 0) -> 0 | N26: =H26+J26+L26 -> 0
C28: 56940840100 아티론보온 5TxD15 M
A29: 56940840100 | B29: 45400077351 | C29: 관보온재 | D29: 아티론(난연AL), 5TxD15 | E29: M | F29: 1.05 | G29: =단가대비표!O12 -> 0 | H29: =TRUNC(F29*G29,1) -> 0 | I29: 0 | J29: =TRUNC(F29*I29,1) -> 0 | K29: 0 | L29: =TRUNC(F29*K29,1) -> 0 | M29: =TRUNC(G29+I29+K29,1) -> 0 | N29: =TRUNC(H29+J29+L29,1) -> 0 | R29: 0 | S29: 0 | T29: 0 | V29: 2 | AC29: 1
A30: 56940840100 | B30: PPS00000002 | C30: 잡재료비 | D30: 보온재의 3% | E30: 식 | F30: 1 | G30: =ROUNDDOWN(SUMIF(V29:V34, RIGHTB(B30, 1), H29:H34)*T30, 2) -> 0 | H30: =TRUNC(F30*G30,1) -> 0 | I30: 0 | J30: =TRUNC(F30*I30,1) -> 0 | K30: 0 | L30: =TRUNC(F30*K30,1) -> 0 | M30: =TRUNC(G30+I30+K30,1) -> 0 | N30: =TRUNC(H30+J30+L30,1) -> 0 | P30: 30 | R30: 0 | S30: 0 | T30: 0.03 | AC30: 1
A31: 56940840100 | B31: 53300527130 | C31: 은박테이프 | D31: 0.3T*25W | E31: M | F31: 1.2 | G31: =단가대비표!O26 -> 0 | H31: =TRUNC(F31*G31,1) -> 0 | I31: 0 | J31: =TRUNC(F31*I31,1) -> 0 | K31: 0 | L31: =TRUNC(F31*K31,1) -> 0 | M31: =TRUNC(G31+I31+K31,1) -> 0 | N31: =TRUNC(H31+J31+L31,1) -> 0 | R31: 0 | S31: 0 | T31: 0 | AC31: 1
A32: 56940840100 | B32: 56900017038 | C32: 노무비 | D32: 보온공 | E32: 인 | F32: 0.016 | G32: 0 | H32: =TRUNC(F32*G32,1) -> 0 | I32: =단가대비표!O34 -> 0 | J32: =TRUNC(F32*I32,1) -> 0 | K32: 0 | L32: =TRUNC(F32*K32,1) -> 0 | M32: =TRUNC(G32+I32+K32,1) -> 0 | N32: =TRUNC(H32+J32+L32,1) -> 0 | R32: 0 | S32: 0 | T32: 0 | W32: 3 | AC32: 1
A33: 56940840100 | B33: 56900017041 | C33: 노무비 | D33: 보통인부 | E33: 인 | F33: 0.008 | G33: 0 | H33: =TRUNC(F33*G33,1) -> 0 | I33: =단가대비표!O35 -> 0 | J33: =TRUNC(F33*I33,1) -> 0 | K33: 0 | L33: =TRUNC(F33*K33,1) -> 0 | M33: =TRUNC(G33+I33+K33,1) -> 0 | N33: =TRUNC(H33+J33+L33,1) -> 0 | R33: 0 | S33: 0 | T33: 0 | W33: 3 | AC33: 1
A34: 56940840100 | B34: PPS00000003 | C34: 공구손료 | D34: 노무비의 2% | E34: 식 | F34: 1 | G34: =ROUNDDOWN(SUMIF(W29:W34, RIGHTB(B34, 1), J29:J34)*T34, 2) -> 0 | H34: =TRUNC(F34*G34,1) -> 0 | I34: 0 | J34: =TRUNC(F34*I34,1) -> 0 | K34: 0 | L34: =TRUNC(F34*K34,1) -> 0 | M34: =TRUNC(G34+I34+K34,1) -> 0 | N34: =TRUNC(H34+J34+L34,1) -> 0 | P34: 34 | R34: 1 | S34: 0 | T34: 0.02 | AC34: 1
C35: [ 합 계 ] | H35: =ROUNDDOWN(SUMIF(AC29:AC34, 1, H29:H34), 0) -> 0 | J35: =ROUNDDOWN(SUMIF(AC29:AC34, 1, J29:J34), 0) -> 0 | L35: =ROUNDDOWN(SUMIF(AC29:AC34, 1, L29:L34), 0) -> 0 | N35: =H35+J35+L35 -> 0
C37: 56940850181 관보온(고무발포,동관용) 25TxD15 M
A38: 56940850181 | B38: 45400167101 | C38: 고무발포 보온재 (동관용) | D38: 고무발포보온재,D15×25T | E38: M | F38: 1.05 | G38: =단가대비표!O13 -> 0 | H38: =TRUNC(F38*G38,1) -> 0 | I38: 0 | J38: =TRUNC(F38*I38,1) -> 0 | K38: 0 | L38: =TRUNC(F38*K38,1) -> 0 | M38: =TRUNC(G38+I38+K38,1) -> 0 | N38: =TRUNC(H38+J38+L38,1) -> 0 | R38: 0 | S38: 0 | T38: 0 | V38: 2 | AC38: 1
A39: 56940850181 | B39: PPS00000002 | C39: 잡재료비 | D39: 보온재의 3% | E39: 식 | F39: 1 | G39: =ROUNDDOWN(SUMIF(V38:V43, RIGHTB(B39, 1), H38:H43)*T39, 2) -> 0 | H39: =TRUNC(F39*G39,1) -> 0 | I39: 0 | J39: =TRUNC(F39*I39,1) -> 0 | K39: 0 | L39: =TRUNC(F39*K39,1) -> 0 | M39: =TRUNC(G39+I39+K39,1) -> 0 | N39: =TRUNC(H39+J39+L39,1) -> 0 | P39: 39 | R39: 0 | S39: 0 | T39: 0.03 | AC39: 1
A40: 56940850181 | B40: 53300527126 | C40: 본드(고무발포용) | E40: KG | F40: 0.015 | G40: =단가대비표!O25 -> 0 | H40: =TRUNC(F40*G40,1) -> 0 | I40: 0 | J40: =TRUNC(F40*I40,1) -> 0 | K40: 0 | L40: =TRUNC(F40*K40,1) -> 0 | M40: =TRUNC(G40+I40+K40,1) -> 0 | N40: =TRUNC(H40+J40+L40,1) -> 0 | R40: 0 | S40: 0 | T40: 0 | AC40: 1
A41: 56940850181 | B41: 56900017038 | C41: 노무비 | D41: 보온공 | E41: 인 | F41: 0.023 | G41: 0 | H41: =TRUNC(F41*G41,1) -> 0 | I41: =단가대비표!O34 -> 0 | J41: =TRUNC(F41*I41,1) -> 0 | K41: 0 | L41: =TRUNC(F41*K41,1) -> 0 | M41: =TRUNC(G41+I41+K41,1) -> 0 | N41: =TRUNC(H41+J41+L41,1) -> 0 | R41: 0 | S41: 0 | T41: 0 | W41: 3 | AC41: 1
A42: 56940850181 | B42: 56900017041 | C42: 노무비 | D42: 보통인부 | E42: 인 | F42: 0.012 | G42: 0 | H42: =TRUNC(F42*G42,1) -> 0 | I42: =단가대비표!O35 -> 0 | J42: =TRUNC(F42*I42,1) -> 0 | K42: 0 | L42: =TRUNC(F42*K42,1) -> 0 | M42: =TRUNC(G42+I42+K42,1) -> 0 | N42: =TRUNC(H42+J42+L42,1) -> 0 | R42: 1 | S42: 0 | T42: 0.03 | W42: 3 | AC42: 1
A43: 56940850181 | B43: PPS00000003 | C43: 공구손료 | D43: 노무비의 2% | E43: 식 | F43: 1 | G43: =ROUNDDOWN(SUMIF(W38:W43, RIGHTB(B43, 1), J38:J43)*T43, 2) -> 0 | H43: =TRUNC(F43*G43,1) -> 0 | I43: 0 | J43: =TRUNC(F43*I43,1) -> 0 | K43: 0 | L43: =TRUNC(F43*K43,1) -> 0 | M43: =TRUNC(G43+I43+K43,1) -> 0 | N43: =TRUNC(H43+J43+L43,1) -> 0 | P43: 43 | R43: 1 | S43: 0 | T43: 0.02 | AC43: 1
C44: [ 합 계 ] | H44: =ROUNDDOWN(SUMIF(AC38:AC43, 1, H38:H43), 0) -> 0 | J44: =ROUNDDOWN(SUMIF(AC38:AC43, 1, J38:J43), 0) -> 0 | L44: =ROUNDDOWN(SUMIF(AC38:AC43, 1, L38:L43), 0) -> 0 | N44: =H44+J44+L44 -> 0
...

Sheet 단가대비표
A1: 단 가 대 비 표
A2: [공사명] 2026년도 냉난방 보수공사(EHP)
A3: 코 드 | B3: 품 명 | C3: 규 격 | D3: 단위 | E3: 가격정보 | G3: 물가자료 | I3: 물가정보 | K3: 거래가격 | M3: 조사가격 | O3: 적 용 단 가 | P3: 비고
E4: 단가 | F4: Page | G4: 단가 | H4: Page | I4: 단가 | J4: Page | K4: 단가 | L4: Page | M4: 단가 | N4: Page
A5: 34390457005 | B5: 용접용 용재 | C5: 플럭스(FLUX) | D5: g | R5: 1
A6: 34390787072 | B6: 동 및 동합금용 용접봉 | C6: D2.4mm, BCUP3 | D6: g | R6: 1
A7: 36940227001 | B7: 점검구 | C7: 200x200 | D7: EA | R7: 1
A8: 36940227015 | B8: FD/FVD 휴즈 | D8: EA | R8: 1
A9: 41300247423 | B9: 디퓨져 | C9: 사각PAN, D200, AL | D9: EA | R9: 1
A10: 41400227422 | B10: 공조덕트(플렉시블) | C10: (AL비보온), D200 | D10: M | R10: 1
A11: 41400237010 | B11: 캔버스 | C11: 1.2t | D11: M2 | R11: 1
A12: 45400077351 | B12: 관보온재 | C12: 아티론(난연AL), 5TxD15 | D12: M | R12: 1
A13: 45400167101 | B13: 고무발포 보온재 (동관용) | C13: 고무발포보온재,D15×25T | D13: M | R13: 1
A14: 47100047101 | B14: 동및동합금관 | C14: 동관(L-TYPE),D15 | D14: M | R14: 1
A15: 47301017311 | B15: 동관이음쇠 | C15: 동땜티이 (C*F) D15 | D15: EA | R15: 1
A16: 47301017321 | B16: 동관이음쇠 | C16: 황동아답타 (C*M) D15 | D16: EA | R16: 1
A17: 47301018301 | B17: 동관이음쇠 | C17: 동엘보 D15 | D17: EA | R17: 1
A18: 47301018373 | B18: 동관이음쇠 | C18: 동티이 D25 | D18: EA | R18: 1
A19: 47301018451 | B19: 동관이음쇠 | C19: 동캡 D15 | D19: EA | R19: 1
A20: 47301018487 | B20: 동관이음쇠 | C20: 동유니온 (C*M) D15 | D20: EA | R20: 1
... A24: 53060807023 | B24: 스트롱앵커 | C24: M10(3/8") | D24: EA | R24: 1
A25: 53300527126 | B25: 본드(고무발포용) | D25: KG | R25: 1
A26: 53300527130 | B26: 은박테이프 | C26: 0.3T*25W | D26: M | R26: 1
A27: 53300527216 | B27: 스텐밴드 | C27: D200 | D27: EA | R27: 1
A28: 53300537013 | B28: SPIN IN | C28: D200 | D28: EA | R28: 1
A29: 53400537033 | B29: 행거 | C29: 절연행거 15A | D29: EA | R29: 1
A30: 56810023005 | B30: 내화채움구조(덕트,벽체) | D30: M | R30: 1
A31: 56900017015 | B31: 노무비 | C31: 기계설비공 | D31: 인 | R31: 2
A32: 56900017019 | B32: 노무비 | C32: 덕트공 | D32: 인 | R32: 2
A33: 56900017030 | B33: 노무비 | C33: 배관공 | D33: 인 | R33: 2
A34: 56900017038 | B34: 노무비 | C34: 보온공 | D34: 인 | R34: 2
A35: 56900017041 | B35: 노무비 | C35: 보통인부 | D35: 인 | R35: 2
A36: 56900017056 | B36: 노무비 | C36: 용접공 | D36: 인 | R36: 2
A37: 56900017098 | B37: 노무비 | C37: 착암공 | D37: 인 | R37: 2
A38: 68300057015 | B38: 산소 가스 | C38: 기체,공업용 99.9% | D38: L | R38: 1
A39: 68300067011 | B39: 아세틸렌 가스 | C39: 아세틸렌(g) | D39: G | R39: 1
A40: MM052170113 | B40: F-1인라인팬 | C40: 2,100CMH*27MMAQ*0.75KW | D40: 대 | R40: 1
A41: MM052600542 | B41: B.D.D (STL) | C41: 400 x 250 | D41: EA | R41: 1
A42: MM052600543 | B42: F.D (STL) | C42: 400 x 250 | D42: EA | R42: 1
A43: Y2603040001 | B43: 01. 지하1층 주방 스탠드형냉방 | R43: 1
...
