Workbook

Sheet 원가계산서
A1: 공 사 원 가 계 산 서
A2: 공사명 : 일산병원 수술실 시설환경개선공사
A3: 구 분 비 목 | D3: 구 성 비 | E3: 금 액 | F3: 비 고
A5: 순 공 사 원 가 | B5: 재료비 | C5: 직 접 재 료 비 | E5: =ROUNDDOWN(집계표!E20-집계표!AU20,0) -> 0 | G5: A1 | H5: 0 | I5: =E5 -> 0
C6: 간 접 재 료 비 | E6: =ROUNDDOWN(E5*H6,0) -> 0 | G6: A2 | H6: 0 | I6: =E6 -> 0
C7: 작업설.부산물 등(△) | E7: =집계표!S20 -> 0 | G7: A3 | H7: 0 | I7: =E7 -> 0
C8: 소 계 | E8: =SUM(E5:E6)-ABS(E7) -> 0 | G8: A | H8: 0 | I8: =E8 -> 0
B9: 노무비 | C9: 직 접 노 무 비 | E9: =ROUNDDOWN(집계표!G20,0) -> 0 | G9: B1 | H9: 0 | I9: =E9 -> 0
C10: 간 접 노 무 비 | D10: ="직.노*"&H10*100&"%" -> 직.노*17.5% | E10: =ROUNDDOWN(E9*H10,0) -> 0 | G10: B2 | H10: 0.175 | I10: =E10 -> 0
C11: 소 계 | E11: =SUM(E9:E10) -> 0 | G11: B | H11: 0 | I11: =E11 -> 0
B12: 경 비 | C12: 기 계 경 비 | E12: =ROUNDDOWN(집계표!I20,0) -> 0 | G12: C4 | H12: 0 | I12: =E12 -> 0
C13: 산 재 보 험 료 | D13: ="(노)*"&H13*100&"%" -> (노)*3.56% | E13: =ROUNDDOWN((E11)*H13,0) -> 0 | G13: C10 | H13: 0.0356 | I13: =E13 -> 0
C14: 고 용 보 험 료 | D14: ="(노)*"&H14*100&"%" -> (노)*1.01% | E14: =ROUNDDOWN((E11)*H14,0) -> 0 | G14: C11 | H14: 0.0101 | I14: =E14 -> 0
C15: 건 강 보 험 료 | D15: ="(직.노)*"&H15*100&"%" -> (직.노)*3.595% | E15: =ROUNDDOWN((E9)*H15,0) -> 0 | G15: C12 | H15: 0.03595 | I15: =E15 -> 0
C16: 연 금 보 험 료 | D16: ="(직.노)*"&H16*100&"%" -> (직.노)*4.75% | E16: =ROUNDDOWN((E9)*H16,0) -> 0 | G16: C13 | H16: 0.0475 | I16: =E16 -> 0
C17: 노인 장기 요양보험료 | D17: ="(건강보험료)*"&H17*100&"%" -> (건강보험료)*13.14% | E17: =ROUNDDOWN((E15)*H17,0) -> 0 | G17: C14 | H17: 0.1314 | I17: =E17 -> 0
C18: 퇴 직 공 제 부 금 비 | D18: ="(직.노)*"&H18*100&"%" -> (직.노)*2.3% | E18: =ROUNDDOWN((E9)*H18,0) -> 0 | G18: C15 | H18: 0.023 | I18: =E18 -> 0
C19: 산업 안전 보건관리비 | D19: ="(재+직.노+(관급-0)/1.1)*"&H19*100&"%"&" < (재+직.노)*3.11%*1.2" -> (재+직.노+(관급-0)/1.1)*3.11% < (재+직.노)*3.11%*1.2 | E19: =ROUNDDOWN((E8+E9+(E39-0)/1.1)*H19,0) -> 0 | F19: 3,421,821 < 4,106,185 | G19: C16 | H19: 0.0311 | I19: =E19 -> 0
C20: 기 타 경 비 | D20: ="(재+노)*"&H20*100&"%" -> (재+노)*5% | E20: =ROUNDDOWN((E8+E11)*H20,0) -> 0 | G20: C20 | H20: 0.05 | I20: =E20 -> 0
C21: 환 경 보 전 비 | D21: ="(재+직.노+기.경)*"&H21*100&"%" -> (재+직.노+기.경)*0.3% | E21: =ROUNDDOWN((E8+E9+E12)*H21,0) -> 0 | G21: C25 | H21: 0.003 | I21: =E21 -> 0
C22: 건설하도급보증수수료 | D22: ="(재+직.노+기.경)*"&H22*100&"%" -> (재+직.노+기.경)*0.081% | E22: =ROUNDDOWN((E8+E9+E12)*H22,0) -> 0 | G22: C30 | H22: 0.00081 | I22: =E22 -> 0
C23: 공사 이행 보증수수료 | D23: ="(재+직.노+기.경)*"&H23*100&"%"&"*(6/12)" -> (재+직.노+기.경)*0.0108%*(6/12) | E23: =ROUNDDOWN((E8+E9+E12)*H23*(6/12),0) -> 0 | G23: C31 | H23: 0.000108 | I23: =E23 -> 0
C24: 건설기계대여보증수수료 | D24: ="(재+직.노+기.경)*"&H24*100&"%" -> (재+직.노+기.경)*0.07% | E24: =ROUNDDOWN((E8+E9+E12)*H24,0) -> 0 | G24: C32 | H24: 0.0007 | I24: =E24 -> 0
C25: 안 전 관 리 비 | E25: =집계표!AD20 -> 0 | G25: C17 | H25: 0 | I25: =E25 -> 0
C26: 품 질 관 리 비 | E26: =집계표!AE20 -> 0 | G26: C18 | H26: 0 | I26: =E26 -> 0
C27: 임금채권부담금 | D27: ="(노)*"&H27*100&"%" -> (노)*0.09% | E27: =ROUNDDOWN((E11)*H27,0) -> 0 | G27: C34 | H27: 0.0009 | I27: =E27 -> 0
C28: 석면분담금 | D28: ="(노)*"&H28*100&"%" -> (노)*0.006% | E28: =ROUNDDOWN((E11)*H28,0) -> 0 | G28: C33 | H28: 6e-05 | I28: =E28 -> 0
C29: 소 계 | E29: =SUM(E12:E28) -> 0 | G29: C | H29: 0 | I29: =E29 -> 0
B30: 계 | E30: =E8+E11+E29 -> 0 | G30: X | H30: 0 | I30: =E30 -> 0
A31: 일 반 관 리 비 | D31: ="(재+노+경)*"&H31*100&"%" -> (재+노+경)*8% | E31: =ROUNDDOWN((E8+E11+E29)*H31,0) -> 0 | G31: D | H31: 0.08 | I31: =E31 -> 0
A32: 작업설.부산물 등(△) | E32: =ROUNDDOWN(집계표!AF20,0) -> 0 | G32: M2 | H32: 0 | I32: =E32 -> 0
A33: 이 윤 | D33: ="(노+경+일)*"&H33*100&"%" -> (노+경+일)*15% | E33: =ROUNDDOWN((E11+E29+E31)*H33,0) -> 0 | G33: E | H33: 0.15 | I33: =(I11+I29+I31)*H33 -> 0
A34: 폐 기 물 처 리 비 | E34: =ROUNDDOWN(집계표!W20,0) -> 0 | G34: L | H34: 0 | I34: =E34 -> 0
A35: 총 원 가 | E35: =SUM(E30:E34) -> 0 | G35: F | H35: 0 | I35: =SUM(I30:I34) -> 0
A36: 부 가 가 치 세 | D36: ="(총원가)*"&H36*100&"%" -> (총원가)*10% | E36: =ROUNDDOWN(((E37)/110)*10,0)+J36 -> 0 | G36: H | H36: 0.1 | I36: =ROUNDDOWN((I35)*H36,0)+24 -> 24
A37: 도 급 금 액 | E37: =INT(I37/1000)*1000 -> 0 | G37: Y | H37: 0 | I37: =I35+I36 -> 24
A38: 재해예방기술지도비 | E38: =집계표!AG20 -> 0 | G38: M3 | H38: 0 | I38: =E38 -> 0
A39: 관 급 자 재 대 | E39: =집계표!AA20 -> 0 | G39: J | H39: 0 | I39: =E39 -> 0
A40: 사 급 자 재 대 | E40: =집계표!Z20 -> 0 | G40: K | H40: 0 | I40: =E40 -> 0
A41: 총 공 사 금 액 | E41: =ROUNDDOWN(E37+E38+E39+E40,0) -> 0 | H41: 0 | I41: =I37+I38+I39+I40 -> 24

Sheet 집계표
A1: 공 사 집 계 표
A2: 공사명 : 일산병원 수술실 시설환경개선공사
A3: 품 명 | B3: 단위 | C3: 수량 | D3: 재 료 비 | F3: 노 무 비 | H3: 경 비 | J3: 합 계 | L3: 비고
D4: 단 가 | E4: 금 액 | F4: 단 가 | G4: 금 액 | H4: 단 가 | I4: 금 액 | J4: 단 가 | K4: 금 액 | M4: 손료요율 | N4: 손료구분 | O4: 적용구분 | P4: 합계구분 | Q4: 기계경비 | R4: 운반비 | S4: 작업부산물 | T4: 관급 | U4: 외주비 | V4: 장비비 | W4: 폐기물처리비 | X4: 가설비 | Y4: 잡비제외분 | Z4: 사급자재대 | AA4: 관급자재대 | AB4: 사용자항목1 | AC4: 사용자항목2 | AD4: 안전관리비 | AE4: 품질관리비 | AF4: 작업부산물(철거해체) | AG4: 재해예방기술지도비 | AH4: 사용자항목7 | AI4: 석면분담금 | AJ4: 임금채권부담금 | AK4: 사용자항목10 | AL4: 사용자항목11 | AM4: 사용자항목12 | AN4: 사용자항목13 | AO4: 사용자항목14 | AP4: 사용자항목15 | AQ4: 사용자항목16 | AR4: 사용자항목17 | AS4: 사용자항목18 | AT4: 사용자항목19 | AU4: 간접재료비 | AV4: 품목구분 | AW4: 조달코드 | AX4: 구분
A5: 01. 건축공사 | B5: 식 | C5: 1 | D5: =E36 -> 0 | E5: =C5*D5 -> 0 | F5: =G36 -> 0 | G5: =C5*F5 -> 0 | H5: =I36 -> 0 | I5: =C5*H5 -> 0 | J5: =D5+F5+H5 -> 0 | K5: =E5+G5+I5 -> 0 | P5: 1 | Q5: =C5*Q36 -> 0 | R5: =C5*R36 -> 0 | S5: =C5*S36 -> 0 | T5: =C5*T36 -> 0 | U5: =C5*U36 -> 0 | V5: =C5*V36 -> 0 | W5: =C5*W36 -> 0 | X5: =C5*X36 -> 0 | Y5: =C5*Y36 -> 0 | Z5: =C5*Z36 -> 0 | AA5: =C5*AA36 -> 0 | AB5: =C5*AB36 -> 0 | AC5: =C5*AC36 -> 0 | AD5: =C5*AD36 -> 0 | AE5: =C5*AE36 -> 0 | AF5: =C5*AF36 -> 0 | AG5: =C5*AG36 -> 0 | AH5: =C5*AH36 -> 0 | AI5: =C5*AI36 -> 0 | AJ5: =C5*AJ36 -> 0 | AK5: =C5*AK36 -> 0 | AL5: =C5*AL36 -> 0 | AM5: =C5*AM36 -> 0 | AN5: =C5*AN36 -> 0 | AO5: =C5*AO36 -> 0 | AP5: =C5*AP36 -> 0 | AQ5: =C5*AQ36 -> 0 | AR5: =C5*AR36 -> 0 | AS5: =C5*AS36 -> 0 | AT5: =C5*AT36 -> 0 | AU5: =C5*AU36 -> 0
A20: 합 계 | E20: =SUMIF(P5:P5,"1",E5:E5) -> 0 | G20: =SUMIF(P5:P5,"1",G5:G5) -> 0 | I20: =SUMIF(P5:P5,"1",I5:I5) -> 0 | K20: =E20+G20+I20 -> 0 | Q20: =SUM(Q5:Q5) -> 0 | R20: =SUM(R5:R5) -> 0 | S20: =SUM(S5:S5) -> 0 | T20: =SUM(T5:T5) -> 0 | U20: =SUM(U5:U5) -> 0 | V20: =SUM(V5:V5) -> 0 | W20: =SUM(W5:W5) -> 0 | X20: =SUM(X5:X5) -> 0 | ... AX20: =SUM(AX5:AX5) -> 0
A21: 01. 건축공사
A22: 0101. 가설공사 | B22: 식 | C22: 1 | D22: =내역서!F20 -> 0 | E22: =C22*D22 -> 0 | F22: =내역서!H20 -> 0 | G22: =C22*F22 -> 0 | H22: =내역서!J20 -> 0 | I22: =C22*H22 -> 0 | J22: =D22+F22+H22 -> 0 | K22: =E22+G22+I22 -> 0 | P22: 1 | Q22: =C22*내역서!R20 -> 0 | R22: =C22*내역서!S20 -> 0 | S22: =C22*내역서!T20 -> 0 | T22: =C22*내역서!U20 -> 0 | U22: =C22*내역서!V20 -> 0 | V22: =C22*내역서!W20 -> 0 | W22: =C22*내역서!X20 -> 0 | X22: =C22*내역서!Y20 -> 0 | Y22: =C22*내역서!Z20 -> 0 | Z22: =C22*내역서!AA20 -> 0 | AA22: =C22*내역서!AB20 -> 0 | AB22: =C22*내역서!AC20 -> 0 | AC22: =C22*내역서!AD20 -> 0 | AD22: =C22*내역서!AE20 -> 0 | AE22: =C22*내역서!AF20 -> 0 | AF22: =C22*내역서!AG20 -> 0 | AG22: =C22*내역서!AH20 -> 0 | AH22: =C22*내역서!AI20 -> 0 | AI22: =C22*내역서!AJ20 -> 0 | AJ22: =C22*내역서!AK20 -> 0 | AK22: =C22*내역서!AL20 -> 0 | AL22: =C22*내역서!AM20 -> 0 | AM22: =C22*내역서!AN20 -> 0 | AN22: =C22*내역서!AO20 -> 0 | AO22: =C22*내역서!AP20 -> 0 | AP22: =C22*내역서!AQ20 -> 0 | AQ22: =C22*내역서!AR20 -> 0 | AR22: =C22*내역서!AS20 -> 0 | AS22: =C22*내역서!AT20 -> 0 | AT22: =C22*내역서!AU20 -> 0 | AU22: =C22*내역서!AV20 -> 0
A23: 0102. 철거공사 | B23: 식 | C23: 1 | D23: =내역서!F36 -> 0 | E23: =C23*D23 -> 0 | F23: =내역서!H36 -> 0 | G23: =C23*F23 -> 0 | H23: =내역서!J36 -> 0 | I23: =C23*H23 -> 0 | J23: =D23+F23+H23 -> 0 | K23: =E23+G23+I23 -> 0 | P23: 1 | Q23: =C23*내역서!R36 -> 0 | R23: =C23*내역서!S36 -> 0 | S23: =C23*내역서!T36 -> 0 | T23: =C23*내역서!U36 -> 0 | U23: =C23*내역서!V36 -> 0 | V23: =C23*내역서!W36 -> 0 | W23: =C23*내역서!X36 -> 0 | X23: =C23*내역서!Y36 -> 0 | Y23: =C23*내역서!Z36 -> 0 | Z23: =C23*내역서!AA36 -> 0 | AA23: =C23*내역서!AB36 -> 0 | AB23: =C23*내역서!AC36 -> 0 | AC23: =C23*내역서!AD36 -> 0 | AD23: =C23*내역서!AE36 -> 0 | AE23: =C23*내역서!AF36 -> 0 | AF23: =C23*내역서!AG36 -> 0 | AG23: =C23*내역서!AH36 -> 0 | AH23: =C23*내역서!AI36 -> 0 | AI23: =C23*내역서!AJ36 -> 0 | AJ23: =C23*내역서!AK36 -> 0 | AK23: =C23*내역서!AL36 -> 0 | AL23: =C23*내역서!AM36 -> 0 | AM23: =C23*내역서!AN36 -> 0 | AN23: =C23*내역서!AO36 -> 0 | AO23: =C23*내역서!AP36 -> 0 | AP23: =C23*내역서!AQ36 -> 0 | AQ23: =C23*내역서!AR36 -> 0 | AR23: =C23*내역서!AS36 -> 0 | AS23: =C23*내역서!AT36 -> 0 | AT23: =C23*내역서!AU36 -> 0 | AU23: =C23*내역서!AV36 -> 0
A24: 0103. 작업부산물(철거해체) | B24: 식 | C24: 1 | D24: =내역서!F52 -> 0 | E24: =C24*D24 -> 0 | F24: =내역서!H52 -> 0 | G24: =C24*F24 -> 0 | H24: =내역서!J52 -> 0 | I24: =C24*H24 -> 0 | J24: =D24+F24+H24 -> 0 | K24: =E24+G24+I24 -> 0 | L24: 합계제외 | Q24: =C24*내역서!R52 -> 0 | R24: =C24*내역서!S52 -> 0 | S24: =C24*내역서!T52 -> 0 | T24: =C24*내역서!U52 -> 0 | U24: =C24*내역서!V52 -> 0 | V24: =C24*내역서!W52 -> 0 | W24: =C24*내역서!X52 -> 0 | X24: =C24*내역서!Y52 -> 0 | Y24: =C24*내역서!Z52 -> 0 | Z24: =C24*내역서!AA52 -> 0 | AA24: =C24*내역서!AB52 -> 0 | AB24: =C24*내역서!AC52 -> 0 | AC24: =C24*내역서!AD52 -> 0 | AD24: =C24*내역서!AE52 -> 0 | AE24: =C24*내역서!AF52 -> 0 | AF24: =C24*내역서!AG52 -> 0 | AG24: =C24*내역서!AH52 -> 0 | AH24: =C24*내역서!AI52 -> 0 | AI24: =C24*내역서!AJ52 -> 0 | AJ24: =C24*내역서!AK52 -> 0 | AK24: =C24*내역서!AL52 -> 0 | AL24: =C24*내역서!AM52 -> 0 | AM24: =C24*내역서!AN52 -> 0 | AN24: =C24*내역서!AO52 -> 0 | AO24: =C24*내역서!AP52 -> 0 | AP24: =C24*내역서!AQ52 -> 0 | AQ24: =C24*내역서!AR52 -> 0 | AR24: =C24*내역서!AS52 -> 0 | AS24: =C24*내역서!AT52 -> 0 | AT24: =C24*내역서!AU52 -> 0 | AU24: =C24*내역서!AV52 -> 0
A25: 0104. 방수공사 | B25: 식 | C25: 1 | D25: =내역서!F68 -> 0 | E25: =C25*D25 -> 0 | F25: =내역서!H68 -> 0 | G25: =C25*F25 -> 0 | H25: =내역서!J68 -> 0 | I25: =C25*H25 -> 0 | J25: =D25+F25+H25 -> 0 | K25: =E25+G25+I25 -> 0 | P25: 1 | Q25: =C25*내역서!R68 -> 0 | R25: =C25*내역서!S68 -> 0 | S25: =C25*내역서!T68 -> 0 | T25: =C25*내역서!U68 -> 0 | U25: =C25*내역서!V68 -> 0 | V25: =C25*내역서!W68 -> 0 | W25: =C25*내역서!X68 -> 0 | X25: =C25*내역서!Y68 -> 0 | Y25: =C25*내역서!Z68 -> 0 | Z25: =C25*내역서!AA68 -> 0 | AA25: =C25*내역서!AB68 -> 0 | AB25: =C25*내역서!AC68 -> 0 | AC25: =C25*내역서!AD68 -> 0 | AD25: =C25*내역서!AE68 -> 0 | AE25: =C25*내역서!AF68 -> 0 | AF25: =C25*내역서!AG68 -> 0 | AG25: =C25*내역서!AH68 -> 0 | AH25: =C25*내역서!AI68 -> 0 | AI25: =C25*내역서!AJ68 -> 0 | AJ25: =C25*내역서!AK68 -> 0 | AK25: =C25*내역서!AL68 -> 0 | AL25: =C25*내역서!AM68 -> 0 | AM25: =C25*내역서!AN68 -> 0 | AN25: =C25*내역서!AO68 -> 0 | AO25: =C25*내역서!AP68 -> 0 | AP25: =C25*내역서!AQ68 -> 0 | AQ25: =C25*내역서!AR68 -> 0 | AR25: =C25*내역서!AS68 -> 0 | AS25: =C25*내역서!AT68 -> 0 | AT25: =C25*내역서!AU68 -> 0 | AU25: =C25*내역서!AV68 -> 0
A26: 0105. 미장공사 | B26: 식 | C26: 1 | D26: =내역서!F84 -> 0 | E26: =C26*D26 -> 0 | F26: =내역서!H84 -> 0 | G26: =C26*F26 -> 0 | H26: =내역서!J84 -> 0 | I26: =C26*H26 -> 0 | J26: =D26+F26+H26 -> 0 | K26: =E26+G26+I26 -> 0 | P26: 1 | Q26: =C26*내역서!R84 -> 0 | R26: =C26*내역서!S84 -> 0 | S26: =C26*내역서!T84 -> 0 | T26: =C26*내역서!U84 -> 0 | U26: =C26*내역서!V84 -> 0 | V26: =C26*내역서!W84 -> 0 | W26: =C26*내역서!X84 -> 0 | X26: =C26*내역서!Y84 -> 0 | Y26: =C26*내역서!Z84 -> 0 | Z26: =C26*내역서!AA84 -> 0 | AA26: =C26*내역서!AB84 -> 0 | AB26: =C26*내역서!AC84 -> 0 | AC26: =C26*내역서!AD84 -> 0 | AD26: =C26*내역서!AE84 -> 0 | AE26: =C26*내역서!AF84 -> 0 | AF26: =C26*내역서!AG84 -> 0 | AG26: =C26*내역서!AH84 -> 0 | AH26: =C26*내역서!AI84 -> 0 | AI26: =C26*내역서!AJ84 -> 0 | AJ26: =C26*내역서!AK84 -> 0 | AK26: =C26*내역서!AL84 -> 0 | AL26: =C26*내역서!AM84 -> 0 | AM26: =C26*내역서!AN84 -> 0 | AN26: =C26*내역서!AO84 -> 0 | AO26: =C26*내역서!AP84 -> 0 | AP26: =C26*내역서!AQ84 -> 0 | AQ26: =C26*내역서!AR84 -> 0 | AR26: =C26*내역서!AS84 -> 0 | AS26: =C26*내역서!AT84 -> 0 | AT26: =C26*내역서!AU84 -> 0 | AU26: =C26*내역서!AV84 -> 0
A27: 0106. 타일공사 | B27: 식 | C27: 1 | D27: =내역서!F100 -> 0 | E27: =C27*D27 -> 0 | F27: =내역서!H100 -> 0 | G27: =C27*F27 -> 0 | H27: =내역서!J100 -> 0 | I27: =C27*H27 -> 0 | J27: =D27+F27+H27 -> 0 | K27: =E27+G27+I27 -> 0 | P27: 1 | Q27: =C27*내역서!R100 -> 0 | R27: =C27*내역서!S100 -> 0 | S27: =C27*내역서!T100 -> 0 | T27: =C27*내역서!U100 -> 0 | U27: =C27*내역서!V100 -> 0 | V27: =C27*내역서!W100 -> 0 | W27: =C27*내역서!X100 -> 0 | X27: =C27*내역서!Y100 -> 0 | Y27: =C27*내역서!Z100 -> 0 | Z27: =C27*내역서!AA100 -> 0 | AA27: =C27*내역서!AB100 -> 0 | AB27: =C27*내역서!AC100 -> 0 | AC27: =C27*내역서!AD100 -> 0 | AD27: =C27*내역서!AE100 -> 0 | AE27: =C27*내역서!AF100 -> 0 | AF27: =C27*내역서!AG100 -> 0 | AG27: =C27*내역서!AH100 -> 0 | AH27: =C27*내역서!AI100 -> 0 | AI27: =C27*내역서!AJ100 -> 0 | AJ27: =C27*내역서!AK100 -> 0 | AK27: =C27*내역서!AL100 -> 0 | AL27: =C27*내역서!AM100 -> 0 | AM27: =C27*내역서!AN100 -> 0 | AN27: =C27*내역서!AO100 -> 0 | AO27: =C27*내역서!AP100 -> 0 | AP27: =C27*내역서!AQ100 -> 0 | AQ27: =C27*내역서!AR100 -> 0 | AR27: =C27*내역서!AS100 -> 0 | AS27: =C27*내역서!AT100 -> 0 | AT27: =C27*내역서!AU100 -> 0 | AU27: =C27*내역서!AV100 -> 0
A28: 0107. 창호공사 | B28: 식 | C28: 1 | D28: =내역서!F116 -> 0 | E28: =C28*D28 -> 0 | F28: =내역서!H116 -> 0 | G28: =C28*F28 -> 0 | H28: =내역서!J116 -> 0 | I28: =C28*H28 -> 0 | J28: =D28+F28+H28 -> 0 | K28: =E28+G28+I28 -> 0 | P28: 1 | Q28: =C28*내역서!R116 -> 0 | R28: =C28*내역서!S116 -> 0 | S28: =C28*내역서!T116 -> 0 | T28: =C28*내역서!U116 -> 0 | U28: =C28*내역서!V116 -> 0 | V28: =C28*내역서!W116 -> 0 | W28: =C28*내역서!X116 -> 0 | X28: =C28*내역서!Y116 -> 0 | Y28: =C28*내역서!Z116 -> 0 | Z28: =C28*내역서!AA116 -> 0 | AA28: =C28*내역서!AB116 -> 0 | AB28: =C28*내역서!AC116 -> 0 | AC28: =C28*내역서!AD116 -> 0 | AD28: =C28*내역서!AE116 -> 0 | AE28: =C28*내역서!AF116 -> 0 | AF28: =C28*내역서!AG116 -> 0 | AG28: =C28*내역서!AH116 -> 0 | AH28: =C28*내역서!AI116 -> 0 | AI28: =C28*내역서!AJ116 -> 0 | AJ28: =C28*내역서!AK116 -> 0 | AK28: =C28*내역서!AL116 -> 0 | AL28: =C28*내역서!AM116 -> 0 | AM28: =C28*내역서!AN116 -> 0 | AN28: =C28*내역서!AO116 -> 0 | AO28: =C28*내역서!AP116 -> 0 | AP28: =C28*내역서!AQ116 -> 0 | AQ28: =C28*내역서!AR116 -> 0 | AR28: =C28*내역서!AS116 -> 0 | AS28: =C28*내역서!AT116 -> 0 | AT28: =C28*내역서!AU116 -> 0 | AU28: =C28*내역서!AV116 -> 0
A29: 0108. 수장공사 | B29: 식 | C29: 1 | D29: =내역서!F132 -> 0 | E29: =C29*D29 -> 0 | F29: =내역서!H132 -> 0 | G29: =C29*F29 -> 0 | H29: =내역서!J132 -> 0 | I29: =C29*H29 -> 0 | J29: =D29+F29+H29 -> 0 | K29: =E29+G29+I29 -> 0 | P29: 1 | Q29: =C29*내역서!R132 -> 0 | R29: =C29*내역서!S132 -> 0 | S29: =C29*내역서!T132 -> 0 | T29: =C29*내역서!U132 -> 0 | U29: =C29*내역서!V132 -> 0 | V29: =C29*내역서!W132 -> 0 | W29: =C29*내역서!X132 -> 0 | X29: =C29*내역서!Y132 -> 0 | Y29: =C29*내역서!Z132 -> 0 | Z29: =C29*내역서!AA132 -> 0 | AA29: =C29*내역서!AB132 -> 0 | AB29: =C29*내역서!AC132 -> 0 | AC29: =C29*내역서!AD132 -> 0 | AD29: =C29*내역서!AE132 -> 0 | AE29: =C29*내역서!AF132 -> 0 | AF29: =C29*내역서!AG132 -> 0 | AG29: =C29*내역서!AH132 -> 0 | AH29: =C29*내역서!AI132 -> 0 | AI29: =C29*내역서!AJ132 -> 0 | AJ29: =C29*내역서!AK132 -> 0 | AK29: =C29*내역서!AL132 -> 0 | AL29: =C29*내역서!AM132 -> 0 | AM29: =C29*내역서!AN132 -> 0 | AN29: =C29*내역서!AO132 -> 0 | AO29: =C29*내역서!AP132 -> 0 | AP29: =C29*내역서!AQ132 -> 0 | AQ29: =C29*내역서!AR132 -> 0 | AR29: =C29*내역서!AS132 -> 0 | AS29: =C29*내역서!AT132 -> 0 | AT29: =C29*내역서!AU132 -> 0 | AU29: =C29*내역서!AV132 -> 0
A30: 0109. 금속공사 | B30: 식 | C30: 1 | D30: =내역서!F148 -> 0 | E30: =C30*D30 -> 0 | F30: =내역서!H148 -> 0 | G30: =C30*F30 -> 0 | H30: =내역서!J148 -> 0 | I30: =C30*H30 -> 0 | J30: =D30+F30+H30 -> 0 | K30: =E30+G30+I30 -> 0 | P30: 1 | Q30: =C30*내역서!R148 -> 0 | R30: =C30*내역서!S148 -> 0 | S30: =C30*내역서!T148 -> 0 | T30: =C30*내역서!U148 -> 0 | U30: =C30*내역서!V148 -> 0 | V30: =C30*내역서!W148 -> 0 | W30: =C30*내역서!X148 -> 0 | X30: =C30*내역서!Y148 -> 0 | Y30: =C30*내역서!Z148 -> 0 | Z30: =C30*내역서!AA148 -> 0 | AA30: =C30*내역서!AB148 -> 0 | AB30: =C30*내역서!AC148 -> 0 | AC30: =C30*내역서!AD148 -> 0 | AD30: =C30*내역서!AE148 -> 0 | AE30: =C30*내역서!AF148 -> 0 | AF30: =C30*내역서!AG148 -> 0 | AG30: =C30*내역서!AH148 -> 0 | AH30: =C30*내역서!AI148 -> 0 | AI30: =C30*내역서!AJ148 -> 0 | AJ30: =C30*내역서!AK148 -> 0 | AK30: =C30*내역서!AL148 -> 0 | AL30: =C30*내역서!AM148 -> 0 | AM30: =C30*내역서!AN148 -> 0 | AN30: =C30*내역서!AO148 -> 0 | AO30: =C30*내역서!AP148 -> 0 | AP30: =C30*내역서!AQ148 -> 0 | AQ30: =C30*내역서!AR148 -> 0 | AR30: =C30*내역서!AS148 -> 0 | AS30: =C30*내역서!AT148 -> 0 | AT30: =C30*내역서!AU148 -> 0 | AU30: =C30*내역서!AV148 -> 0
A31: 0110. 도장공사 | B31: 식 | C31: 1 | D31: =내역서!F164 -> 0 | E31: =C31*D31 -> 0 | F31: =내역서!H164 -> 0 | G31: =C31*F31 -> 0 | H31: =내역서!J164 -> 0 | I31: =C31*H31 -> 0 | J31: =D31+F31+H31 -> 0 | K31: =E31+G31+I31 -> 0 | P31: 1 | Q31: =C31*내역서!R164 -> 0 | R31: =C31*내역서!S164 -> 0 | S31: =C31*내역서!T164 -> 0 | T31: =C31*내역서!U164 -> 0 | U31: =C31*내역서!V164 -> 0 | V31: =C31*내역서!W164 -> 0 | W31: =C31*내역서!X164 -> 0 | X31: =C31*내역서!Y164 -> 0 | Y31: =C31*내역서!Z164 -> 0 | Z31: =C31*내역서!AA164 -> 0 | AA31: =C31*내역서!AB164 -> 0 | AB31: =C31*내역서!AC164 -> 0 | AC31: =C31*내역서!AD164 -> 0 | AD31: =C31*내역서!AE164 -> 0 | AE31: =C31*내역서!AF164 -> 0 | AF31: =C31*내역서!AG164 -> 0 | AG31: =C31*내역서!AH164 -> 0 | AH31: =C31*내역서!AI164 -> 0 | AI31: =C31*내역서!AJ164 -> 0 | AJ31: =C31*내역서!AK164 -> 0 | AK31: =C31*내역서!AL164 -> 0 | AL31: =C31*내역서!AM164 -> 0 | AM31: =C31*내역서!AN164 -> 0 | AN31: =C31*내역서!AO164 -> 0 | AO31: =C31*내역서!AP164 -> 0 | AP31: =C31*내역서!AQ164 -> 0 | AQ31: =C31*내역서!AR164 -> 0 | AR31: =C31*내역서!AS164 -> 0 | AS31: =C31*내역서!AT164 -> 0 | AT31: =C31*내역서!AU164 -> 0 | AU31: =C31*내역서!AV164 -> 0
A32: 0111. 자동문및반자동문공사 | B32: 식 | C32: 1 | D32: =내역서!F180 -> 0 | E32: =C32*D32 -> 0 | F32: =내역서!H180 -> 0 | G32: =C32*F32 -> 0 | H32: =내역서!J180 -> 0 | I32: =C32*H32 -> 0 | J32: =D32+F32+H32 -> 0 | K32: =E32+G32+I32 -> 0 | P32: 1 | Q32: =C32*내역서!R180 -> 0 | R32: =C32*내역서!S180 -> 0 | S32: =C32*내역서!T180 -> 0 | T32: =C32*내역서!U180 -> 0 | U32: =C32*내역서!V180 -> 0 | V32: =C32*내역서!W180 -> 0 | W32: =C32*내역서!X180 -> 0 | X32: =C32*내역서!Y180 -> 0 | Y32: =C32*내역서!Z180 -> 0 | Z32: =C32*내역서!AA180 -> 0 | AA32: =C32*내역서!AB180 -> 0 | AB32: =C32*내역서!AC180 -> 0 | AC32: =C32*내역서!AD180 -> 0 | AD32: =C32*내역서!AE180 -> 0 | AE32: =C32*내역서!AF180 -> 0 | AF32: =C32*내역서!AG180 -> 0 | AG32: =C32*내역서!AH180 -> 0 | AH32: =C32*내역서!AI180 -> 0 | AI32: =C32*내역서!AJ180 -> 0 | AJ32: =C32*내역서!AK180 -> 0 | AK32: =C32*내역서!AL180 -> 0 | AL32: =C32*내역서!AM180 -> 0 | AM32: =C32*내역서!AN180 -> 0 | AN32: =C32*내역서!AO180 -> 0 | AO32: =C32*내역서!AP180 -> 0 | AP32: =C32*내역서!AQ180 -> 0 | AQ32: =C32*내역서!AR180 -> 0 | AR32: =C32*내역서!AS180 -> 0 | AS32: =C32*내역서!AT180 -> 0 | AT32: =C32*내역서!AU180 -> 0 | AU32: =C32*내역서!AV180 -> 0
A33: 0112. 핸드레일공사 | B33: 식 | C33: 1 | D33: =내역서!F196 -> 0 | E33: =C33*D33 -> 0 | F33: =내역서!H196 -> 0 | G33: =C33*F33 -> 0 | H33: =내역서!J196 -> 0 | I33: =C33*H33 -> 0 | J33: =D33+F33+H33 -> 0 | K33: =E33+G33+I33 -> 0 | P33: 1 | Q33: =C33*내역서!R196 -> 0 | R33: =C33*내역서!S196 -> 0 | S33: =C33*내역서!T196 -> 0 | T33: =C33*내역서!U196 -> 0 | U33: =C33*내역서!V196 -> 0 | V33: =C33*내역서!W196 -> 0 | W33: =C33*내역서!X196 -> 0 | X33: =C33*내역서!Y196 -> 0 | Y33: =C33*내역서!Z196 -> 0 | Z33: =C33*내역서!AA196 -> 0 | AA33: =C33*내역서!AB196 -> 0 | AB33: =C33*내역서!AC196 -> 0 | AC33: =C33*내역서!AD196 -> 0 | AD33: =C33*내역서!AE196 -> 0 | AE33: =C33*내역서!AF196 -> 0 | AF33: =C33*내역서!AG196 -> 0 | AG33: =C33*내역서!AH196 -> 0 | AH33: =C33*내역서!AI196 -> 0 | AI33: =C33*내역서!AJ196 -> 0 | AJ33: =C33*내역서!AK196 -> 0 | AK33: =C33*내역서!AL196 -> 0 | AL33: =C33*내역서!AM196 -> 0 | AM33: =C33*내역서!AN196 -> 0 | AN33: =C33*내역서!AO196 -> 0 | AO33: =C33*내역서!AP196 -> 0 | AP33: =C33*내역서!AQ196 -> 0 | AQ33: =C33*내역서!AR196 -> 0 | AR33: =C33*내역서!AS196 -> 0 | AS33: =C33*내역서!AT196 -> 0 | AT33: =C33*내역서!AU196 -> 0 | AU33: =C33*내역서!AV196 -> 0
A34: 0113. 폐기물처리비 | B34: 식 | C34: 1 | D34: =내역서!F212 -> 0 | E34: =C34*D34 -> 0 | F34: =내역서!H212 -> 0 | G34: =C34*F34 -> 0 | H34: =내역서!J212 -> 0 | I34: =C34*H34 -> 0 | J34: =D34+F34+H34 -> 0 | K34: =E34+G34+I34 -> 0 | L34: 합계제외 | Q34: =C34*내역서!R212 -> 0 | R34: =C34*내역서!S212 -> 0 | S34: =C34*내역서!T212 -> 0 | T34: =C34*내역서!U212 -> 0 | U34: =C34*내역서!V212 -> 0 | V34: =C34*내역서!W212 -> 0 | W34: =C34*내역서!X212 -> 0 | X34: =C34*내역서!Y212 -> 0 | Y34: =C34*내역서!Z212 -> 0 | Z34: =C34*내역서!AA212 -> 0 | AA34: =C34*내역서!AB212 -> 0 | AB34: =C34*내역서!AC212 -> 0 | AC34: =C34*내역서!AD212 -> 0 | AD34: =C34*내역서!AE212 -> 0 | AE34: =C34*내역서!AF212 -> 0 | AF34: =C34*내역서!AG212 -> 0 | AG34: =C34*내역서!AH212 -> 0 | AH34: =C34*내역서!AI212 -> 0 | AI34: =C34*내역서!AJ212 -> 0 | AJ34: =C34*내역서!AK212 -> 0 | AK34: =C34*내역서!AL212 -> 0 | AL34: =C34*내역서!AM212 -> 0 | AM34: =C34*내역서!AN212 -> 0 | AN34: =C34*내역서!AO212 -> 0 | AO34: =C34*내역서!AP212 -> 0 | AP34: =C34*내역서!AQ212 -> 0 | AQ34: =C34*내역서!AR212 -> 0 | AR34: =C34*내역서!AS212 -> 0 | AS34: =C34*내역서!AT212 -> 0 | AT34: =C34*내역서!AU212 -> 0 | AU34: =C34*내역서!AV212 -> 0
A36: 합 계 | E36: =SUMIF(P22:P34,"1",E22:E34) -> 0 | G36: =SUMIF(P22:P34,"1",G22:G34) -> 0 | I36: =SUMIF(P22:P34,"1",I22:I34) -> 0 | K36: =E36+G36+I36 -> 0 | Q36: =SUM(Q22:Q34) -> 0 | R36: =SUM(R22:R34) -> 0 | S36: =SUM(S22:S34) -> 0 | T36: =SUM(T22:T34) -> 0 | U36: =SUM(U22:U34) -> 0 | V36: =SUM(V22:V34) -> 0 | W36: =SUM(W22:W34) -> 0 | X36: =SUM(X22:X34) -> 0 | ... AX36: =SUM(AX22:AX34) -> 0

Sheet 내역서
A1: 공 사 내 역 서
A2: 공사명 : 일산병원 수술실 시설환경개선공사
A3: 품 명 | B3: 규 격 | C3: 단위 | D3: 수 량 | E3: 재 료 비 | G3: 노 무 비 | I3: 경 비 | K3: 합 계 | M3: 비고
E4: 단 가 | F4: 금 액 | G4: 단 가 | H4: 금 액 | I4: 단 가 | J4: 금 액 | K4: 단 가 | L4: 금 액 | N4: 손료요율 | O4: 손료구분 | P4: 적용구분 | Q4: 합계구분 | R4: 기계경비 | S4: 운반비 | T4: 작업부산물 | U4: 관급 | V4: 외주비 | W4: 장비비 | X4: 폐기물처리비 | Y4: 가설비 | Z4: 잡비제외분 | AA4: 사급자재대 | AB4: 관급자재대 | AC4: 사용자항목1 | AD4: 사용자항목2 | AE4: 안전관리비 | AF4: 품질관리비 | AG4: 작업부산물(철거해체) | AH4: 재해예방기술지도비 | AI4: 사용자항목7 | AJ4: 석면분담금 | AK4: 임금채권부담금 | AL4: 사용자항목10 | AM4: 사용자항목11 | AN4: 사용자항목12 | AO4: 사용자항목13 | AP4: 사용자항목14 | AQ4: 사용자항목15 | AR4: 사용자항목16 | AS4: 사용자항목17 | AT4: 사용자항목18 | AU4: 사용자항목19 | AV4: 간접재료비 | AW4: 품목구분 | AX4: 조달코드 | AY4: 구분
A5: 0101. 가설공사
A6: 가설 칸막이 설치 | B6: T 45, 래핑칸막이, 자재 포함 | C6: M2 | D6: 58 | F6: =ROUNDDOWN(D6*E6,0) -> 0 | H6: =ROUNDDOWN(D6*G6,0) -> 0 | J6: =ROUNDDOWN(D6*I6,0) -> 0 | K6: =E6+G6+I6 -> 0 | L6: =F6+H6+J6 -> 0
A7: 가설 칸막이 해체 | B7: T 45, 래핑칸막이, 설치품의 20% | C7: M2 | D7: 58 | F7: =ROUNDDOWN(D7*E7,0) -> 0 | H7: =ROUNDDOWN(D7*G7,0) -> 0 | J7: =ROUNDDOWN(D7*I7,0) -> 0 | K7: =E7+G7+I7 -> 0 | L7: =F7+H7+J7 -> 0
A8: 이동식 집진기 | B8: RT 1100, 운반비 포함, 1개월 | C8: 대 | D8: 3 | F8: =ROUNDDOWN(D8*E8,0) -> 0 | H8: =ROUNDDOWN(D8*G8,0) -> 0 | J8: =ROUNDDOWN(D8*I8,0) -> 0 | K8: =E8+G8+I8 -> 0 | L8: =F8+H8+J8 -> 0
A9: 준공청소 | C9: M2 | D9: 500.62 | F9: =ROUNDDOWN(D9*E9,0) -> 0 | H9: =ROUNDDOWN(D9*G9,0) -> 0 | J9: =ROUNDDOWN(D9*I9,0) -> 0 | K9: =E9+G9+I9 -> 0 | L9: =F9+H9+J9 -> 0
A10: 건축물현장정리 | B10: 개보수 | C10: M2 | D10: 500.62 | F10: =ROUNDDOWN(D10*E10,0) -> 0 | H10: =ROUNDDOWN(D10*G10,0) -> 0 | J10: =ROUNDDOWN(D10*I10,0) -> 0 | K10: =E10+G10+I10 -> 0 | L10: =F10+H10+J10 -> 0
A11: 가설출입문 철거 | B11: 1.0∼3.0㎡이하, 설치품의 20% | C11: 개소 | D11: 4 | F11: =ROUNDDOWN(D11*E11,0) -> 0 | H11: =ROUNDDOWN(D11*G11,0) -> 0 | J11: =ROUNDDOWN(D11*I11,0) -> 0 | K11: =E11+G11+I11 -> 0 | L11: =F11+H11+J11 -> 0
A12: 가설출입문 설치 | B12: 1000*2000, 자재 포함 | C12: EA | D12: 2 | F12: =ROUNDDOWN(D12*E12,0) -> 0 | H12: =ROUNDDOWN(D12*G12,0) -> 0 | J12: =ROUNDDOWN(D12*I12,0) -> 0 | K12: =E12+G12+I12 -> 0 | L12: =F12+H12+J12 -> 0
A13: 가설출입문 설치 | B13: 1600×2000, 자재 포함 | C13: EA | D13: 2 | F13: =ROUNDDOWN(D13*E13,0) -> 0 | H13: =ROUNDDOWN(D13*G13,0) -> 0 | J13: =ROUNDDOWN(D13*I13,0) -> 0 | K13: =E13+G13+I13 -> 0 | L13: =F13+H13+J13 -> 0
A14: 조립말비계 | B14: 3개월,1단(2m) | C14: 대 | D14: 1 | F14: =ROUNDDOWN(D14*E14,0) -> 0 | H14: =ROUNDDOWN(D14*G14,0) -> 0 | J14: =ROUNDDOWN(D14*I14,0) -> 0 | K14: =E14+G14+I14 -> 0 | L14: =F14+H14+J14 -> 0
A20: 합 계 | F20: =ROUNDDOWN(SUMIF(Q6:Q19,"1",F6:F19),0) -> 0 | H20: =ROUNDDOWN(SUMIF(Q6:Q19,"1",H6:H19),0) -> 0 | J20: =ROUNDDOWN(SUMIF(Q6:Q19,"1",J6:J19),0) -> 0 | L20: =F20+H20+J20 -> 0 | R20: =ROUNDDOWN(SUM(R6:R14),0) -> 0 | S20: =ROUNDDOWN(SUM(S6:S14),0) -> 0 | T20: =ROUNDDOWN(SUM(T6:T14),0) -> 0 | U20: =ROUNDDOWN(SUM(U6:U14),0) -> 0 | V20: =ROUNDDOWN(SUM(V6:V14),0) -> 0 | W20: =ROUNDDOWN(SUM(W6:W14),0) -> 0 | X20: =ROUNDDOWN(SUM(X6:X14),0) -> 0 | Y20: =ROUNDDOWN(SUM(Y6:Y14),0) -> 0 | ... AY20: =ROUNDDOWN(SUM(AY6:AY14),0) -> 0
A21: 0102. 철거공사
A22: 강재창호 철거 | B22: 6.0∼8.0㎡이하, 설치품의 20% | C22: 개소 | D22: 1 | F22: =ROUNDDOWN(D22*E22,0) -> 0 | H22: =ROUNDDOWN(D22*G22,0) -> 0 | J22: =ROUNDDOWN(D22*I22,0) -> 0 | K22: =E22+G22+I22 -> 0 | L22: =F22+H22+J22 -> 0
A23: 경량천장철골틀 해체 | C23: M2 | D23: 14.3 | F23: =ROUNDDOWN(D23*E23,0) -> 0 | H23: =ROUNDDOWN(D23*G23,0) -> 0 | J23: =ROUNDDOWN(D23*I23,0) -> 0 | K23: =E23+G23+I23 -> 0 | L23: =F23+H23+J23 -> 0
A24: 목재창호 철거 | B24: 1.0∼3.0㎡이하, 설치품의 20% | C24: 개소 | D24: 13 | F24: =ROUNDDOWN(D24*E24,0) -> 0 | H24: =ROUNDDOWN(D24*G24,0) -> 0 | J24: =ROUNDDOWN(D24*I24,0) -> 0 | K24: =E24+G24+I24 -> 0 | L24: =F24+H24+J24 -> 0
A25: 몰탈 철거 | B25: 벽체 | C25: M2 | D25: 98.36 | F25: =ROUNDDOWN(D25*E25,0) -> 0 | H25: =ROUNDDOWN(D25*G25,0) -> 0 | J25: =ROUNDDOWN(D25*I25,0) -> 0 | K25: =E25+G25+I25 -> 0 | L25: =F25+H25+J25 -> 0
A26: 몰탈철거 | B26: 인력,바닥 | C26: M2 | D26: 25.1 | F26: =ROUNDDOWN(D26*E26,0) -> 0 | H26: =ROUNDDOWN(D26*G26,0) -> 0 | J26: =ROUNDDOWN(D26*I26,0) -> 0 | K26: =E26+G26+I26 -> 0 | L26: =F26+H26+J26 -> 0
A27: 타일 철거 | B27: 바닥 | C27: M2 | D27: 25.1 | F27: =ROUNDDOWN(D27*E27,0) -> 0 | H27: =ROUNDDOWN(D27*G27,0) -> 0 | J27: =ROUNDDOWN(D27*I27,0) -> 0 | K27: =E27+G27+I27 -> 0 | L27: =F27+H27+J27 -> 0
A28: 타일 철거 | B28: 벽체 | C28: M2 | D28: 98.36 | F28: =ROUNDDOWN(D28*E28,0) -> 0 | H28: =ROUNDDOWN(D28*G28,0) -> 0 | J28: =ROUNDDOWN(D28*I28,0) -> 0 | K28: =E28+G28+I28 -> 0 | L28: =F28+H28+J28 -> 0
A29: 화강석재료분리대 철거 | B29: 물갈기, W275*30mm, 설치품의 20% | C29: M | D29: 3.3 | F29: =ROUNDDOWN(D29*E29,0) -> 0 | H29: =ROUNDDOWN(D29*G29,0) -> 0 | J29: =ROUNDDOWN(D29*I29,0) -> 0 | K29: =E29+G29+I29 -> 0 | L29: =F29+H29+J29 -> 0
A30: PVC계바닥재 해체 | B30: 해체재 재사용 안함 | C30: M2 | D30: 21.3 | F30: =ROUNDDOWN(D30*E30,0) -> 0 | H30: =ROUNDDOWN(D30*G30,0) -> 0 | J30: =ROUNDDOWN(D30*I30,0) -> 0 | K30: =E30+G30+I30 -> 0 | L30: =F30+H30+J30 -> 0
A31: 스텐공틀 철거 | B31: 1.0∼3.0㎡이하, 설치품의 10% | C31: 개소 | D31: 1 | F31: =ROUNDDOWN(D31*E31,0) -> 0 | H31: =ROUNDDOWN(D31*G31,0) -> 0 | J31: =ROUNDDOWN(D31*I31,0) -> 0 | K31: =E31+G31+I31 -> 0 | L31: =F31+H31+J31 -> 0
A32: 석고판 해체 | B32: 천장 | C32: ㎡ | D32: 14.3 | F32: =ROUNDDOWN(D32*E32,0) -> 0 | H32: =ROUNDDOWN(D32*G32,0) -> 0 | J32: =ROUNDDOWN(D32*I32,0) -> 0 | K32: =E32+G32+I32 -> 0 | L32: =F32+H32+J32 -> 0
A33: 범퍼레일 철거 | B33: 인건비 및 경비(1회 2명 기준) | C33: 회 | D33: 2 | F33: =ROUNDDOWN(D33*E33,0) -> 0 | H33: =ROUNDDOWN(D33*G33,0) -> 0 | J33: =ROUNDDOWN(D33*I33,0) -> 0 | K33: =E33+G33+I33 -> 0 | L33: =F33+H33+J33 -> 0
A36: 합 계 | F36: =ROUNDDOWN(SUMIF(Q22:Q35,"1",F22:F35),0) -> 0 | H36: =ROUNDDOWN(SUMIF(Q22:Q35,"1",H22:H35),0) -> 0 | J36: =ROUNDDOWN(SUMIF(Q22:Q35,"1",J22:J35),0) -> 0 | L36: =F36+H36+J36 -> 0 | R36: =ROUNDDOWN(SUM(R22:R33),0) -> 0 | S36: =ROUNDDOWN(SUM(S22:S33),0) -> 0 | T36: =ROUNDDOWN(SUM(T22:T33),0) -> 0 | U36: =ROUNDDOWN(SUM(U22:U33),0) -> 0 | V36: =ROUNDDOWN(SUM(V22:V33),0) -> 0 | W36: =ROUNDDOWN(SUM(W22:W33),0) -> 0 | X36: =ROUNDDOWN(SUM(X22:X33),0) -> 0 | Y36: =ROUNDDOWN(SUM(Y22:Y33),0) -> 0 | ... AY36: =ROUNDDOWN(SUM(AY22:AY33),0) -> 0 | BA36: =ROUNDDOWN(SUMIF(BL22:BL35, "1", BA22:BA35), 0) -> 0
A37: 0103. 작업부산물(철거해체)
A38: 철강설 | B38: 철강설, 고철, 작업설부산물 | C38: kg | D38: 283.27 | F38: =ROUNDDOWN(D38*E38,0) -> 0 | H38: =ROUNDDOWN(D38*G38,0) -> 0 | J38: =ROUNDDOWN(D38*I38,0) -> 0 | K38: =E38+G38+I38 -> 0 | L38: =F38+H38+J38 -> 0 | O38: ="01" -> 01 | P38: 작업부산물(철거해체) | Q38: 1 | R38: =IF(P38="기계경비",J38,0) -> 0 | S38: =IF(P38="운반비",L38,0) -> 0 | T38: =IF(P38="작업부산물",F38,0) -> 0 | U38: =IF(P38="관급",F38,0) -> 0 | V38: =IF(P38="외주비",J38,0) -> 0 | W38: =IF(P38="장비비",J38,0) -> 0 | X38: =IF(P38="폐기물처리비",L38,0) -> 0 | Y38: =IF(P38="가설비",J38,0) -> 0 | Z38: =IF(P38="잡비제외분",F38,0) -> 0 | AA38: =IF(P38="사급자재대",L38,0) -> 0 | AB38: =IF(P38="관급자재대",L38,0) -> 0 | AC38: =IF(P38="사용자항목1",L38,0) -> 0 | AD38: =IF(P38="사용자항목2",L38,0) -> 0 | AE38: =IF(P38="안전관리비",L38,0) -> 0 | AF38: =IF(P38="품질관리비",L38,0) -> 0 | AG38: =IF(P38="작업부산물(철거해체)",L38,0) -> 0 | AH38: =IF(P38="재해예방기술지도비",L38,0) -> 0 | AI38: =IF(P38="사용자항목7",L38,0) -> 0 | AJ38: =IF(P38="석면분담금",L38,0) -> 0 | AK38: =IF(P38="임금채권부담금",L38,0) -> 0 | AL38: =IF(P38="사용자항목10",L38,0) -> 0 | AM38: =IF(P38="사용자항목11",L38,0) -> 0 | AN38: =IF(P38="사용자항목12",L38,0) -> 0 | AO38: =IF(P38="사용자항목13",L38,0) -> 0 | AP38: =IF(P38="사용자항목14",L38,0) -> 0 | AQ38: =IF(P38="사용자항목15",L38,0) -> 0 | AR38: =IF(P38="사용자항목16",L38,0) -> 0 | AS38: =IF(P38="사용자항목17",L38,0) -> 0 | AT38: =IF(P38="사용자항목18",L38,0) -> 0 | AU38: =IF(P38="사용자항목19",L38,0) -> 0
A39: 철합금설 | B39: 철합금설, 스텐레스.작업설부산물 | C39: kg | D39: 174.19 | F39: =ROUNDDOWN(D39*E39,0) -> 0 | H39: =ROUNDDOWN(D39*G39,0) -> 0 | J39: =ROUNDDOWN(D39*I39,0) -> 0 | K39: =E39+G39+I39 -> 0 | L39: =F39+H39+J39 -> 0 | O39: ="01" -> 01 | P39: 작업부산물(철거해체) | Q39: 1 | R39: =IF(P39="기계경비",J39,0) -> 0 | S39: =IF(P39="운반비",L39,0) -> 0 | T39: =IF(P39="작업부산물",F39,0) -> 0 | U39: =IF(P39="관급",F39,0) -> 0 | V39: =IF(P39="외주비",J39,0) -> 0 | W39: =IF(P39="장비비",J39,0) -> 0 | X39: =IF(P39="폐기물처리비",L39,0) -> 0 | Y39: =IF(P39="가설비",J39,0) -> 0 | Z39: =IF(P39="잡비제외분",F39,0) -> 0 | AA39: =IF(P39="사급자재대",L39,0) -> 0 | AB39: =IF(P39="관급자재대",L39,0) -> 0 | AC39: =IF(P39="사용자항목1",L39,0) -> 0 | AD39: =IF(P39="사용자항목2",L39,0) -> 0 | AE39: =IF(P39="안전관리비",L39,0) -> 0 | AF39: =IF(P39="품질관리비",L39,0) -> 0 | AG39: =IF(P39="작업부산물(철거해체)",L39,0) -> 0 | AH39: =IF(P39="재해예방기술지도비",L39,0) -> 0 | AI39: =IF(P39="사용자항목7",L39,0) -> 0 | AJ39: =IF(P39="석면분담금",L39,0) -> 0 | AK39: =IF(P39="임금채권부담금",L39,0) -> 0 | AL39: =IF(P39="사용자항목10",L39,0) -> 0 | AM39: =IF(P39="사용자항목11",L39,0) -> 0 | AN39: =IF(P39="사용자항목12",L39,0) -> 0 | AO39: =IF(P39="사용자항목13",L39,0) -> 0 | AP39: =IF(P39="사용자항목14",L39,0) -> 0 | AQ39: =IF(P39="사용자항목15",L39,0) -> 0 | AR39: =IF(P39="사용자항목16",L39,0) -> 0 | AS39: =IF(P39="사용자항목17",L39,0) -> 0 | AT39: =IF(P39="사용자항목18",L39,0) -> 0 | AU39: =IF(P39="사용자항목19",L39,0) -> 0
A40: 철강설 | B40: 철강설, 알루미늄, 작업설부산물 | C40: kg | D40: 78.25 | F40: =ROUNDDOWN(D40*E40,0) -> 0 | H40: =ROUNDDOWN(D40*G40,0) -> 0 | J40: =ROUNDDOWN(D40*I40,0) -> 0 | K40: =E40+G40+I40 -> 0 | L40: =F40+H40+J40 -> 0 | O40: ="01" -> 01 | P40: 작업부산물(철거해체) | Q40: 1 | R40: =IF(P40="기계경비",J40,0) -> 0 | S40: =IF(P40="운반비",L40,0) -> 0 | T40: =IF(P40="작업부산물",F40,0) -> 0 | U40: =IF(P40="관급",F40,0) -> 0 | V40: =IF(P40="외주비",J40,0) -> 0 | W40: =IF(P40="장비비",J40,0) -> 0 | X40: =IF(P40="폐기물처리비",L40,0) -> 0 | Y40: =IF(P40="가설비",J40,0) -> 0 | Z40: =IF(P40="잡비제외분",F40,0) -> 0 | AA40: =IF(P40="사급자재대",L40,0) -> 0 | AB40: =IF(P40="관급자재대",L40,0) -> 0 | AC40: =IF(P40="사용자항목1",L40,0) -> 0 | AD40: =IF(P40="사용자항목2",L40,0) -> 0 | AE40: =IF(P40="안전관리비",L40,0) -> 0 | AF40: =IF(P40="품질관리비",L40,0) -> 0 | AG40: =IF(P40="작업부산물(철거해체)",L40,0) -> 0 | AH40: =IF(P40="재해예방기술지도비",L40,0) -> 0 | AI40: =IF(P40="사용자항목7",L40,0) -> 0 | AJ40: =IF(P40="석면분담금",L40,0) -> 0 | AK40: =IF(P40="임금채권부담금",L40,0) -> 0 | AL40: =IF(P40="사용자항목10",L40,0) -> 0 | AM40: =IF(P40="사용자항목11",L40,0) -> 0 | AN40: =IF(P40="사용자항목12",L40,0) -> 0 | AO40: =IF(P40="사용자항목13",L40,0) -> 0 | AP40: =IF(P40="사용자항목14",L40,0) -> 0 | AQ40: =IF(P40="사용자항목15",L40,0) -> 0 | AR40: =IF(P40="사용자항목16",L40,0) -> 0 | AS40: =IF(P40="사용자항목17",L40,0) -> 0 | AT40: =IF(P40="사용자항목18",L40,0) -> 0 | AU40: =IF(P40="사용자항목19",L40,0) -> 0
A52: 합 계 | F52: =ROUNDDOWN(SUMIF(Q38:Q51,"1",F38:F51),0) -> 0 | H52: =ROUNDDOWN(SUMIF(Q38:Q51,"1",H38:H51),0) -> 0 | J52: =ROUNDDOWN(SUMIF(Q38:Q51,"1",J38:J51),0) -> 0 | L52: =F52+H52+J52 -> 0 | R52: =ROUNDDOWN(SUM(R38:R40),0) -> 0 | S52: =ROUNDDOWN(SUM(S38:S40),0) -> 0 | T52: =ROUNDDOWN(SUM(T38:T40),0) -> 0 | U52: =ROUNDDOWN(SUM(U38:U40),0) -> 0 | V52: =ROUNDDOWN(SUM(V38:V40),0) -> 0 | W52: =ROUNDDOWN(SUM(W38:W40),0) -> 0 | X52: =ROUNDDOWN(SUM(X38:X40),0) -> 0 | Y52: =ROUNDDOWN(SUM(Y38:Y40),0) -> 0 | ... AY52: =ROUNDDOWN(SUM(AY38:AY40),0) -> 0
A53: 0104. 방수공사
A54: 아스팔트 도막방수 | B54: 2회, 바닥 | C54: M2 | D54: 25.1 | F54: =ROUNDDOWN(D54*E54,0) -> 0 | H54: =ROUNDDOWN(D54*G54,0) -> 0 | J54: =ROUNDDOWN(D54*I54,0) -> 0 | K54: =E54+G54+I54 -> 0 | L54: =F54+H54+J54 -> 0 | O54: ="" | P54: 기계경비 | Q54: 1 | R54: =IF(P54="기계경비",J54,0) -> 0 | S54: =IF(P54="운반비",L54,0) -> 0 | T54: =IF(P54="작업부산물",F54,0) -> 0 | U54: =IF(P54="관급",F54,0) -> 0 | V54: =IF(P54="외주비",J54,0) -> 0 | W54: =IF(P54="장비비",J54,0) -> 0 | X54: =IF(P54="폐기물처리비",L54,0) -> 0 | Y54: =IF(P54="가설비",J54,0) -> 0 | Z54: =IF(P54="잡비제외분",F54,0) -> 0 | AA54: =IF(P54="사급자재대",L54,0) -> 0 | AB54: =IF(P54="관급자재대",L54,0) -> 0 | AC54: =IF(P54="사용자항목1",L54,0) -> 0 | AD54: =IF(P54="사용자항목2",L54,0) -> 0 | AE54: =IF(P54="안전관리비",L54,0) -> 0 | AF54: =IF(P54="품질관리비",L54,0) -> 0 | AG54: =IF(P54="작업부산물(철거해체)",L54,0) -> 0 | AH54: =IF(P54="재해예방기술지도비",L54,0) -> 0 | AI54: =IF(P54="사용자항목7",L54,0) -> 0 | AJ54: =IF(P54="석면분담금",L54,0) -> 0 | AK54: =IF(P54="임금채권부담금",L54,0) -> 0 | AL54: =IF(P54="사용자항목10",L54,0) -> 0 | AM54: =IF(P54="사용자항목11",L54,0) -> 0 | AN54: =IF(P54="사용자항목12",L54,0) -> 0 | AO54: =IF(P54="사용자항목13",L54,0) -> 0 | AP54: =IF(P54="사용자항목14",L54,0) -> 0 | AQ54: =IF(P54="사용자항목15",L54,0) -> 0 | AR54: =IF(P54="사용자항목16",L54,0) -> 0 | AS54: =IF(P54="사용자항목17",L54,0) -> 0 | AT54: =IF(P54="사용자항목18",L54,0) -> 0 | AU54: =IF(P54="사용자항목19",L54,0) -> 0 | AY54: PK적산
A55: 아스팔트 도막방수 | B55: 2회, 벽체 | C55: M2 | D55: 47.03 | F55: =ROUNDDOWN(D55*E55,0) -> 0 | H55: =ROUNDDOWN(D55*G55,0) -> 0 | J55: =ROUNDDOWN(D55*I55,0) -> 0 | K55: =E55+G55+I55 -> 0 | L55: =F55+H55+J55 -> 0 | O55: ="" | P55: 기계경비 | Q55: 1 | R55: =IF(P55="기계경비",J55,0) -> 0 | S55: =IF(P55="운반비",L55,0) -> 0 | T55: =IF(P55="작업부산물",F55,0) -> 0 | U55: =IF(P55="관급",F55,0) -> 0 | V55: =IF(P55="외주비",J55,0) -> 0 | W55: =IF(P55="장비비",J55,0) -> 0 | X55: =IF(P55="폐기물처리비",L55,0) -> 0 | Y55: =IF(P55="가설비",J55,0) -> 0 | Z55: =IF(P55="잡비제외분",F55,0) -> 0 | AA55: =IF(P55="사급자재대",L55,0) -> 0 | AB55: =IF(P55="관급자재대",L55,0) -> 0 | AC55: =IF(P55="사용자항목1",L55,0) -> 0 | AD55: =IF(P55="사용자항목2",L55,0) -> 0 | AE55: =IF(P55="안전관리비",L55,0) -> 0 | AF55: =IF(P55="품질관리비",L55,0) -> 0 | AG55: =IF(P55="작업부산물(철거해체)",L55,0) -> 0 | AH55: =IF(P55="재해예방기술지도비",L55,0) -> 0 | AI55: =IF(P55="사용자항목7",L55,0) -> 0 | AJ55: =IF(P55="석면분담금",L55,0) -> 0 | AK55: =IF(P55="임금채권부담금",L55,0) -> 0 | AL55: =IF(P55="사용자항목10",L55,0) -> 0 | AM55: =IF(P55="사용자항목11",L55,0) -> 0 | AN55: =IF(P55="사용자항목12",L55,0) -> 0 | AO55: =IF(P55="사용자항목13",L55,0) -> 0 | AP55: =IF(P55="사용자항목14",L55,0) -> 0 | AQ55: =IF(P55="사용자항목15",L55,0) -> 0 | AR55: =IF(P55="사용자항목16",L55,0) -> 0 | AS55: =IF(P55="사용자항목17",L55,0) -> 0 | AT55: =IF(P55="사용자항목18",L55,0) -> 0 | AU55: =IF(P55="사용자항목19",L55,0) -> 0 | AY55: PK적산
A56: 수밀코킹(10mm각) | B56: 실리콘, 공틀 주위 | C56: M | D56: 21.2 | F56: =ROUNDDOWN(D56*E56,0) -> 0 | H56: =ROUNDDOWN(D56*G56,0) -> 0 | J56: =ROUNDDOWN(D56*I56,0) -> 0 | K56: =E56+G56+I56 -> 0 | L56: =F56+H56+J56 -> 0 | O56: ="" | P56: 기계경비 | Q56: 1 | R56: =IF(P56="기계경비",J56,0) -> 0 | S56: =IF(P56="운반비",L56,0) -> 0 | T56: =IF(P56="작업부산물",F56,0) -> 0 | U56: =IF(P56="관급",F56,0) -> 0 | V56: =IF(P56="외주비",J56,0) -> 0 | W56: =IF(P56="장비비",J56,0) -> 0 | X56: =IF(P56="폐기물처리비",L56,0) -> 0 | Y56: =IF(P56="가설비",J56,0) -> 0 | Z56: =IF(P56="잡비제외분",F56,0) -> 0 | AA56: =IF(P56="사급자재대",L56,0) -> 0 | AB56: =IF(P56="관급자재대",L56,0) -> 0 | AC56: =IF(P56="사용자항목1",L56,0) -> 0 | AD56: =IF(P56="사용자항목2",L56,0) -> 0 | AE56: =IF(P56="안전관리비",L56,0) -> 0 | AF56: =IF(P56="품질관리비",L56,0) -> 0 | AG56: =IF(P56="작업부산물(철거해체)",L56,0) -> 0 | AH56: =IF(P56="재해예방기술지도비",L56,0) -> 0 | AI56: =IF(P56="사용자항목7",L56,0) -> 0 | AJ56: =IF(P56="석면분담금",L56,0) -> 0 | AK56: =IF(P56="임금채권부담금",L56,0) -> 0 | AL56: =IF(P56="사용자항목10",L56,0) -> 0 | AM56: =IF(P56="사용자항목11",L56,0) -> 0 | AN56: =IF(P56="사용자항목12",L56,0) -> 0 | AO56: =IF(P56="사용자항목13",L56,0) -> 0 | AP56: =IF(P56="사용자항목14",L56,0) -> 0 | AQ56: =IF(P56="사용자항목15",L56,0) -> 0 | AR56: =IF(P56="사용자항목16",L56,0) -> 0 | AS56: =IF(P56="사용자항목17",L56,0) -> 0 | AT56: =IF(P56="사용자항목18",L56,0) -> 0 | AU56: =IF(P56="사용자항목19",L56,0) -> 0 | AY56: PK적산
A68: 합 계 | F68: =ROUNDDOWN(SUMIF(Q54:Q67,"1",F54:F67),0) -> 0 | H68: =ROUNDDOWN(SUMIF(Q54:Q67,"1",H54:H67),0) -> 0 | J68: =ROUNDDOWN(SUMIF(Q54:Q67,"1",J54:J67),0) -> 0 | L68: =F68+H68+J68 -> 0 | R68: =ROUNDDOWN(SUM(R54:R56),0) -> 0 | S68: =ROUNDDOWN(SUM(S54:S56),0) -> 0 | T68: =ROUNDDOWN(SUM(T54:T56),0) -> 0 | U68: =ROUNDDOWN(SUM(U54:U56),0) -> 0 | V68: =ROUNDDOWN(SUM(V54:V56),0) -> 0 | W68: =ROUNDDOWN(SUM(W54:W56),0) -> 0 | X68: =ROUNDDOWN(SUM(X54:X56),0) -> 0 | Y68: =ROUNDDOWN(SUM(Y54:Y56),0) -> 0 | ... AY68: =ROUNDDOWN(SUM(AY54:AY56),0) -> 0
A69: 0105. 미장공사
...

Sheet Sheet1
