Workbook

Sheet 원가계산서
A1: 공 사 원 가 계 산 서
A2: 공사명 : 일산병원 수술실 시설환경개선공사
A3: 구 분 비 목 | D3: 구 성 비 | E3: 금 액 | F3: 비 고
A5: 순 공 사 원 가 | B5: 재료비 | C5: 직 접 재 료 비 | E5: =ROUNDDOWN(집계표!E20-집계표!AU20,0) -> 0 | G5: A1 | H5: 0 | I5: =E5 -> 0
C6: 간 접 재 료 비 | E6: =ROUNDDOWN(E5*H6,0) -> 0 | G6: A2 | H6: 0 | I6: =E6 -> 0
C7: 작업설.부산물 등(△) | E7: =집계표!S20 -> 0 | G7: A3 | H7: 0 | I7: =E7 -> 0
C8: 소 계 | E8: =SUM(E5:E6)-ABS(E7) -> 0 | G8: A | H8: 0 | I8: =E8 -> 0
B9: 노무비 | C9: 직 접 노 무 비 | E9: =ROUNDDOWN(집계표!G20,0) -> 0 | G9: B1 | H9: 0 | I9: =E9 -> 0
C10: 간 접 노 무 비 | D10: ="직.노*"&H10*100&"%" -> 직.노*17.5% | E10: =ROUNDDOWN(E9*H10,0) -> 0 | G10: B2 | H10: 0.175 | I10: =E10 -> 0
C11: 소 계 | E11: =SUM(E9:E10) -> 0 | G11: B | H11: 0 | I11: =E11 -> 0
B12: 경 비 | C12: 기 계 경 비 | E12: =ROUNDDOWN(집계표!I20,0) -> 0 | G12: C4 | H12: 0 | I12: =E12 -> 0
C13: 산 재 보 험 료 | D13: ="(노)*"&H13*100&"%" -> (노)*3.56% | E13: =ROUNDDOWN((E11)*H13,0) -> 0 | G13: C10 | H13: 0.0356 | I13: =E13 -> 0
C14: 고 용 보 험 료 | D14: ="(노)*"&H14*100&"%" -> (노)*1.01% | E14: =ROUNDDOWN((E11)*H14,0) -> 0 | G14: C11 | H14: 0.0101 | I14: =E14 -> 0
C15: 건 강 보 험 료 | D15: ="(직.노)*"&H15*100&"%" -> (직.노)*3.595% | E15: =ROUNDDOWN((E9)*H15,0) -> 0 | G15: C12 | H15: 0.03595 | I15: =E15 -> 0
C16: 연 금 보 험 료 | D16: ="(직.노)*"&H16*100&"%" -> (직.노)*4.75% | E16: =ROUNDDOWN((E9)*H16,0) -> 0 | G16: C13 | H16: 0.0475 | I16: =E16 -> 0
C17: 노인 장기 요양보험료 | D17: ="(건강보험료)*"&H17*100&"%" -> (건강보험료)*13.14% | E17: =ROUNDDOWN((E15)*H17,0) -> 0 | G17: C14 | H17: 0.1314 | I17: =E17 -> 0
C18: 퇴 직 공 제 부 금 비 | D18: ="(직.노)*"&H18*100&"%" -> (직.노)*2.3% | E18: =ROUNDDOWN((E9)*H18,0) -> 0 | G18: C15 | H18: 0.023 | I18: =E18 -> 0
C19: 산업 안전 보건관리비 | D19: ="(재+직.노+(관급-0)/1.1)*"&H19*100&"%"&" < (재+직.노)*3.11%*1.2" -> (재+직.노+(관급-0)/1.1)*3.11% < (재+직.노)*3.11%*1.2 | E19: =ROUNDDOWN((E8+E9+(E39-0)/1.1)*H19,0) -> 0 | F19: 3,421,821 < 4,106,185 | G19: C16 | H19: 0.0311 | I19: =E19 -> 0
C20: 기 타 경 비 | D20: ="(재+노)*"&H20*100&"%" -> (재+노)*5% | E20: =ROUNDDOWN((E8+E11)*H20,0) -> 0 | G20: C20 | H20: 0.05 | I20: =E20 -> 0
C21: 환 경 보 전 비 | D21: ="(재+직.노+기.경)*"&H21*100&"%" -> (재+직.노+기.경)*0.3% | E21: =ROUNDDOWN((E8+E9+E12)*H21,0) -> 0 | G21: C25 | H21: 0.003 | I21: =E21 -> 0
C22: 건설하도급보증수수료 | D22: ="(재+직.노+기.경)*"&H22*100&"%" -> (재+직.노+기.경)*0.081% | E22: =ROUNDDOWN((E8+E9+E12)*H22,0) -> 0 | G22: C30 | H22: 0.00081 | I22: =E22 -> 0
C23: 공사 이행 보증수수료 | D23: ="(재+직.노+기.경)*"&H23*100&"%"&"*(6/12)" -> (재+직.노+기.경)*0.0108%*(6/12) | E23: =ROUNDDOWN((E8+E9+E12)*H23*(6/12),0) -> 0 | G23: C31 | H23: 0.000108 | I23: =E23 -> 0
C24: 건설기계대여보증수수료 | D24: ="(재+직.노+기.경)*"&H24*100&"%" -> (재+직.노+기.경)*0.07% | E24: =ROUNDDOWN((E8+E9+E12)*H24,0) -> 0 | G24: C32 | H24: 0.0007 | I24: =E24 -> 0
C25: 안 전 관 리 비 | E25: =집계표!AD20 -> 0 | G25: C17 | H25: 0 | I25: =E25 -> 0
C26: 품 질 관 리 비 | E26: =집계표!AE20 -> 0 | G26: C18 | H26: 0 | I26: =E26 -> 0
C27: 임금채권부담금 | D27: ="(노)*"&H27*100&"%" -> (노)*0.09% | E27: =ROUNDDOWN((E11)*H27,0) -> 0 | G27: C34 | H27: 0.0009 | I27: =E27 -> 0
C28: 석면분담금 | D28: ="(노)*"&H28*100&"%" -> (노)*0.006% | E28: =ROUNDDOWN((E11)*H28,0) -> 0 | G28: C33 | H28: 6e-05 | I28: =E28 -> 0
C29: 소 계 | E29: =SUM(E12:E28) -> 0 | G29: C | H29: 0 | I29: =E29 -> 0
B30: 계 | E30: =E8+E11+E29 -> 0 | G30: X | H30: 0 | I30: =E30 -> 0
A31: 일 반 관 리 비 | D31: ="(재+노+경)*"&H31*100&"%" -> (재+노+경)*8% | E31: =ROUNDDOWN((E8+E11+E29)*H31,0) -> 0 | G31: D | H31: 0.08 | I31: =E31 -> 0
A32: 작업설.부산물 등(△) | E32: =ROUNDDOWN(집계표!AF20,0) -> 0 | G32: M2 | H32: 0 | I32: =E32 -> 0
A33: 이 윤 | D33: ="(노+경+일)*"&H33*100&"%" -> (노+경+일)*15% | E33: =ROUNDDOWN((E11+E29+E31)*H33,0) -> 0 | G33: E | H33: 0.15 | I33: =(I11+I29+I31)*H33 -> 0
A34: 폐 기 물 처 리 비 | E34: =ROUNDDOWN(집계표!W20,0) -> 0 | G34: L | H34: 0 | I34: =E34 -> 0
A35: 총 원 가 | E35: =SUM(E30:E34) -> 0 | G35: F | H35: 0 | I35: =SUM(I30:I34) -> 0
A36: 부 가 가 치 세 | D36: ="(총원가)*"&H36*100&"%" -> (총원가)*10% | E36: =ROUNDDOWN(((E37)/110)*10,0)+J36 -> 0 | G36: H | H36: 0.1 | I36: =ROUNDDOWN((I35)*H36,0)+24 -> 24
A37: 도 급 금 액 | E37: =INT(I37/1000)*1000 -> 0 | G37: Y | H37: 0 | I37: =I35+I36 -> 24
A38: 재해예방기술지도비 | E38: =집계표!AG20 -> 0 | G38: M3 | H38: 0 | I38: =E38 -> 0
A39: 관 급 자 재 대 | E39: =집계표!AA20 -> 0 | G39: J | H39: 0 | I39: =E39 -> 0
A40: 사 급 자 재 대 | E40: =집계표!Z20 -> 0 | G40: K | H40: 0 | I40: =E40 -> 0
A41: 총 공 사 금 액 | E41: =ROUNDDOWN(E37+E38+E39+E40,0) -> 0 | H41: 0 | I41: =I37+I38+I39+I40 -> 24

Sheet 집계표
A1: 공 사 집 계 표
A2: 공사명 : 일산병원 수술실 시설환경개선공사
A3: 품 명 | B3: 단위 | C3: 수량 | D3: 재 료 비 | F3: 노 무 비 | H3: 경 비 | J3: 합 계 | L3: 비고
D4: 단 가 | E4: 금 액 | F4: 단 가 | G4: 금 액 | H4: 단 가 | I4: 금 액 | J4: 단 가 | K4: 금 액 | M4: 손료요율 | N4: 손료구분 | O4: 적용구분 | P4: 합계구분 | Q4: 기계경비 | R4: 운반비 | S4: 작업부산물 | T4: 관급 | U4: 외주비 | V4: 장비비 | W4: 폐기물처리비 | X4: 가설비 | Y4: 잡비제외분 | Z4: 사급자재대 | AA4: 관급자재대 | AB4: 사용자항목1 | AC4: 사용자항목2 | AD4: 안전관리비 | AE4: 품질관리비 | AF4: 작업부산물(철거해체) | AG4: 재해예방기술지도비 | AH4: 사용자항목7 | AI4: 석면분담금 | AJ4: 임금채권부담금 | AK4: 사용자항목10 | AL4: 사용자항목11 | AM4: 사용자항목12 | AN4: 사용자항목13 | AO4: 사용자항목14 | AP4: 사용자항목15 | AQ4: 사용자항목16 | AR4: 사용자항목17 | AS4: 사용자항목18 | AT4: 사용자항목19 | AU4: 간접재료비 | AV4: 품목구분 | AW4: 조달코드 | AX4: 구분
A5: 01. 건축공사 | B5: 식 | C5: 1 | D5: =E36 -> 0 | E5: =C5*D5 -> 0 | F5: =G36 -> 0 | G5: =C5*F5 -> 0 | H5: =I36 -> 0 | I5: =C5*H5 -> 0 | J5: =D5+F5+H5 -> 0 | K5: =E5+G5+I5 -> 0 | P5: 1 | Q5: =C5*Q36 -> 0 | R5: =C5*R36 -> 0 | S5: =C5*S36 -> 0 | T5: =C5*T36 -> 0 | U5: =C5*U36 -> 0 | V5: =C5*V36 -> 0 | W5: =C5*W36 -> 0 | X5: =C5*X36 -> 0 | Y5: =C5*Y36 -> 0 | Z5: =C5*Z36 -> 0 | AA5: =C5*AA36 -> 0 | AB5: =C5*AB36 -> 0 | AC5: =C5*AC36 -> 0 | AD5: =C5*AD36 -> 0 | AE5: =C5*AE36 -> 0 | AF5: =C5*AF36 -> 0 | AG5: =C5*AG36 -> 0 | AH5: =C5*AH36 -> 0 | AI5: =C5*AI36 -> 0 | AJ5: =C5*AJ36 -> 0 | AK5: =C5*AK36 -> 0 | AL5: =C5*AL36 -> 0 | AM5: =C5*AM36 -> 0 | AN5: =C5*AN36 -> 0 | AO5: =C5*AO36 -> 0 | AP5: =C5*AP36 -> 0 | AQ5: =C5*AQ36 -> 0 | AR5: =C5*AR36 -> 0 | AS5: =C5*AS36 -> 0 | AT5: =C5*AT36 -> 0 | AU5: =C5*AU36 -> 0
A20: 합 계 | E20: =SUMIF(P5:P5,"1",E5:E5) -> 0 | G20: =SUMIF(P5:P5,"1",G5:G5) -> 0 | I20: =SUMIF(P5:P5,"1",I5:I5) -> 0 | K20: =E20+G20+I20 -> 0 | Q20: =SUM(Q5:Q5) -> 0 | R20: =SUM(R5:R5) -> 0 | S20: =SUM(S5:S5) -> 0 | T20: =SUM(T5:T5) -> 0 | U20: =SUM(U5:U5) -> 0 | V20: =SUM(V5:V5) -> 0 | W20: =SUM(W5:W5) -> 0 | X20: =SUM(X5:X5) -> 0 | ... AX20: =SUM(AX5:AX5) -> 0
A21: 01. 건축공사
A22: 0101. 가설공사 | B22: 식 | C22: 1 | D22: =내역서!F20 -> 0 | E22: =C22*D22 -> 0 | F22: =내역서!H20 -> 0 | G22: =C22*F22 -> 0 | H22: =내역서!J20 -> 0 | I22: =C22*H22 -> 0 | J22: =D22+F22+H22 -> 0 | K22: =E22+G22+I22 -> 0 | P22: 1 | Q22: =C22*내역서!R20 -> 0 | R22: =C22*내역서!S20 -> 0 | S22: =C22*내역서!T20 -> 0 | T22: =C22*내역서!U20 -> 0 | U22: =C22*내역서!V20 -> 0 | V22: =C22*내역서!W20 -> 0 | W22: =C22*내역서!X20 -> 0 | X22: =C22*내역서!Y20 -> 0 | Y22: =C22*내역서!Z20 -> 0 | Z22: =C22*내역서!AA20 -> 0 | AA22: =C22*내역서!AB20 -> 0 | AB22: =C22*내역서!AC20 -> 0 | AC22: =C22*내역서!AD20 -> 0 | AD22: =C22*내역서!AE20 -> 0 | AE22: =C22*내역서!AF20 -> 0 | AF22: =C22*내역서!AG20 -> 0 | AG22: =C22*내역서!AH20 -> 0 | AH22: =C22*내역서!AI20 -> 0 | AI22: =C22*내역서!AJ20 -> 0 | AJ22: =C22*내역서!AK20 -> 0 | AK22: =C22*내역서!AL20 -> 0 | AL22: =C22*내역서!AM20 -> 0 | AM22: =C22*내역서!AN20 -> 0 | AN22: =C22*내역서!AO20 -> 0 | AO22: =C22*내역서!AP20 -> 0 | AP22: =C22*내역서!AQ20 -> 0 | AQ22: =C22*내역서!AR20 -> 0 | AR22: =C22*내역서!AS20 -> 0 | AS22: =C22*내역서!AT20 -> 0 | AT22: =C22*내역서!AU20 -> 0 | AU22: =C22*내역서!AV20 -> 0
A23: 0102. 철거공사 | B23: 식 | C23: 1 | D23: =내역서!F36 -> 0 | E23: =C23*D23 -> 0 | F23: =내역서!H36 -> 0 | G23: =C23*F23 -> 0 | H23: =내역서!J36 -> 0 | I23: =C23*H23 -> 0 | J23: =D23+F23+H23 -> 0 | K23: =E23+G23+I23 -> 0 | P23: 1 | Q23: =C23*내역서!R36 -> 0 | R23: =C23*내역서!S36 -> 0 | S23: =C23*내역서!T36 -> 0 | T23: =C23*내역서!U36 -> 0 | U23: =C23*내역서!V36 -> 0 | V23: =C23*내역서!W36 -> 0 | W23: =C23*내역서!X36 -> 0 | X23: =C23*내역서!Y36 -> 0 | Y23: =C23*내역서!Z36 -> 0 | Z23: =C23*내역서!AA36 -> 0 | AA23: =C23*내역서!AB36 -> 0 | AB23: =C23*내역서!AC36 -> 0 | AC23: =C23*내역서!AD36 -> 0 | AD23: =C23*내역서!AE36 -> 0 | AE23: =C23*내역서!AF36 -> 0 | AF23: =C23*내역서!AG36 -> 0 | AG23: =C23*내역서!AH36 -> 0 | AH23: =C23*내역서!AI36 -> 0 | AI23: =C23*내역서!AJ36 -> 0 | AJ23: =C23*내역서!AK36 -> 0 | AK23: =C23*내역서!AL36 -> 0 | AL23: =C23*내역서!AM36 -> 0 | AM23: =C23*내역서!AN36 -> 0 | AN23: =C23*내역서!AO36 -> 0 | AO23: =C23*내역서!AP36 -> 0 | AP23: =C23*내역서!AQ36 -> 0 | AQ23: =C23*내역서!AR36 -> 0 | AR23: =C23*내역서!AS36 -> 0 | AS23: =C23*내역서!AT36 -> 0 | AT23: =C23*내역서!AU36 -> 0 | AU23: =C23*내역서!AV36 -> 0
A24: 0103. 작업부산물(철거해체) | B24: 식 | C24: 1 | D24: =내역서!F52 -> 0 | E24: =C24*D24 -> 0 | F24: =내역서!H52 -> 0 | G24: =C24*F24 -> 0 | H24: =내역서!J52 -> 0 | I24: =C24*H24 -> 0 | J24: =D24+F24+H24 -> 0 | K24: =E24+G24+I24 -> 0 | L24: 합계제외 | Q24: =C24*내역서!R52 -> 0 | R24: =C24*내역서!S52 -> 0 | S24: =C24*내역서!T52 -> 0 | T24: =C24*내역서!U52 -> 0 | U24: =C24*내역서!V52 -> 0 | V24: =C24*내역서!W52 -> 0 | W24: =C24*내역서!X52 -> 0 | X24: =C24*내역서!Y52 -> 0 | Y24: =C24*내역서!Z52 -> 0 | Z24: =C24*내역서!AA52 -> 0 | AA24: =C24*내역서!AB52 -> 0 | AB24: =C24*내역서!AC52 -> 0 | AC24: =C24*내역서!AD52 -> 0 | AD24: =C24*내역서!AE52 -> 0 | AE24: =C24*내역서!AF52 -> 0 | AF24: =C24*내역서!AG52 -> 0 | AG24: =C24*내역서!AH52 -> 0 | AH24: =C24*내역서!AI52 -> 0 | AI24: =C24*내역서!AJ52 -> 0 | AJ24: =C24*내역서!AK52 -> 0 | AK24: =C24*내역서!AL52 -> 0 | AL24: =C24*내역서!AM52 -> 0 | AM24: =C24*내역서!AN52 -> 0 | AN24: =C24*내역서!AO52 -> 0 | AO24: =C24*내역서!AP52 -> 0 | AP24: =C24*내역서!AQ52 -> 0 | AQ24: =C24*내역서!AR52 -> 0 | AR24: =C24*내역서!AS52 -> 0 | AS24: =C24*내역서!AT52 -> 0 | AT24: =C24*내역서!AU52 -> 0 | AU24: =C24*내역서!AV52 -> 0
A25: 0104. 방수공사 | B25: 식 | C25: 1 | D25: =내역서!F68 -> 0 | E25: =C25*D25 -> 0 | F25: =내역서!H68 -> 0 | G25: =C25*F25 -> 0 | H25: =내역서!J68 -> 0 | I25: =C25*H25 -> 0 | J25: =D25+F25+H25 -> 0 | K25: =E25+G25+I25 -> 0 | P25: 1 | Q25: =C25*내역서!R68 -> 0 | R25: =C25*내역서!S68 -> 0 | S25: =C25*내역서!T68 -> 0 | T25: =C25*내역서!U68 -> 0 | U25: =C25*내역서!V68 -> 0 | V25: =C25*내역서!W68 -> 0 | W25: =C25*내역서!X68 -> 0 | X25: =C25*내역서!Y68 -> 0 | Y25: =C25*내역서!Z68 -> 0 | Z25: =C25*내역서!AA68 -> 0 | AA25: =C25*내역서!AB68 -> 0 | AB25: =C25*내역서!AC68 -> 0 | AC25: =C25*내역서!AD68 -> 0 | AD25: =C25*내역서!AE68 -> 0 | AE25: =C25*내역서!AF68 -> 0 | AF25: =C25*내역서!AG68 -> 0 | AG25: =C25*내역서!AH68 -> 0 | AH25: =C25*내역서!AI68 -> 0 | AI25: =C25*내역서!AJ68 -> 0 | AJ25: =C25*내역서!AK68 -> 0 | AK25: =C25*내역서!AL68 -> 0 | AL25: =C25*내역서!AM68 -> 0 | AM25: =C25*내역서!AN68 -> 0 | AN25: =C25*내역서!AO68 -> 0 | AO25: =C25*내역서!AP68 -> 0 | AP25: =C25*내역서!AQ68 -> 0 | AQ25: =C25*내역서!AR68 -> 0 | AR25: =C25*내역서!AS68 -> 0 | AS25: =C25*내역서!AT68 -> 0 | AT25: =C25*내역서!AU68 -> 0 | AU25: =C25*내역서!AV68 -> 0
A26: 0105. 미장공사 | B26: 식 | C26: 1 | D26: =내역서!F84 -> 0 | E26: =C26*D26 -> 0 | F26: =내역서!H84 -> 0 | G26: =C26*F26 -> 0 | H26: =내역서!J84 -> 0 | I26: =C26*H26 -> 0 | J26: =D26+F26+H26 -> 0 | K26: =E26+G26+I26 -> 0 | P26: 1 | Q26: =C26*내역서!R84 -> 0 | R26: =C26*내역서!S84 -> 0 | S26: =C26*내역서!T84 -> 0 | T26: =C26*내역서!U84 -> 0 | U26: =C26*내역서!V84 -> 0 | V26: =C26*내역서!W84 -> 0 | W26: =C26*내역서!X84 -> 0 | X26: =C26*내역서!Y84 -> 0 | Y26: =C26*내역서!Z84 -> 0 | Z26: =C26*내역서!AA84 -> 0 | AA26: =C26*내역서!AB84 -> 0 | AB26: =C26*내역서!AC84 -> 0 | AC26: =C26*내역서!AD84 -> 0 | AD26: =C26*내역서!AE84 -> 0 | AE26: =C26*내역서!AF84 -> 0 | AF26: =C26*내역서!AG84 -> 0 | AG26: =C26*내역서!AH84 -> 0 | AH26: =C26*내역서!AI84 -> 0 | AI26: =C26*내역서!AJ84 -> 0 | AJ26: =C26*내역서!AK84 -> 0 | AK26: =C26*내역서!AL84 -> 0 | AL26: =C26*내역서!AM84 -> 0 | AM26: =C26*내역서!AN84 -> 0 | AN26: =C26*내역서!AO84 -> 0 | AO26: =C26*내역서!AP84 -> 0 | AP26: =C26*내역서!AQ84 -> 0 | AQ26: =C26*내역서!AR84 -> 0 | AR26: =C26*내역서!AS84 -> 0 | AS26: =C26*내역서!AT84 -> 0 | AT26: =C26*내역서!AU84 -> 0 | AU26: =C26*내역서!AV84 -> 0
A27: 0106. 타일공사 | B27: 식 | C27: 1 | D27: =내역서!F100 -> 0 | E27: =C27*D27 -> 0 | F27: =내역서!H100 -> 0 | G27: =C27*F27 -> 0 | H27: =내역서!J100 -> 0 | I27: =C27*H27 -> 0 | J27: =D27+F27+H27 -> 0 | K27: =E27+G27+I27 -> 0 | P27: 1 | Q27: =C27*내역서!R100 -> 0 | R27: =C27*내역서!S100 -> 0 | S27: =C27*내역서!T100 -> 0 | T27: =C27*내역서!U100 -> 0 | U27: =C27*내역서!V100 -> 0 | V27: =C27*내역서!W100 -> 0 | W27: =C27*내역서!X100 -> 0 | X27: =C27*내역서!Y100 -> 0 | Y27: =C27*내역서!Z100 -> 0 | Z27: =C27*내역서!AA100 -> 0 | AA27: =C27*내역서!AB100 -> 0 | AB27: =C27*내역서!AC100 -> 0 | AC27: =C27*내역서!AD100 -> 0 | AD27: =C27*내역서!AE100 -> 0 | AE27: =C27*내역서!AF100 -> 0 | AF27: =C27*내역서!AG100 -> 0 | AG27: =C27*내역서!AH100 -> 0 | AH27: =C27*내역서!AI100 -> 0 | AI27: =C27*내역서!AJ100 -> 0 | AJ27: =C27*내역서!AK100 -> 0 | AK27: =C27*내역서!AL100 -> 0 | AL27: =C27*내역서!AM100 -> 0 | AM27: =C27*내역서!AN100 -> 0 | AN27: =C27*내역서!AO100 -> 0 | AO27: =C27*내역서!AP100 -> 0 | AP27: =C27*내역서!AQ100 -> 0 | AQ27: =C27*내역서!AR100 -> 0 | AR27: =C27*내역서!AS100 -> 0 | AS27: =C27*내역서!AT100 -> 0 | AT27: =C27*내역서!AU100 -> 0 | AU27: =C27*내역서!AV100 -> 0
A28: 0107. 창호공사 | B28: 식 | C28: 1 | D28: =내역서!F116 -> 0 | E28: =C28*D28 -> 0 | F28: =내역서!H116 -> 0 | G28: =C28*F28 -> 0 | H28: =내역서!J116 -> 0 | I28: =C28*H28 -> 0 | J28: =D28+F28+H28 -> 0 | K28: =E28+G28+I28 -> 0 | P28: 1 | Q28: =C28*내역서!R116 -> 0 | R28: =C28*내역서!S116 -> 0 | S28: =C28*내역서!T116 -> 0 | T28: =C28*내역서!U116 -> 0 | U28: =C28*내역서!V116 -> 0 | V28: =C28*내역서!W116 -> 0 | W28: =C28*내역서!X116 -> 0 | X28: =C28*내역서!Y116 -> 0 | Y28: =C28*내역서!Z116 -> 0 | Z28: =C28*내역서!AA116 -> 0 | AA28: =C28*내역서!AB116 -> 0 | AB28: =C28*내역서!AC116 -> 0 | AC28: =C28*내역서!AD116 -> 0 | AD28: =C28*내역서!AE116 -> 0 | AE28: =C28*내역서!AF116 -> 0 | AF28: =C28*내역서!AG116 -> 0 | AG28: =C28*내역서!AH116 -> 0 | AH28: =C28*내역서!AI116 -> 0 | AI28: =C28*내역서!AJ116 -> 0 | AJ28: =C28*내역서!AK116 -> 0 | AK28: =C28*내역서!AL116 -> 0 | AL28: =C28*내역서!AM116 -> 0 | AM28: =C28*내역서!AN116 -> 0 | AN28: =C28*내역서!AO116 -> 0 | AO28: =C28*내역서!AP116 -> 0 | AP28: =C28*내역서!AQ116 -> 0 | AQ28: =C28*내역서!AR116 -> 0 | AR28: =C28*내역서!AS116 -> 0 | AS28: =C28*내역서!AT116 -> 0 | AT28: =C28*내역서!AU116 -> 0 | AU28: =C28*내역서!AV116 -> 0
A29: 0108. 수장공사 | B29: 식 | C29: 1 | D29: =내역서!F132 -> 0 | E29: =C29*D29 -> 0 | F29: =내역서!H132 -> 0 | G29: =C29*F29 -> 0 | H29: =내역서!J132 -> 0 | I29: =C29*H29 -> 0 | J29: =D29+F29+H29 -> 0 | K29: =E29+G29+I29 -> 0 | P29: 1 | Q29: =C29*내역서!R132 -> 0 | R29: =C29*내역서!S132 -> 0 | S29: =C29*내역서!T132 -> 0 | T29: =C29*내역서!U132 -> 0 | U29: =C29*내역서!V132 -> 0 | V29: =C29*내역서!W132 -> 0 | W29: =C29*내역서!X132 -> 0 | X29: =C29*내역서!Y132 -> 0 | Y29: =C29*내역서!Z132 -> 0 | Z29: =C29*내역서!AA132 -> 0 | AA29: =C29*내역서!AB132 -> 0 | AB29: =C29*내역서!AC132 -> 0 | AC29: =C29*내역서!AD132 -> 0 | AD29: =C29*내역서!AE132 -> 0 | AE29: =C29*내역서!AF132 -> 0 | AF29: =C29*내역서!AG132 -> 0 | AG29: =C29*내역서!AH132 -> 0 | AH29: =C29*내역서!AI132 -> 0 | AI29: =C29*내역서!AJ132 -> 0 | AJ29: =C29*내역서!AK132 -> 0 | AK29: =C29*내역서!AL132 -> 0 | AL29: =C29*내역서!AM132 -> 0 | AM29: =C29*내역서!AN132 -> 0 | AN29: =C29*내역서!AO132 -> 0 | AO29: =C29*내역서!AP132 -> 0 | AP29: =C29*내역서!AQ132 -> 0 | AQ29: =C29*내역서!AR132 -> 0 | AR29: =C29*내역서!AS132 -> 0 | AS29: =C29*내역서!AT132 -> 0 | AT29: =C29*내역서!AU132 -> 0 | AU29: =C29*내역서!AV132 -> 0
A30: 0109. 금속공사 | B30: 식 | C30: 1 | D30: =내역서!F148 -> 0 | E30: =C30*D30 -> 0 | F30: =내역서!H148 -> 0 | G30: =C30*F30 -> 0 | H30: =내역서!J148 -> 0 | I30: =C30*H30 -> 0 | J30: =D30+F30+H30 -> 0 | K30: =E30+G30+I30 -> 0 | P30: 1 | Q30: =C30*내역서!R148 -> 0 | R30: =C30*내역서!S148 -> 0 | S30: =C30*내역서!T148 -> 0 | T30: =C30*내역서!U148 -> 0 | U30: =C30*내역서!V148 -> 0 | V30: =C30*내역서!W148 -> 0 | W30: =C30*내역서!X148 -> 0 | X30: =C30*내역서!Y148 -> 0 | Y30: =C30*내역서!Z148 -> 0 | Z30: =C30*내역서!AA148 -> 0 | AA30: =C30*내역서!AB148 -> 0 | AB30: =C30*내역서!AC148 -> 0 | AC30: =C30*내역서!AD148 -> 0 | AD30: =C30*내역서!AE148 -> 0 | AE30: =C30*내역서!AF148 -> 0 | AF30: =C30*내역서!AG148 -> 0 | AG30: =C30*내역서!AH148 -> 0 | AH30: =C30*내역서!AI148 -> 0 | AI30: =C30*내역서!AJ148 -> 0 | AJ30: =C30*내역서!AK148 -> 0 | AK30: =C30*내역서!AL148 -> 0 | AL30: =C30*내역서!AM148 -> 0 | AM30: =C30*내역서!AN148 -> 0 | AN30: =C30*내역서!AO148 -> 0 | AO30: =C30*내역서!AP148 -> 0 | AP30: =C30*내역서!AQ148 -> 0 | AQ30: =C30*내역서!AR148 -> 0 | AR30: =C30*내역서!AS148 -> 0 | AS30: =C30*내역서!AT148 -> 0 | AT30: =C30*내역서!AU148 -> 0 | AU30: =C30*내역서!AV148 -> 0
A31: 0110. 도장공사 | B31: 식 | C31: 1 | D31: =내역서!F164 -> 0 | E31: =C31*D31 -> 0 | F31: =내역서!H164 -> 0 | G31: =C31*F31 -> 0 | H31: =내역서!J164 -> 0 | I31: =C31*H31 -> 0 | J31: =D31+F31+H31 -> 0 | K31: =E31+G31+I31 -> 0 | P31: 1 | Q31: =C31*내역서!R164 -> 0 | R31: =C31*내역서!S164 -> 0 | S31: =C31*내역서!T164 -> 0 | T31: =C31*내역서!U164 -> 0 | U31: =C31*내역서!V164 -> 0 | V31: =C31*내역서!W164 -> 0 | W31: =C31*내역서!X164 -> 0 | X31: =C31*내역서!Y164 -> 0 | Y31: =C31*내역서!Z164 -> 0 | Z31: =C31*내역서!AA164 -> 0 | AA31: =C31*내역서!AB164 -> 0 | AB31: =C31*내역서!AC164 -> 0 | AC31: =C31*내역서!AD164 -> 0 | AD31: =C31*내역서!AE164 -> 0 | AE31: =C31*내역서!AF164 -> 0 | AF31: =C31*내역서!AG164 -> 0 | AG31: =C31*내역서!AH164 -> 0 | AH31: =C31*내역서!AI164 -> 0 | AI31: =C31*내역서!AJ164 -> 0 | AJ31: =C31*내역서!AK164 -> 0 | AK31: =C31*내역서!AL164 -> 0 | AL31: =C31*내역서!AM164 -> 0 | AM31: =C31*내역서!AN164 -> 0 | AN31: =C31*내역서!AO164 -> 0 | AO31: =C31*내역서!AP164 -> 0 | AP31: =C31*내역서!AQ164 -> 0 | AQ31: =C31*내역서!AR164 -> 0 | AR31: =C31*내역서!AS164 -> 0 | AS31: =C31*내역서!AT164 -> 0 | AT31: =C31*내역서!AU164 -> 0 | AU31: =C31*내역서!AV164 -> 0
A32: 0111. 자동문및반자동문공사 | B32: 식 | C32: 1 | D32: =내역서!F180 -> 0 | E32: =C32*D32 -> 0 | F32: =내역서!H180 -> 0 | G32: =C32*F32 -> 0 | H32: =내역서!J180 -> 0 | I32: =C32*H32 -> 0 | J32: =D32+F32+H32 -> 0 | K32: =E32+G32+I32 -> 0 | P32: 1 | Q32: =C32*내역서!R180 -> 0 | R32: =C32*내역서!S180 -> 0 | S32: =C32*내역서!T180 -> 0 | T32: =C32*내역서!U180 -> 0 | U32: =C32*내역서!V180 -> 0 | V32: =C32*내역서!W180 -> 0 | W32: =C32*내역서!X180 -> 0 | X32: =C32*내역서!Y180 -> 0 | Y32: =C32*내역서!Z180 -> 0 | Z32: =C32*내역서!AA180 -> 0 | AA32: =C32*내역서!AB180 -> 0 | AB32: =C32*내역서!AC180 -> 0 | AC32: =C32*내역서!AD180 -> 0 | AD32: =C32*내역서!AE180 -> 0 | AE32: =C32*내역서!AF180 -> 0 | AF32: =C32*내역서!AG180 -> 0 | AG32: =C32*내역서!AH180 -> 0 | AH32: =C32*내역서!AI180 -> 0 | AI32: =C32*내역서!AJ180 -> 0 | AJ32: =C32*내역서!AK180 -> 0 | AK32: =C32*내역서!AL180 -> 0 | AL32: =C32*내역서!AM180 -> 0 | AM32: =C32*내역서!AN180 -> 0 | AN32: =C32*내역서!AO180 -> 0 | AO32: =C32*내역서!AP180 -> 0 | AP32: =C32*내역서!AQ180 -> 0 | AQ32: =C32*내역서!AR180 -> 0 | AR32: =C32*내역서!AS180 -> 0 | AS32: =C32*내역서!AT180 -> 0 | AT32: =C32*내역서!AU180 -> 0 | AU32: =C32*내역서!AV180 -> 0
A33: 0112. 핸드레일공사 | B33: 식 | C33: 1 | D33: =내역서!F196 -> 0 | E33: =C33*D33 -> 0 | F33: =내역서!H196 -> 0 | G33: =C33*F33 -> 0 | H33: =내역서!J196 -> 0 | I33: =C33*H33 -> 0 | J33: =D33+F33+H33 -> 0 | K33: =E33+G33+I33 -> 0 | P33: 1 | Q33: =C33*내역서!R196 -> 0 | R33: =C33*내역서!S196 -> 0 | S33: =C33*내역서!T196 -> 0 | T33: =C33*내역서!U196 -> 0 | U33: =C33*내역서!V196 -> 0 | V33: =C33*내역서!W196 -> 0 | W33: =C33*내역서!X196 -> 0 | X33: =C33*내역서!Y196 -> 0 | Y33: =C33*내역서!Z196 -> 0 | Z33: =C33*내역서!AA196 -> 0 | AA33: =C33*내역서!AB196 -> 0 | AB33: =C33*내역서!AC196 -> 0 | AC33: =C33*내역서!AD196 -> 0 | AD33: =C33*내역서!AE196 -> 0 | AE33: =C33*내역서!AF196 -> 0 | AF33: =C33*내역서!AG196 -> 0 | AG33: =C33*내역서!AH196 -> 0 | AH33: =C33*내역서!AI196 -> 0 | AI33: =C33*내역서!AJ196 -> 0 | AJ33: =C33*내역서!AK196 -> 0 | AK33: =C33*내역서!AL196 -> 0 | AL33: =C33*내역서!AM196 -> 0 | AM33: =C33*내역서!AN196 -> 0 | AN33: =C33*내역서!AO196 -> 0 | AO33: =C33*내역서!AP196 -> 0 | AP33: =C33*내역서!AQ196 -> 0 | AQ33: =C33*내역서!AR196 -> 0 | AR33: =C33*내역서!AS196 -> 0 | AS33: =C33*내역서!AT196 -> 0 | AT33: =C33*내역서!AU196 -> 0 | AU33: =C33*내역서!AV196 -> 0
A34: 0113. 폐기물처리비 | B34: 식 | C34: 1 | D34: =내역서!F212 -> 0 | E34: =C34*D34 -> 0 | F34: =내역서!H212 -> 0 | G34: =C34*F34 -> 0 | H34: =내역서!J212 -> 0 | I34: =C34*H34 -> 0 | J34: =D34+F34+H34 -> 0 | K34: =E34+G34+I34 -> 0 | L34: 합계제외 | Q34: =C34*내역서!R212 -> 0 | R34: =C34*내역서!S212 -> 0 | S34: =C34*내역서!T212 -> 0 | T34: =C34*내역서!U212 -> 0 | U34: =C34*내역서!V212 -> 0 | V34: =C34*내역서!W212 -> 0 | W34: =C34*내역서!X212 -> 0 | X34: =C34*내역서!Y212 -> 0 | Y34: =C34*내역서!Z212 -> 0 | Z34: =C34*내역서!AA212 -> 0 | AA34: =C34*내역서!AB212 -> 0 | AB34: =C34*내역서!AC212 -> 0 | AC34: =C34*내역서!AD212 -> 0 | AD34: =C34*내역서!AE212 -> 0 | AE34: =C34*내역서!AF212 -> 0 | AF34: =C34*내역서!AG212 -> 0 | AG34: =C34*내역서!AH212 -> 0 | AH34: =C34*내역서!AI212 -> 0 | AI34: =C34*내역서!AJ212 -> 0 | AJ34: =C34*내역서!AK212 -> 0 | AK34: =C34*내역서!AL212 -> 0 | AL34: =C34*내역서!AM212 -> 0 | AM34: =C34*내역서!AN212 -> 0 | AN34: =C34*내역서!AO212 -> 0 | AO34: =C34*내역서!AP212 -> 0 | AP34: =C34*내역서!AQ212 -> 0 | AQ34: =C34*내역서!AR212 -> 0 | AR34: =C34*내역서!AS212 -> 0 | AS34: =C34*내역서!AT212 -> 0 | AT34: =C34*내역서!AU212 -> 0 | AU34: =C34*내역서!AV212 -> 0
A36: 합 계 | E36: =SUMIF(P22:P34,"1",E22:E34) -> 0 | G36: =SUMIF(P22:P34,"1",G22:G34) -> 0 | I36: =SUMIF(P22:P34,"1",I22:I34) -> 0 | K36: =E36+G36+I36 -> 0 | Q36: =SUM(Q22:Q34) -> 0 | R36: =SUM(R22:R34) -> 0 | S36: =SUM(S22:S34) -> 0 | T36: =SUM(T22:T34) -> 0 | U36: =SUM(U22:U34) -> 0 | V36: =SUM(V22:V34) -> 0 | W36: =SUM(W22:W34) -> 0 | X36: =SUM(X22:X34) -> 0 | ... AX36: =SUM(AX22:AX34) -> 0

Sheet 내역서
A1: 공 사 내 역 서
A2: 공사명 : 일산병원 수술실 시설환경개선공사
A3: 품 명 | B3: 규 격 | C3: 단위 | D3: 수 량 | E3: 재 료 비 | G3: 노 무 비 | I3: 경 비 | K3: 합 계 | M3: 비고
E4: 단 가 | F4: 금 액 | G4: 단 가 | H4: 금 액 | I4: 단 가 | J4: 금 액 | K4: 단 가 | L4: 금 액 | N4: 손료요율 | O4: 손료구분 | P4: 적용구분 | Q4: 합계구분 | R4: 기계경비 | S4: 운반비 | T4: 작업부산물 | U4: 관급 | V4: 외주비 | W4: 장비비 | X4: 폐기물처리비 | Y4: 가설비 | Z4: 잡비제외분 | AA4: 사급자재대 | AB4: 관급자재대 | AC4: 사용자항목1 | AD4: 사용자항목2 | AE4: 안전관리비 | AF4: 품질관리비 | AG4: 작업부산물(철거해체) | AH4: 재해예방기술지도비 | AI4: 사용자항목7 | AJ4: 석면분담금 | AK4: 임금채권부담금 | AL4: 사용자항목10 | AM4: 사용자항목11 | AN4: 사용자항목12 | AO4: 사용자항목13 | AP4: 사용자항목14 | AQ4: 사용자항목15 | AR4: 사용자항목16 | AS4: 사용자항목17 | AT4: 사용자항목18 | AU4: 사용자항목19 | AV4: 간접재료비 | AW4: 품목구분 | AX4: 조달코드 | AY4: 구분
A5: 0101. 가설공사
A6: 가설 칸막이 설치 | B6: T 45, 래핑칸막이, 자재 포함 | C6: M2 | D6: 58 | F6: =ROUNDDOWN(D6*E6,0) -> 0 | H6: =ROUNDDOWN(D6*G6,0) -> 0 | J6: =ROUNDDOWN(D6*I6,0) -> 0 | K6: =E6+G6+I6 -> 0 | L6: =F6+H6+J6 -> 0
A7: 가설 칸막이 해체 | B7: T 45, 래핑칸막이, 설치품의 20% | C7: M2 | D7: 58 | F7: =ROUNDDOWN(D7*E7,0) -> 0 | H7: =ROUNDDOWN(D7*G7,0) -> 0 | J7: =ROUNDDOWN(D7*I7,0) -> 0 | K7: =E7+G7+I7 -> 0 | L7: =F7+H7+J7 -> 0
A8: 이동식 집진기 | B8: RT 1100, 운반비 포함, 1개월 | C8: 대 | D8: 3 | F8: =ROUNDDOWN(D8*E8,0) -> 0 | H8: =ROUNDDOWN(D8*G8,0) -> 0 | J8: =ROUNDDOWN(D8*I8,0) -> 0 | K8: =E8+G8+I8 -> 0 | L8: =F8+H8+J8 -> 0
A9: 준공청소 | C9: M2 | D9: 500.62 | F9: =ROUNDDOWN(D9*E9,0) -> 0 | H9: =ROUNDDOWN(D9*G9,0) -> 0 | J9: =ROUNDDOWN(D9*I9,0) -> 0 | K9: =E9+G9+I9 -> 0 | L9: =F9+H9+J9 -> 0
A10: 건축물현장정리 | B10: 개보수 | C10: M2 | D10: 500.62 | F10: =ROUNDDOWN(D10*E10,0) -> 0 | H10: =ROUNDDOWN(D10*G10,0) -> 0 | J10: =ROUNDDOWN(D10*I10,0) -> 0 | K10: =E10+G10+I10 -> 0 | L10: =F10+H10+J10 -> 0
A11: 가설출입문 철거 | B11: 1.0∼3.0㎡이하, 설치품의 20% | C11: 개소 | D11: 4 | F11: =ROUNDDOWN(D11*E11,0) -> 0 | H11: =ROUNDDOWN(D11*G11,0) -> 0 | J11: =ROUNDDOWN(D11*I11,0) -> 0 | K11: =E11+G11+I11 -> 0 | L11: =F11+H11+J11 -> 0
A12: 가설출입문 설치 | B12: 1000*2000, 자재 포함 | C12: EA | D12: 2 | F12: =ROUNDDOWN(D12*E12,0) -> 0 | H12: =ROUNDDOWN(D12*G12,0) -> 0 | J12: =ROUNDDOWN(D12*I12,0) -> 0 | K12: =E12+G12+I12 -> 0 | L12: =F12+H12+J12 -> 0
A13: 가설출입문 설치 | B13: 1600×2000, 자재 포함 | C13: EA | D13: 2 | F13: =ROUNDDOWN(D13*E13,0) -> 0 | H13: =ROUNDDOWN(D13*G13,0) -> 0 | J13: =ROUNDDOWN(D13*I13,0) -> 0 | K13: =E13+G13+I13 -> 0 | L13: =F13+H13+J13 -> 0
A14: 조립말비계 | B14: 3개월,1단(2m) | C14: 대 | D14: 1 | F14: =ROUNDDOWN(D14*E14,0) -> 0 | H14: =ROUNDDOWN(D14*G14,0) -> 0 | J14: =ROUNDDOWN(D14*I14,0) -> 0 | K14: =E14+G14+I14 -> 0 | L14: =F14+H14+J14 -> 0
A20: 합 계 | F20: =ROUNDDOWN(SUMIF(Q6:Q19,"1",F6:F19),0) -> 0 | H20: =ROUNDDOWN(SUMIF(Q6:Q19,"1",H6:H19),0) -> 0 | J20: =ROUNDDOWN(SUMIF(Q6:Q19,"1",J6:J19),0) -> 0 | L20: =F20+H20+J20 -> 0 | R20: =ROUNDDOWN(SUM(R6:R14),0) -> 0 | S20: =ROUNDDOWN(SUM(S6:S14),0) -> 0 | T20: =ROUNDDOWN(SUM(T6:T14),0) -> 0 | U20: =ROUNDDOWN(SUM(U6:U14),0) -> 0 | V20: =ROUNDDOWN(SUM(V6:V14),0) -> 0 | W20: =ROUNDDOWN(SUM(W6:W14),0) -> 0 | X20: =ROUNDDOWN(SUM(X6:X14),0) -> 0 | Y20: =ROUNDDOWN(SUM(Y6:Y14),0) -> 0 | ... AY20: =ROUNDDOWN(SUM(AY6:AY14),0) -> 0
A21: 0102. 철거공사
A22: 강재창호 철거 | B22: 6.0∼8.0㎡이하, 설치품의 20% | C22: 개소 | D22: 1 | F22: =ROUNDDOWN(D22*E22,0) -> 0 | H22: =ROUNDDOWN(D22*G22,0) -> 0 | J22: =ROUNDDOWN(D22*I22,0) -> 0 | K22: =E22+G22+I22 -> 0 | L22: =F22+H22+J22 -> 0
A23: 경량천장철골틀 해체 | C23: M2 | D23: 14.3 | F23: =ROUNDDOWN(D23*E23,0) -> 0 | H23: =ROUNDDOWN(D23*G23,0) -> 0 | J23: =ROUNDDOWN(D23*I23,0) -> 0 | K23: =E23+G23+I23 -> 0 | L23: =F23+H23+J23 -> 0
A24: 목재창호 철거 | B24: 1.0∼3.0㎡이하, 설치품의 20% | C24: 개소 | D24: 13 | F24: =ROUNDDOWN(D24*E24,0) -> 0 | H24: =ROUNDDOWN(D24*G24,0) -> 0 | J24: =ROUNDDOWN(D24*I24,0) -> 0 | K24: =E24+G24+I24 -> 0 | L24: =F24+H24+J24 -> 0
A25: 몰탈 철거 | B25: 벽체 | C25: M2 | D25: 98.36 | F25: =ROUNDDOWN(D25*E25,0) -> 0 | H25: =ROUNDDOWN(D25*G25,0) -> 0 | J25: =ROUNDDOWN(D25*I25,0) -> 0 | K25: =E25+G25+I25 -> 0 | L25: =F25+H25+J25 -> 0
A26: 몰탈철거 | B26: 인력,바닥 | C26: M2 | D26: 25.1 | F26: =ROUNDDOWN(D26*E26,0) -> 0 | H26: =ROUNDDOWN(D26*G26,0) -> 0 | J26: =ROUNDDOWN(D26*I26,0) -> 0 | K26: =E26+G26+I26 -> 0 | L26: =F26+H26+J26 -> 0
A27: 타일 철거 | B27: 바닥 | C27: M2 | D27: 25.1 | F27: =ROUNDDOWN(D27*E27,0) -> 0 | H27: =ROUNDDOWN(D27*G27,0) -> 0 | J27: =ROUNDDOWN(D27*I27,0) -> 0 | K27: =E27+G27+I27 -> 0 | L27: =F27+H27+J27 -> 0
A28: 타일 철거 | B28: 벽체 | C28: M2 | D28: 98.36 | F28: =ROUNDDOWN(D28*E28,0) -> 0 | H28: =ROUNDDOWN(D28*G28,0) -> 0 | J28: =ROUNDDOWN(D28*I28,0) -> 0 | K28: =E28+G28+I28 -> 0 | L28: =F28+H28+J28 -> 0
A29: 화강석재료분리대 철거 | B29: 물갈기, W275*30mm, 설치품의 20% | C29: M | D29: 3.3 | F29: =ROUNDDOWN(D29*E29,0) -> 0 | H29: =ROUNDDOWN(D29*G29,0) -> 0 | J29: =ROUNDDOWN(D29*I29,0) -> 0 | K29: =E29+G29+I29 -> 0 | L29: =F29+H29+J29 -> 0
A30: PVC계바닥재 해체 | B30: 해체재 재사용 안함 | C30: M2 | D30: 21.3 | F30: =ROUNDDOWN(D30*E30,0) -> 0 | H30: =ROUNDDOWN(D30*G30,0) -> 0 | J30: =ROUNDDOWN(D30*I30,0) -> 0 | K30: =E30+G30+I30 -> 0 | L30: =F30+H30+J30 -> 0
A31: 스텐공틀 철거 | B31: 1.0∼3.0㎡이하, 설치품의 10% | C31: 개소 | D31: 1 | F31: =ROUNDDOWN(D31*E31,0) -> 0 | H31: =ROUNDDOWN(D31*G31,0) -> 0 | J31: =ROUNDDOWN(D31*I31,0) -> 0 | K31: =E31+G31+I31 -> 0 | L31: =F31+H31+J31 -> 0
A32: 석고판 해체 | B32: 천장 | C32: ㎡ | D32: 14.3 | F32: =ROUNDDOWN(D32*E32,0) -> 0 | H32: =ROUNDDOWN(D32*G32,0) -> 0 | J32: =ROUNDDOWN(D32*I32,0) -> 0 | K32: =E32+G32+I32 -> 0 | L32: =F32+H32+J32 -> 0
A33: 범퍼레일 철거 | B33: 인건비 및 경비(1회 2명 기준) | C33: 회 | D33: 2 | F33: =ROUNDDOWN(D33*E33,0) -> 0 | H33: =ROUNDDOWN(D33*G33,0) -> 0 | J33: =ROUNDDOWN(D33*I33,0) -> 0 | K33: =E33+G33+I33 -> 0 | L33: =F33+H33+J33 -> 0
A36: 합 계 | F36: =ROUNDDOWN(SUMIF(Q22:Q35,"1",F22:F35),0) -> 0 | H36: =ROUNDDOWN(SUMIF(Q22:Q35,"1",H22:H35),0) -> 0 | J36: =ROUNDDOWN(SUMIF(Q22:Q35,"1",J22:J35),0) -> 0 | L36: =F36+H36+J36 -> 0 | R36: =ROUNDDOWN(SUM(R22:R33),0) -> 0 | S36: =ROUNDDOWN(SUM(S22:S33),0) -> 0 | T36: =ROUNDDOWN(SUM(T22:T33),0) -> 0 | U36: =ROUNDDOWN(SUM(U22:U33),0) -> 0 | V36: =ROUNDDOWN(SUM(V22:V33),0) -> 0 | W36: =ROUNDDOWN(SUM(W22:W33),0) -> 0 | X36: =ROUNDDOWN(SUM(X22:X33),0) -> 0 | Y36: =ROUNDDOWN(SUM(Y22:Y33),0) -> 0 | ... AY36: =ROUNDDOWN(SUM(AY22:AY33),0) -> 0 | BA36: =ROUNDDOWN(SUMIF(BL22:BL35, "1", BA22:BA35), 0) -> 0
A37: 0103. 작업부산물(철거해체)
A38: 철강설 | B38: 철강설, 고철, 작업설부산물 | C38: kg | D38: 283.27 | F38: =ROUNDDOWN(D38*E38,0) -> 0 | H38: =ROUNDDOWN(D38*G38,0) -> 0 | J38: =ROUNDDOWN(D38*I38,0) -> 0 | K38: =E38+G38+I38 -> 0 | L38: =F38+H38+J38 -> 0 | O38: ="01" -> 01 | P38: 작업부산물(철거해체) | Q38: 1 | R38: =IF(P38="기계경비",J38,0) -> 0 | S38: =IF(P38="운반비",L38,0) -> 0 | T38: =IF(P38="작업부산물",F38,0) -> 0 | U38: =IF(P38="관급",F38,0) -> 0 | V38: =IF(P38="외주비",J38,0) -> 0 | W38: =IF(P38="장비비",J38,0) -> 0 | X38: =IF(P38="폐기물처리비",L38,0) -> 0 | Y38: =IF(P38="가설비",J38,0) -> 0 | Z38: =IF(P38="잡비제외분",F38,0) -> 0 | AA38: =IF(P38="사급자재대",L38,0) -> 0 | AB38: =IF(P38="관급자재대",L38,0) -> 0 | AC38: =IF(P38="사용자항목1",L38,0) -> 0 | AD38: =IF(P38="사용자항목2",L38,0) -> 0 | AE38: =IF(P38="안전관리비",L38,0) -> 0 | AF38: =IF(P38="품질관리비",L38,0) -> 0 | AG38: =IF(P38="작업부산물(철거해체)",L38,0) -> 0 | AH38: =IF(P38="재해예방기술지도비",L38,0) -> 0 | AI38: =IF(P38="사용자항목7",L38,0) -> 0 | AJ38: =IF(P38="석면분담금",L38,0) -> 0 | AK38: =IF(P38="임금채권부담금",L38,0) -> 0 | AL38: =IF(P38="사용자항목10",L38,0) -> 0 | AM38: =IF(P38="사용자항목11",L38,0) -> 0 | AN38: =IF(P38="사용자항목12",L38,0) -> 0 | AO38: =IF(P38="사용자항목13",L38,0) -> 0 | AP38: =IF(P38="사용자항목14",L38,0) -> 0 | AQ38: =IF(P38="사용자항목15",L38,0) -> 0 | AR38: =IF(P38="사용자항목16",L38,0) -> 0 | AS38: =IF(P38="사용자항목17",L38,0) -> 0 | AT38: =IF(P38="사용자항목18",L38,0) -> 0 | AU38: =IF(P38="사용자항목19",L38,0) -> 0
A39: 철합금설 | B39: 철합금설, 스텐레스.작업설부산물 | C39: kg | D39: 174.19 | F39: =ROUNDDOWN(D39*E39,0) -> 0 | H39: =ROUNDDOWN(D39*G39,0) -> 0 | J39: =ROUNDDOWN(D39*I39,0) -> 0 | K39: =E39+G39+I39 -> 0 | L39: =F39+H39+J39 -> 0 | O39: ="01" -> 01 | P39: 작업부산물(철거해체) | Q39: 1 | R39: =IF(P39="기계경비",J39,0) -> 0 | S39: =IF(P39="운반비",L39,0) -> 0 | T39: =IF(P39="작업부산물",F39,0) -> 0 | U39: =IF(P39="관급",F39,0) -> 0 | V39: =IF(P39="외주비",J39,0) -> 0 | W39: =IF(P39="장비비",J39,0) -> 0 | X39: =IF(P39="폐기물처리비",L39,0) -> 0 | Y39: =IF(P39="가설비",J39,0) -> 0 | Z39: =IF(P39="잡비제외분",F39,0) -> 0 | AA39: =IF(P39="사급자재대",L39,0) -> 0 | AB39: =IF(P39="관급자재대",L39,0) -> 0 | AC39: =IF(P39="사용자항목1",L39,0) -> 0 | AD39: =IF(P39="사용자항목2",L39,0) -> 0 | AE39: =IF(P39="안전관리비",L39,0) -> 0 | AF39: =IF(P39="품질관리비",L39,0) -> 0 | AG39: =IF(P39="작업부산물(철거해체)",L39,0) -> 0 | AH39: =IF(P39="재해예방기술지도비",L39,0) -> 0 | AI39: =IF(P39="사용자항목7",L39,0) -> 0 | AJ39: =IF(P39="석면분담금",L39,0) -> 0 | AK39: =IF(P39="임금채권부담금",L39,0) -> 0 | AL39: =IF(P39="사용자항목10",L39,0) -> 0 | AM39: =IF(P39="사용자항목11",L39,0) -> 0 | AN39: =IF(P39="사용자항목12",L39,0) -> 0 | AO39: =IF(P39="사용자항목13",L39,0) -> 0 | AP39: =IF(P39="사용자항목14",L39,0) -> 0 | AQ39: =IF(P39="사용자항목15",L39,0) -> 0 | AR39: =IF(P39="사용자항목16",L39,0) -> 0 | AS39: =IF(P39="사용자항목17",L39,0) -> 0 | AT39: =IF(P39="사용자항목18",L39,0) -> 0 | AU39: =IF(P39="사용자항목19",L39,0) -> 0
A40: 철강설 | B40: 철강설, 알루미늄, 작업설부산물 | C40: kg | D40: 78.25 | F40: =ROUNDDOWN(D40*E40,0) -> 0 | H40: =ROUNDDOWN(D40*G40,0) -> 0 | J40: =ROUNDDOWN(D40*I40,0) -> 0 | K40: =E40+G40+I40 -> 0 | L40: =F40+H40+J40 -> 0 | O40: ="01" -> 01 | P40: 작업부산물(철거해체) | Q40: 1 | R40: =IF(P40="기계경비",J40,0) -> 0 | S40: =IF(P40="운반비",L40,0) -> 0 | T40: =IF(P40="작업부산물",F40,0) -> 0 | U40: =IF(P40="관급",F40,0) -> 0 | V40: =IF(P40="외주비",J40,0) -> 0 | W40: =IF(P40="장비비",J40,0) -> 0 | X40: =IF(P40="폐기물처리비",L40,0) -> 0 | Y40: =IF(P40="가설비",J40,0) -> 0 | Z40: =IF(P40="잡비제외분",F40,0) -> 0 | AA40: =IF(P40="사급자재대",L40,0) -> 0 | AB40: =IF(P40="관급자재대",L40,0) -> 0 | AC40: =IF(P40="사용자항목1",L40,0) -> 0 | AD40: =IF(P40="사용자항목2",L40,0) -> 0 | AE40: =IF(P40="안전관리비",L40,0) -> 0 | AF40: =IF(P40="품질관리비",L40,0) -> 0 | AG40: =IF(P40="작업부산물(철거해체)",L40,0) -> 0 | AH40: =IF(P40="재해예방기술지도비",L40,0) -> 0 | AI40: =IF(P40="사용자항목7",L40,0) -> 0 | AJ40: =IF(P40="석면분담금",L40,0) -> 0 | AK40: =IF(P40="임금채권부담금",L40,0) -> 0 | AL40: =IF(P40="사용자항목10",L40,0) -> 0 | AM40: =IF(P40="사용자항목11",L40,0) -> 0 | AN40: =IF(P40="사용자항목12",L40,0) -> 0 | AO40: =IF(P40="사용자항목13",L40,0) -> 0 | AP40: =IF(P40="사용자항목14",L40,0) -> 0 | AQ40: =IF(P40="사용자항목15",L40,0) -> 0 | AR40: =IF(P40="사용자항목16",L40,0) -> 0 | AS40: =IF(P40="사용자항목17",L40,0) -> 0 | AT40: =IF(P40="사용자항목18",L40,0) -> 0 | AU40: =IF(P40="사용자항목19",L40,0) -> 0
A52: 합 계 | F52: =ROUNDDOWN(SUMIF(Q38:Q51,"1",F38:F51),0) -> 0 | H52: =ROUNDDOWN(SUMIF(Q38:Q51,"1",H38:H51),0) -> 0 | J52: =ROUNDDOWN(SUMIF(Q38:Q51,"1",J38:J51),0) -> 0 | L52: =F52+H52+J52 -> 0 | R52: =ROUNDDOWN(SUM(R38:R40),0) -> 0 | S52: =ROUNDDOWN(SUM(S38:S40),0) -> 0 | T52: =ROUNDDOWN(SUM(T38:T40),0) -> 0 | U52: =ROUNDDOWN(SUM(U38:U40),0) -> 0 | V52: =ROUNDDOWN(SUM(V38:V40),0) -> 0 | W52: =ROUNDDOWN(SUM(W38:W40),0) -> 0 | X52: =ROUNDDOWN(SUM(X38:X40),0) -> 0 | Y52: =ROUNDDOWN(SUM(Y38:Y40),0) -> 0 | ... AY52: =ROUNDDOWN(SUM(AY38:AY40),0) -> 0
A53: 0104. 방수공사
A54: 아스팔트 도막방수 | B54: 2회, 바닥 | C54: M2 | D54: 25.1 | F54: =ROUNDDOWN(D54*E54,0) -> 0 | H54: =ROUNDDOWN(D54*G54,0) -> 0 | J54: =ROUNDDOWN(D54*I54,0) -> 0 | K54: =E54+G54+I54 -> 0 | L54: =F54+H54+J54 -> 0 | O54: ="" | P54: 기계경비 | Q54: 1 | R54: =IF(P54="기계경비",J54,0) -> 0 | S54: =IF(P54="운반비",L54,0) -> 0 | T54: =IF(P54="작업부산물",F54,0) -> 0 | U54: =IF(P54="관급",F54,0) -> 0 | V54: =IF(P54="외주비",J54,0) -> 0 | W54: =IF(P54="장비비",J54,0) -> 0 | X54: =IF(P54="폐기물처리비",L54,0) -> 0 | Y54: =IF(P54="가설비",J54,0) -> 0 | Z54: =IF(P54="잡비제외분",F54,0) -> 0 | AA54: =IF(P54="사급자재대",L54,0) -> 0 | AB54: =IF(P54="관급자재대",L54,0) -> 0 | AC54: =IF(P54="사용자항목1",L54,0) -> 0 | AD54: =IF(P54="사용자항목2",L54,0) -> 0 | AE54: =IF(P54="안전관리비",L54,0) -> 0 | AF54: =IF(P54="품질관리비",L54,0) -> 0 | AG54: =IF(P54="작업부산물(철거해체)",L54,0) -> 0 | AH54: =IF(P54="재해예방기술지도비",L54,0) -> 0 | AI54: =IF(P54="사용자항목7",L54,0) -> 0 | AJ54: =IF(P54="석면분담금",L54,0) -> 0 | AK54: =IF(P54="임금채권부담금",L54,0) -> 0 | AL54: =IF(P54="사용자항목10",L54,0) -> 0 | AM54: =IF(P54="사용자항목11",L54,0) -> 0 | AN54: =IF(P54="사용자항목12",L54,0) -> 0 | AO54: =IF(P54="사용자항목13",L54,0) -> 0 | AP54: =IF(P54="사용자항목14",L54,0) -> 0 | AQ54: =IF(P54="사용자항목15",L54,0) -> 0 | AR54: =IF(P54="사용자항목16",L54,0) -> 0 | AS54: =IF(P54="사용자항목17",L54,0) -> 0 | AT54: =IF(P54="사용자항목18",L54,0) -> 0 | AU54: =IF(P54="사용자항목19",L54,0) -> 0 | AY54: PK적산
A55: 아스팔트 도막방수 | B55: 2회, 벽체 | C55: M2 | D55: 47.03 | F55: =ROUNDDOWN(D55*E55,0) -> 0 | H55: =ROUNDDOWN(D55*G55,0) -> 0 | J55: =ROUNDDOWN(D55*I55,0) -> 0 | K55: =E55+G55+I55 -> 0 | L55: =F55+H55+J55 -> 0 | O55: ="" | P55: 기계경비 | Q55: 1 | R55: =IF(P55="기계경비",J55,0) -> 0 | S55: =IF(P55="운반비",L55,0) -> 0 | T55: =IF(P55="작업부산물",F55,0) -> 0 | U55: =IF(P55="관급",F55,0) -> 0 | V55: =IF(P55="외주비",J55,0) -> 0 | W55: =IF(P55="장비비",J55,0) -> 0 | X55: =IF(P55="폐기물처리비",L55,0) -> 0 | Y55: =IF(P55="가설비",J55,0) -> 0 | Z55: =IF(P55="잡비제외분",F55,0) -> 0 | AA55: =IF(P55="사급자재대",L55,0) -> 0 | AB55: =IF(P55="관급자재대",L55,0) -> 0 | AC55: =IF(P55="사용자항목1",L55,0) -> 0 | AD55: =IF(P55="사용자항목2",L55,0) -> 0 | AE55: =IF(P55="안전관리비",L55,0) -> 0 | AF55: =IF(P55="품질관리비",L55,0) -> 0 | AG55: =IF(P55="작업부산물(철거해체)",L55,0) -> 0 | AH55: =IF(P55="재해예방기술지도비",L55,0) -> 0 | AI55: =IF(P55="사용자항목7",L55,0) -> 0 | AJ55: =IF(P55="석면분담금",L55,0) -> 0 | AK55: =IF(P55="임금채권부담금",L55,0) -> 0 | AL55: =IF(P55="사용자항목10",L55,0) -> 0 | AM55: =IF(P55="사용자항목11",L55,0) -> 0 | AN55: =IF(P55="사용자항목12",L55,0) -> 0 | AO55: =IF(P55="사용자항목13",L55,0) -> 0 | AP55: =IF(P55="사용자항목14",L55,0) -> 0 | AQ55: =IF(P55="사용자항목15",L55,0) -> 0 | AR55: =IF(P55="사용자항목16",L55,0) -> 0 | AS55: =IF(P55="사용자항목17",L55,0) -> 0 | AT55: =IF(P55="사용자항목18",L55,0) -> 0 | AU55: =IF(P55="사용자항목19",L55,0) -> 0 | AY55: PK적산
A56: 수밀코킹(10mm각) | B56: 실리콘, 공틀 주위 | C56: M | D56: 21.2 | F56: =ROUNDDOWN(D56*E56,0) -> 0 | H56: =ROUNDDOWN(D56*G56,0) -> 0 | J56: =ROUNDDOWN(D56*I56,0) -> 0 | K56: =E56+G56+I56 -> 0 | L56: =F56+H56+J56 -> 0 | O56: ="" | P56: 기계경비 | Q56: 1 | R56: =IF(P56="기계경비",J56,0) -> 0 | S56: =IF(P56="운반비",L56,0) -> 0 | T56: =IF(P56="작업부산물",F56,0) -> 0 | U56: =IF(P56="관급",F56,0) -> 0 | V56: =IF(P56="외주비",J56,0) -> 0 | W56: =IF(P56="장비비",J56,0) -> 0 | X56: =IF(P56="폐기물처리비",L56,0) -> 0 | Y56: =IF(P56="가설비",J56,0) -> 0 | Z56: =IF(P56="잡비제외분",F56,0) -> 0 | AA56: =IF(P56="사급자재대",L56,0) -> 0 | AB56: =IF(P56="관급자재대",L56,0) -> 0 | AC56: =IF(P56="사용자항목1",L56,0) -> 0 | AD56: =IF(P56="사용자항목2",L56,0) -> 0 | AE56: =IF(P56="안전관리비",L56,0) -> 0 | AF56: =IF(P56="품질관리비",L56,0) -> 0 | AG56: =IF(P56="작업부산물(철거해체)",L56,0) -> 0 | AH56: =IF(P56="재해예방기술지도비",L56,0) -> 0 | AI56: =IF(P56="사용자항목7",L56,0) -> 0 | AJ56: =IF(P56="석면분담금",L56,0) -> 0 | AK56: =IF(P56="임금채권부담금",L56,0) -> 0 | AL56: =IF(P56="사용자항목10",L56,0) -> 0 | AM56: =IF(P56="사용자항목11",L56,0) -> 0 | AN56: =IF(P56="사용자항목12",L56,0) -> 0 | AO56: =IF(P56="사용자항목13",L56,0) -> 0 | AP56: =IF(P56="사용자항목14",L56,0) -> 0 | AQ56: =IF(P56="사용자항목15",L56,0) -> 0 | AR56: =IF(P56="사용자항목16",L56,0) -> 0 | AS56: =IF(P56="사용자항목17",L56,0) -> 0 | AT56: =IF(P56="사용자항목18",L56,0) -> 0 | AU56: =IF(P56="사용자항목19",L56,0) -> 0 | AY56: PK적산
A68: 합 계 | F68: =ROUNDDOWN(SUMIF(Q54:Q67,"1",F54:F67),0) -> 0 | H68: =ROUNDDOWN(SUMIF(Q54:Q67,"1",H54:H67),0) -> 0 | J68: =ROUNDDOWN(SUMIF(Q54:Q67,"1",J54:J67),0) -> 0 | L68: =F68+H68+J68 -> 0 | R68: =ROUNDDOWN(SUM(R54:R56),0) -> 0 | S68: =ROUNDDOWN(SUM(S54:S56),0) -> 0 | T68: =ROUNDDOWN(SUM(T54:T56),0) -> 0 | U68: =ROUNDDOWN(SUM(U54:U56),0) -> 0 | V68: =ROUNDDOWN(SUM(V54:V56),0) -> 0 | W68: =ROUNDDOWN(SUM(W54:W56),0) -> 0 | X68: =ROUNDDOWN(SUM(X54:X56),0) -> 0 | Y68: =ROUNDDOWN(SUM(Y54:Y56),0) -> 0 | ... AY68: =ROUNDDOWN(SUM(AY54:AY56),0) -> 0
A69: 0105. 미장공사
A70: 모르타르 바름 | B70: 벽체, T=18 | C70: M2 | D70: 36.71 | F70: =ROUNDDOWN(D70*E70,0) -> 0 | H70: =ROUNDDOWN(D70*G70,0) -> 0 | J70: =ROUNDDOWN(D70*I70,0) -> 0 | K70: =E70+G70+I70 -> 0 | L70: =F70+H70+J70 -> 0 | O70: ="" | P70: 기계경비 | Q70: 1 | R70: =IF(P70="기계경비",J70,0) -> 0 | S70: =IF(P70="운반비",L70,0) -> 0 | T70: =IF(P70="작업부산물",F70,0) -> 0 | U70: =IF(P70="관급",F70,0) -> 0 | V70: =IF(P70="외주비",J70,0) -> 0 | W70: =IF(P70="장비비",J70,0) -> 0 | X70: =IF(P70="폐기물처리비",L70,0) -> 0 | Y70: =IF(P70="가설비",J70,0) -> 0 | Z70: =IF(P70="잡비제외분",F70,0) -> 0 | AA70: =IF(P70="사급자재대",L70,0) -> 0 | AB70: =IF(P70="관급자재대",L70,0) -> 0 | AC70: =IF(P70="사용자항목1",L70,0) -> 0 | AD70: =IF(P70="사용자항목2",L70,0) -> 0 | AE70: =IF(P70="안전관리비",L70,0) -> 0 | AF70: =IF(P70="품질관리비",L70,0) -> 0 | AG70: =IF(P70="작업부산물(철거해체)",L70,0) -> 0 | AH70: =IF(P70="재해예방기술지도비",L70,0) -> 0 | AI70: =IF(P70="사용자항목7",L70,0) -> 0 | AJ70: =IF(P70="석면분담금",L70,0) -> 0 | AK70: =IF(P70="임금채권부담금",L70,0) -> 0 | AL70: =IF(P70="사용자항목10",L70,0) -> 0 | AM70: =IF(P70="사용자항목11",L70,0) -> 0 | AN70: =IF(P70="사용자항목12",L70,0) -> 0 | AO70: =IF(P70="사용자항목13",L70,0) -> 0 | AP70: =IF(P70="사용자항목14",L70,0) -> 0 | AQ70: =IF(P70="사용자항목15",L70,0) -> 0 | AR70: =IF(P70="사용자항목16",L70,0) -> 0 | AS70: =IF(P70="사용자항목17",L70,0) -> 0 | AT70: =IF(P70="사용자항목18",L70,0) -> 0 | AU70: =IF(P70="사용자항목19",L70,0) -> 0 | AY70: 실내건축
A71: 방수모르타르 바름 | B71: 바닥, T=20 | C71: M2 | D71: 25.1 | F71: =ROUNDDOWN(D71*E71,0) -> 0 | H71: =ROUNDDOWN(D71*G71,0) -> 0 | J71: =ROUNDDOWN(D71*I71,0) -> 0 | K71: =E71+G71+I71 -> 0 | L71: =F71+H71+J71 -> 0 | O71: ="" | P71: 기계경비 | Q71: 1 | R71: =IF(P71="기계경비",J71,0) -> 0 | S71: =IF(P71="운반비",L71,0) -> 0 | T71: =IF(P71="작업부산물",F71,0) -> 0 | U71: =IF(P71="관급",F71,0) -> 0 | V71: =IF(P71="외주비",J71,0) -> 0 | W71: =IF(P71="장비비",J71,0) -> 0 | X71: =IF(P71="폐기물처리비",L71,0) -> 0 | Y71: =IF(P71="가설비",J71,0) -> 0 | Z71: =IF(P71="잡비제외분",F71,0) -> 0 | AA71: =IF(P71="사급자재대",L71,0) -> 0 | AB71: =IF(P71="관급자재대",L71,0) -> 0 | AC71: =IF(P71="사용자항목1",L71,0) -> 0 | AD71: =IF(P71="사용자항목2",L71,0) -> 0 | AE71: =IF(P71="안전관리비",L71,0) -> 0 | AF71: =IF(P71="품질관리비",L71,0) -> 0 | AG71: =IF(P71="작업부산물(철거해체)",L71,0) -> 0 | AH71: =IF(P71="재해예방기술지도비",L71,0) -> 0 | AI71: =IF(P71="사용자항목7",L71,0) -> 0 | AJ71: =IF(P71="석면분담금",L71,0) -> 0 | AK71: =IF(P71="임금채권부담금",L71,0) -> 0 | AL71: =IF(P71="사용자항목10",L71,0) -> 0 | AM71: =IF(P71="사용자항목11",L71,0) -> 0 | AN71: =IF(P71="사용자항목12",L71,0) -> 0 | AO71: =IF(P71="사용자항목13",L71,0) -> 0 | AP71: =IF(P71="사용자항목14",L71,0) -> 0 | AQ71: =IF(P71="사용자항목15",L71,0) -> 0 | AR71: =IF(P71="사용자항목16",L71,0) -> 0 | AS71: =IF(P71="사용자항목17",L71,0) -> 0 | AT71: =IF(P71="사용자항목18",L71,0) -> 0 | AU71: =IF(P71="사용자항목19",L71,0) -> 0 | AY71: PK적산
A72: 방수모르타르 바름 | B72: 20mm, 벽돌, 콘크리트 | C72: M2 | D72: 97.26 | F72: =ROUNDDOWN(D72*E72,0) -> 0 | H72: =ROUNDDOWN(D72*G72,0) -> 0 | J72: =ROUNDDOWN(D72*I72,0) -> 0 | K72: =E72+G72+I72 -> 0 | L72: =F72+H72+J72 -> 0 | O72: ="" | P72: 기계경비 | Q72: 1 | R72: =IF(P72="기계경비",J72,0) -> 0 | S72: =IF(P72="운반비",L72,0) -> 0 | T72: =IF(P72="작업부산물",F72,0) -> 0 | U72: =IF(P72="관급",F72,0) -> 0 | V72: =IF(P72="외주비",J72,0) -> 0 | W72: =IF(P72="장비비",J72,0) -> 0 | X72: =IF(P72="폐기물처리비",L72,0) -> 0 | Y72: =IF(P72="가설비",J72,0) -> 0 | Z72: =IF(P72="잡비제외분",F72,0) -> 0 | AA72: =IF(P72="사급자재대",L72,0) -> 0 | AB72: =IF(P72="관급자재대",L72,0) -> 0 | AC72: =IF(P72="사용자항목1",L72,0) -> 0 | AD72: =IF(P72="사용자항목2",L72,0) -> 0 | AE72: =IF(P72="안전관리비",L72,0) -> 0 | AF72: =IF(P72="품질관리비",L72,0) -> 0 | AG72: =IF(P72="작업부산물(철거해체)",L72,0) -> 0 | AH72: =IF(P72="재해예방기술지도비",L72,0) -> 0 | AI72: =IF(P72="사용자항목7",L72,0) -> 0 | AJ72: =IF(P72="석면분담금",L72,0) -> 0 | AK72: =IF(P72="임금채권부담금",L72,0) -> 0 | AL72: =IF(P72="사용자항목10",L72,0) -> 0 | AM72: =IF(P72="사용자항목11",L72,0) -> 0 | AN72: =IF(P72="사용자항목12",L72,0) -> 0 | AO72: =IF(P72="사용자항목13",L72,0) -> 0 | AP72: =IF(P72="사용자항목14",L72,0) -> 0 | AQ72: =IF(P72="사용자항목15",L72,0) -> 0 | AR72: =IF(P72="사용자항목16",L72,0) -> 0 | AS72: =IF(P72="사용자항목17",L72,0) -> 0 | AT72: =IF(P72="사용자항목18",L72,0) -> 0 | AU72: =IF(P72="사용자항목19",L72,0) -> 0 | AY72: PK적산
A73: 모르타르 바름 | B73: 벽체, T=15 | C73: M2 | D73: 60.55 | F73: =ROUNDDOWN(D73*E73,0) -> 0 | H73: =ROUNDDOWN(D73*G73,0) -> 0 | J73: =ROUNDDOWN(D73*I73,0) -> 0 | K73: =E73+G73+I73 -> 0 | L73: =F73+H73+J73 -> 0 | O73: ="" | P73: 기계경비 | Q73: 1 | R73: =IF(P73="기계경비",J73,0) -> 0 | S73: =IF(P73="운반비",L73,0) -> 0 | T73: =IF(P73="작업부산물",F73,0) -> 0 | U73: =IF(P73="관급",F73,0) -> 0 | V73: =IF(P73="외주비",J73,0) -> 0 | W73: =IF(P73="장비비",J73,0) -> 0 | X73: =IF(P73="폐기물처리비",L73,0) -> 0 | Y73: =IF(P73="가설비",J73,0) -> 0 | Z73: =IF(P73="잡비제외분",F73,0) -> 0 | AA73: =IF(P73="사급자재대",L73,0) -> 0 | AB73: =IF(P73="관급자재대",L73,0) -> 0 | AC73: =IF(P73="사용자항목1",L73,0) -> 0 | AD73: =IF(P73="사용자항목2",L73,0) -> 0 | AE73: =IF(P73="안전관리비",L73,0) -> 0 | AF73: =IF(P73="품질관리비",L73,0) -> 0 | AG73: =IF(P73="작업부산물(철거해체)",L73,0) -> 0 | AH73: =IF(P73="재해예방기술지도비",L73,0) -> 0 | AI73: =IF(P73="사용자항목7",L73,0) -> 0 | AJ73: =IF(P73="석면분담금",L73,0) -> 0 | AK73: =IF(P73="임금채권부담금",L73,0) -> 0 | AL73: =IF(P73="사용자항목10",L73,0) -> 0 | AM73: =IF(P73="사용자항목11",L73,0) -> 0 | AN73: =IF(P73="사용자항목12",L73,0) -> 0 | AO73: =IF(P73="사용자항목13",L73,0) -> 0 | AP73: =IF(P73="사용자항목14",L73,0) -> 0 | AQ73: =IF(P73="사용자항목15",L73,0) -> 0 | AR73: =IF(P73="사용자항목16",L73,0) -> 0 | AS73: =IF(P73="사용자항목17",L73,0) -> 0 | AT73: =IF(P73="사용자항목18",L73,0) -> 0 | AU73: =IF(P73="사용자항목19",L73,0) -> 0 | AY73: PK적산
A84: 합 계 | F84: =ROUNDDOWN(SUMIF(Q70:Q83,"1",F70:F83),0) -> 0 | H84: =ROUNDDOWN(SUMIF(Q70:Q83,"1",H70:H83),0) -> 0 | J84: =ROUNDDOWN(SUMIF(Q70:Q83,"1",J70:J83),0) -> 0 | L84: =F84+H84+J84 -> 0 | R84: =ROUNDDOWN(SUM(R70:R73),0) -> 0 | S84: =ROUNDDOWN(SUM(S70:S73),0) -> 0 | T84: =ROUNDDOWN(SUM(T70:T73),0) -> 0 | U84: =ROUNDDOWN(SUM(U70:U73),0) -> 0 | V84: =ROUNDDOWN(SUM(V70:V73),0) -> 0 | W84: =ROUNDDOWN(SUM(W70:W73),0) -> 0 | X84: =ROUNDDOWN(SUM(X70:X73),0) -> 0 | Y84: =ROUNDDOWN(SUM(Y70:Y73),0) -> 0 | ... AY84: =ROUNDDOWN(SUM(AY70:AY73),0) -> 0
A85: 0106. 타일공사
A86: 재료분리대 | B86: SUS, 20mm, ㄷ-type | C86: m | D86: 3.3 | F86: =ROUNDDOWN(D86*E86,0) -> 0 | H86: =ROUNDDOWN(D86*G86,0) -> 0 | J86: =ROUNDDOWN(D86*I86,0) -> 0 | K86: =E86+G86+I86 -> 0 | L86: =F86+H86+J86 -> 0 | O86: ="01" -> 01 | P86: 기계경비 | Q86: 1 | R86: =IF(P86="기계경비",J86,0) -> 0 | S86: =IF(P86="운반비",L86,0) -> 0 | T86: =IF(P86="작업부산물",F86,0) -> 0 | U86: =IF(P86="관급",F86,0) -> 0 | V86: =IF(P86="외주비",J86,0) -> 0 | W86: =IF(P86="장비비",J86,0) -> 0 | X86: =IF(P86="폐기물처리비",L86,0) -> 0 | Y86: =IF(P86="가설비",J86,0) -> 0 | Z86: =IF(P86="잡비제외분",F86,0) -> 0 | AA86: =IF(P86="사급자재대",L86,0) -> 0 | AB86: =IF(P86="관급자재대",L86,0) -> 0 | AC86: =IF(P86="사용자항목1",L86,0) -> 0 | AD86: =IF(P86="사용자항목2",L86,0) -> 0 | AE86: =IF(P86="안전관리비",L86,0) -> 0 | AF86: =IF(P86="품질관리비",L86,0) -> 0 | AG86: =IF(P86="작업부산물(철거해체)",L86,0) -> 0 | AH86: =IF(P86="재해예방기술지도비",L86,0) -> 0 | AI86: =IF(P86="사용자항목7",L86,0) -> 0 | AJ86: =IF(P86="석면분담금",L86,0) -> 0 | AK86: =IF(P86="임금채권부담금",L86,0) -> 0 | AL86: =IF(P86="사용자항목10",L86,0) -> 0 | AM86: =IF(P86="사용자항목11",L86,0) -> 0 | AN86: =IF(P86="사용자항목12",L86,0) -> 0 | AO86: =IF(P86="사용자항목13",L86,0) -> 0 | AP86: =IF(P86="사용자항목14",L86,0) -> 0 | AQ86: =IF(P86="사용자항목15",L86,0) -> 0 | AR86: =IF(P86="사용자항목16",L86,0) -> 0 | AS86: =IF(P86="사용자항목17",L86,0) -> 0 | AT86: =IF(P86="사용자항목18",L86,0) -> 0 | AU86: =IF(P86="사용자항목19",L86,0) -> 0 | AY86: PK적산
A87: 자기질타일(바탕23+압착5) | B87: T 7, 포세린타일(논슬립), 바닥, 300*300 | C87: M2 | D87: 11.4 | F87: =ROUNDDOWN(D87*E87,0) -> 0 | H87: =ROUNDDOWN(D87*G87,0) -> 0 | J87: =ROUNDDOWN(D87*I87,0) -> 0 | K87: =E87+G87+I87 -> 0 | L87: =F87+H87+J87 -> 0 | O87: ="" | P87: 기계경비 | Q87: 1 | R87: =IF(P87="기계경비",J87,0) -> 0 | S87: =IF(P87="운반비",L87,0) -> 0 | T87: =IF(P87="작업부산물",F87,0) -> 0 | U87: =IF(P87="관급",F87,0) -> 0 | V87: =IF(P87="외주비",J87,0) -> 0 | W87: =IF(P87="장비비",J87,0) -> 0 | X87: =IF(P87="폐기물처리비",L87,0) -> 0 | Y87: =IF(P87="가설비",J87,0) -> 0 | Z87: =IF(P87="잡비제외분",F87,0) -> 0 | AA87: =IF(P87="사급자재대",L87,0) -> 0 | AB87: =IF(P87="관급자재대",L87,0) -> 0 | AC87: =IF(P87="사용자항목1",L87,0) -> 0 | AD87: =IF(P87="사용자항목2",L87,0) -> 0 | AE87: =IF(P87="안전관리비",L87,0) -> 0 | AF87: =IF(P87="품질관리비",L87,0) -> 0 | AG87: =IF(P87="작업부산물(철거해체)",L87,0) -> 0 | AH87: =IF(P87="재해예방기술지도비",L87,0) -> 0 | AI87: =IF(P87="사용자항목7",L87,0) -> 0 | AJ87: =IF(P87="석면분담금",L87,0) -> 0 | AK87: =IF(P87="임금채권부담금",L87,0) -> 0 | AL87: =IF(P87="사용자항목10",L87,0) -> 0 | AM87: =IF(P87="사용자항목11",L87,0) -> 0 | AN87: =IF(P87="사용자항목12",L87,0) -> 0 | AO87: =IF(P87="사용자항목13",L87,0) -> 0 | AP87: =IF(P87="사용자항목14",L87,0) -> 0 | AQ87: =IF(P87="사용자항목15",L87,0) -> 0 | AR87: =IF(P87="사용자항목16",L87,0) -> 0 | AS87: =IF(P87="사용자항목17",L87,0) -> 0 | AT87: =IF(P87="사용자항목18",L87,0) -> 0 | AU87: =IF(P87="사용자항목19",L87,0) -> 0 | AY87: PK적산
A88: 자기질타일접착붙임 | B88: T 7, 포세린타일, 600*300 | C88: M2 | D88: 36.71 | F88: =ROUNDDOWN(D88*E88,0) -> 0 | H88: =ROUNDDOWN(D88*G88,0) -> 0 | J88: =ROUNDDOWN(D88*I88,0) -> 0 | K88: =E88+G88+I88 -> 0 | L88: =F88+H88+J88 -> 0 | O88: ="" | P88: 기계경비 | Q88: 1 | R88: =IF(P88="기계경비",J88,0) -> 0 | S88: =IF(P88="운반비",L88,0) -> 0 | T88: =IF(P88="작업부산물",F88,0) -> 0 | U88: =IF(P88="관급",F88,0) -> 0 | V88: =IF(P88="외주비",J88,0) -> 0 | W88: =IF(P88="장비비",J88,0) -> 0 | X88: =IF(P88="폐기물처리비",L88,0) -> 0 | Y88: =IF(P88="가설비",J88,0) -> 0 | Z88: =IF(P88="잡비제외분",F88,0) -> 0 | AA88: =IF(P88="사급자재대",L88,0) -> 0 | AB88: =IF(P88="관급자재대",L88,0) -> 0 | AC88: =IF(P88="사용자항목1",L88,0) -> 0 | AD88: =IF(P88="사용자항목2",L88,0) -> 0 | AE88: =IF(P88="안전관리비",L88,0) -> 0 | AF88: =IF(P88="품질관리비",L88,0) -> 0 | AG88: =IF(P88="작업부산물(철거해체)",L88,0) -> 0 | AH88: =IF(P88="재해예방기술지도비",L88,0) -> 0 | AI88: =IF(P88="사용자항목7",L88,0) -> 0 | AJ88: =IF(P88="석면분담금",L88,0) -> 0 | AK88: =IF(P88="임금채권부담금",L88,0) -> 0 | AL88: =IF(P88="사용자항목10",L88,0) -> 0 | AM88: =IF(P88="사용자항목11",L88,0) -> 0 | AN88: =IF(P88="사용자항목12",L88,0) -> 0 | AO88: =IF(P88="사용자항목13",L88,0) -> 0 | AP88: =IF(P88="사용자항목14",L88,0) -> 0 | AQ88: =IF(P88="사용자항목15",L88,0) -> 0 | AR88: =IF(P88="사용자항목16",L88,0) -> 0 | AS88: =IF(P88="사용자항목17",L88,0) -> 0 | AT88: =IF(P88="사용자항목18",L88,0) -> 0 | AU88: =IF(P88="사용자항목19",L88,0) -> 0 | AY88: PK적산
A89: 자기질타일(바탕15+압착5) | B89: T 10, 포세린타일(논슬립), 바닥, 600*600 | C89: M2 | D89: 13.7 | F89: =ROUNDDOWN(D89*E89,0) -> 0 | H89: =ROUNDDOWN(D89*G89,0) -> 0 | J89: =ROUNDDOWN(D89*I89,0) -> 0 | K89: =E89+G89+I89 -> 0 | L89: =F89+H89+J89 -> 0 | O89: ="" | P89: 기계경비 | Q89: 1 | R89: =IF(P89="기계경비",J89,0) -> 0 | S89: =IF(P89="운반비",L89,0) -> 0 | T89: =IF(P89="작업부산물",F89,0) -> 0 | U89: =IF(P89="관급",F89,0) -> 0 | V89: =IF(P89="외주비",J89,0) -> 0 | W89: =IF(P89="장비비",J89,0) -> 0 | X89: =IF(P89="폐기물처리비",L89,0) -> 0 | Y89: =IF(P89="가설비",J89,0) -> 0 | Z89: =IF(P89="잡비제외분",F89,0) -> 0 | AA89: =IF(P89="사급자재대",L89,0) -> 0 | AB89: =IF(P89="관급자재대",L89,0) -> 0 | AC89: =IF(P89="사용자항목1",L89,0) -> 0 | AD89: =IF(P89="사용자항목2",L89,0) -> 0 | AE89: =IF(P89="안전관리비",L89,0) -> 0 | AF89: =IF(P89="품질관리비",L89,0) -> 0 | AG89: =IF(P89="작업부산물(철거해체)",L89,0) -> 0 | AH89: =IF(P89="재해예방기술지도비",L89,0) -> 0 | AI89: =IF(P89="사용자항목7",L89,0) -> 0 | AJ89: =IF(P89="석면분담금",L89,0) -> 0 | AK89: =IF(P89="임금채권부담금",L89,0) -> 0 | AL89: =IF(P89="사용자항목10",L89,0) -> 0 | AM89: =IF(P89="사용자항목11",L89,0) -> 0 | AN89: =IF(P89="사용자항목12",L89,0) -> 0 | AO89: =IF(P89="사용자항목13",L89,0) -> 0 | AP89: =IF(P89="사용자항목14",L89,0) -> 0 | AQ89: =IF(P89="사용자항목15",L89,0) -> 0 | AR89: =IF(P89="사용자항목16",L89,0) -> 0 | AS89: =IF(P89="사용자항목17",L89,0) -> 0 | AT89: =IF(P89="사용자항목18",L89,0) -> 0 | AU89: =IF(P89="사용자항목19",L89,0) -> 0 | AY89: PK적산
A90: 자기질타일접착붙임 | B90: T 10, 포세린타일, 600*600 | C90: M2 | D90: 60.55 | F90: =ROUNDDOWN(D90*E90,0) -> 0 | H90: =ROUNDDOWN(D90*G90,0) -> 0 | J90: =ROUNDDOWN(D90*I90,0) -> 0 | K90: =E90+G90+I90 -> 0 | L90: =F90+H90+J90 -> 0 | O90: ="" | P90: 기계경비 | Q90: 1 | R90: =IF(P90="기계경비",J90,0) -> 0 | S90: =IF(P90="운반비",L90,0) -> 0 | T90: =IF(P90="작업부산물",F90,0) -> 0 | U90: =IF(P90="관급",F90,0) -> 0 | V90: =IF(P90="외주비",J90,0) -> 0 | W90: =IF(P90="장비비",J90,0) -> 0 | X90: =IF(P90="폐기물처리비",L90,0) -> 0 | Y90: =IF(P90="가설비",J90,0) -> 0 | Z90: =IF(P90="잡비제외분",F90,0) -> 0 | AA90: =IF(P90="사급자재대",L90,0) -> 0 | AB90: =IF(P90="관급자재대",L90,0) -> 0 | AC90: =IF(P90="사용자항목1",L90,0) -> 0 | AD90: =IF(P90="사용자항목2",L90,0) -> 0 | AE90: =IF(P90="안전관리비",L90,0) -> 0 | AF90: =IF(P90="품질관리비",L90,0) -> 0 | AG90: =IF(P90="작업부산물(철거해체)",L90,0) -> 0 | AH90: =IF(P90="재해예방기술지도비",L90,0) -> 0 | AI90: =IF(P90="사용자항목7",L90,0) -> 0 | AJ90: =IF(P90="석면분담금",L90,0) -> 0 | AK90: =IF(P90="임금채권부담금",L90,0) -> 0 | AL90: =IF(P90="사용자항목10",L90,0) -> 0 | AM90: =IF(P90="사용자항목11",L90,0) -> 0 | AN90: =IF(P90="사용자항목12",L90,0) -> 0 | AO90: =IF(P90="사용자항목13",L90,0) -> 0 | AP90: =IF(P90="사용자항목14",L90,0) -> 0 | AQ90: =IF(P90="사용자항목15",L90,0) -> 0 | AR90: =IF(P90="사용자항목16",L90,0) -> 0 | AS90: =IF(P90="사용자항목17",L90,0) -> 0 | AT90: =IF(P90="사용자항목18",L90,0) -> 0 | AU90: =IF(P90="사용자항목19",L90,0) -> 0 | AY90: PK적산
A100: 합 계 | F100: =ROUNDDOWN(SUMIF(Q86:Q99,"1",F86:F99),0) -> 0 | H100: =ROUNDDOWN(SUMIF(Q86:Q99,"1",H86:H99),0) -> 0 | J100: =ROUNDDOWN(SUMIF(Q86:Q99,"1",J86:J99),0) -> 0 | L100: =F100+H100+J100 -> 0 | R100: =ROUNDDOWN(SUM(R86:R90),0) -> 0 | S100: =ROUNDDOWN(SUM(S86:S90),0) -> 0 | T100: =ROUNDDOWN(SUM(T86:T90),0) -> 0 | U100: =ROUNDDOWN(SUM(U86:U90),0) -> 0 | V100: =ROUNDDOWN(SUM(V86:V90),0) -> 0 | W100: =ROUNDDOWN(SUM(W86:W90),0) -> 0 | X100: =ROUNDDOWN(SUM(X86:X90),0) -> 0 | Y100: =ROUNDDOWN(SUM(Y86:Y90),0) -> 0 | ... AY100: =ROUNDDOWN(SUM(AY86:AY90),0) -> 0
A101: 0107. 창호공사
A102: PD1 | B102: 800*2100 | C102: 개소 | D102: 4 | F102: =ROUNDDOWN(D102*E102,0) -> 0 | H102: =ROUNDDOWN(D102*G102,0) -> 0 | J102: =ROUNDDOWN(D102*I102,0) -> 0 | K102: =E102+G102+I102 -> 0 | L102: =F102+H102+J102 -> 0 | O102: ="" | P102: 기계경비 | Q102: 1 | R102: =IF(P102="기계경비",J102,0) -> 0 | S102: =IF(P102="운반비",L102,0) -> 0 | T102: =IF(P102="작업부산물",F102,0) -> 0 | U102: =IF(P102="관급",F102,0) -> 0 | V102: =IF(P102="외주비",J102,0) -> 0 | W102: =IF(P102="장비비",J102,0) -> 0 | X102: =IF(P102="폐기물처리비",L102,0) -> 0 | Y102: =IF(P102="가설비",J102,0) -> 0 | Z102: =IF(P102="잡비제외분",F102,0) -> 0 | AA102: =IF(P102="사급자재대",L102,0) -> 0 | AB102: =IF(P102="관급자재대",L102,0) -> 0 | AC102: =IF(P102="사용자항목1",L102,0) -> 0 | AD102: =IF(P102="사용자항목2",L102,0) -> 0 | AE102: =IF(P102="안전관리비",L102,0) -> 0 | AF102: =IF(P102="품질관리비",L102,0) -> 0 | AG102: =IF(P102="작업부산물(철거해체)",L102,0) -> 0 | AH102: =IF(P102="재해예방기술지도비",L102,0) -> 0 | AI102: =IF(P102="사용자항목7",L102,0) -> 0 | AJ102: =IF(P102="석면분담금",L102,0) -> 0 | AK102: =IF(P102="임금채권부담금",L102,0) -> 0 | AL102: =IF(P102="사용자항목10",L102,0) -> 0 | AM102: =IF(P102="사용자항목11",L102,0) -> 0 | AN102: =IF(P102="사용자항목12",L102,0) -> 0 | AO102: =IF(P102="사용자항목13",L102,0) -> 0 | AP102: =IF(P102="사용자항목14",L102,0) -> 0 | AQ102: =IF(P102="사용자항목15",L102,0) -> 0 | AR102: =IF(P102="사용자항목16",L102,0) -> 0 | AS102: =IF(P102="사용자항목17",L102,0) -> 0 | AT102: =IF(P102="사용자항목18",L102,0) -> 0 | AU102: =IF(P102="사용자항목19",L102,0) -> 0
A116: 합 계 | F116: =ROUNDDOWN(SUMIF(Q102:Q115,"1",F102:F115),0) -> 0 | H116: =ROUNDDOWN(SUMIF(Q102:Q115,"1",H102:H115),0) -> 0 | J116: =ROUNDDOWN(SUMIF(Q102:Q115,"1",J102:J115),0) -> 0 | L116: =F116+H116+J116 -> 0 | R116: =ROUNDDOWN(SUM(R102:R102),0) -> 0 | S116: =ROUNDDOWN(SUM(S102:S102),0) -> 0 | T116: =ROUNDDOWN(SUM(T102:T102),0) -> 0 | U116: =ROUNDDOWN(SUM(U102:U102),0) -> 0 | V116: =ROUNDDOWN(SUM(V102:V102),0) -> 0 | W116: =ROUNDDOWN(SUM(W102:W102),0) -> 0 | X116: =ROUNDDOWN(SUM(X102:X102),0) -> 0 | Y116: =ROUNDDOWN(SUM(Y102:Y102),0) -> 0 | ... AY116: =ROUNDDOWN(SUM(AY102:AY102),0) -> 0
A117: 0108. 수장공사
A118: 석고판 설치(나사고정,석고판포함) | B118: 천장, 방수, 바탕용 12.5mm((2겹) | C118: M2 | D118: 11.9 | F118: =ROUNDDOWN(D118*E118,0) -> 0 | H118: =ROUNDDOWN(D118*G118,0) -> 0 | J118: =ROUNDDOWN(D118*I118,0) -> 0 | K118: =E118+G118+I118 -> 0 | L118: =F118+H118+J118 -> 0 | O118: ="" | P118: 기계경비 | Q118: 1 | R118: =IF(P118="기계경비",J118,0) -> 0 | S118: =IF(P118="운반비",L118,0) -> 0 | T118: =IF(P118="작업부산물",F118,0) -> 0 | U118: =IF(P118="관급",F118,0) -> 0 | V118: =IF(P118="외주비",J118,0) -> 0 | W118: =IF(P118="장비비",J118,0) -> 0 | X118: =IF(P118="폐기물처리비",L118,0) -> 0 | Y118: =IF(P118="가설비",J118,0) -> 0 | Z118: =IF(P118="잡비제외분",F118,0) -> 0 | AA118: =IF(P118="사급자재대",L118,0) -> 0 | AB118: =IF(P118="관급자재대",L118,0) -> 0 | AC118: =IF(P118="사용자항목1",L118,0) -> 0 | AD118: =IF(P118="사용자항목2",L118,0) -> 0 | AE118: =IF(P118="안전관리비",L118,0) -> 0 | AF118: =IF(P118="품질관리비",L118,0) -> 0 | AG118: =IF(P118="작업부산물(철거해체)",L118,0) -> 0 | AH118: =IF(P118="재해예방기술지도비",L118,0) -> 0 | AI118: =IF(P118="사용자항목7",L118,0) -> 0 | AJ118: =IF(P118="석면분담금",L118,0) -> 0 | AK118: =IF(P118="임금채권부담금",L118,0) -> 0 | AL118: =IF(P118="사용자항목10",L118,0) -> 0 | AM118: =IF(P118="사용자항목11",L118,0) -> 0 | AN118: =IF(P118="사용자항목12",L118,0) -> 0 | AO118: =IF(P118="사용자항목13",L118,0) -> 0 | AP118: =IF(P118="사용자항목14",L118,0) -> 0 | AQ118: =IF(P118="사용자항목15",L118,0) -> 0 | AR118: =IF(P118="사용자항목16",L118,0) -> 0 | AS118: =IF(P118="사용자항목17",L118,0) -> 0 | AT118: =IF(P118="사용자항목18",L118,0) -> 0 | AU118: =IF(P118="사용자항목19",L118,0) -> 0
A119: 경량철골천장틀(내진행거) | B119: M-BAR, 1m미만, 인서트 유, 현장설치도 | C119: M2 | D119: 11.9 | F119: =ROUNDDOWN(D119*E119,0) -> 0 | H119: =ROUNDDOWN(D119*G119,0) -> 0 | J119: =ROUNDDOWN(D119*I119,0) -> 0 | K119: =E119+G119+I119 -> 0 | L119: =F119+H119+J119 -> 0 | O119: ="01" -> 01 | P119: 기계경비 | Q119: 1 | R119: =IF(P119="기계경비",J119,0) -> 0 | S119: =IF(P119="운반비",L119,0) -> 0 | T119: =IF(P119="작업부산물",F119,0) -> 0 | U119: =IF(P119="관급",F119,0) -> 0 | V119: =IF(P119="외주비",J119,0) -> 0 | W119: =IF(P119="장비비",J119,0) -> 0 | X119: =IF(P119="폐기물처리비",L119,0) -> 0 | Y119: =IF(P119="가설비",J119,0) -> 0 | Z119: =IF(P119="잡비제외분",F119,0) -> 0 | AA119: =IF(P119="사급자재대",L119,0) -> 0 | AB119: =IF(P119="관급자재대",L119,0) -> 0 | AC119: =IF(P119="사용자항목1",L119,0) -> 0 | AD119: =IF(P119="사용자항목2",L119,0) -> 0 | AE119: =IF(P119="안전관리비",L119,0) -> 0 | AF119: =IF(P119="품질관리비",L119,0) -> 0 | AG119: =IF(P119="작업부산물(철거해체)",L119,0) -> 0 | AH119: =IF(P119="재해예방기술지도비",L119,0) -> 0 | AI119: =IF(P119="사용자항목7",L119,0) -> 0 | AJ119: =IF(P119="석면분담금",L119,0) -> 0 | AK119: =IF(P119="임금채권부담금",L119,0) -> 0 | AL119: =IF(P119="사용자항목10",L119,0) -> 0 | AM119: =IF(P119="사용자항목11",L119,0) -> 0 | AN119: =IF(P119="사용자항목12",L119,0) -> 0 | AO119: =IF(P119="사용자항목13",L119,0) -> 0 | AP119: =IF(P119="사용자항목14",L119,0) -> 0 | AQ119: =IF(P119="사용자항목15",L119,0) -> 0 | AR119: =IF(P119="사용자항목16",L119,0) -> 0 | AS119: =IF(P119="사용자항목17",L119,0) -> 0 | AT119: =IF(P119="사용자항목18",L119,0) -> 0 | AU119: =IF(P119="사용자항목19",L119,0) -> 0 | AY119: PK적산
A120: 몰딩설치 | B120: 천장갓둘레, AL몰딩, L형 15*15*1.0mm | C120: M | D120: 22.5 | F120: =ROUNDDOWN(D120*E120,0) -> 0 | H120: =ROUNDDOWN(D120*G120,0) -> 0 | J120: =ROUNDDOWN(D120*I120,0) -> 0 | K120: =E120+G120+I120 -> 0 | L120: =F120+H120+J120 -> 0 | O120: ="" | P120: 기계경비 | Q120: 1 | R120: =IF(P120="기계경비",J120,0) -> 0 | S120: =IF(P120="운반비",L120,0) -> 0 | T120: =IF(P120="작업부산물",F120,0) -> 0 | U120: =IF(P120="관급",F120,0) -> 0 | V120: =IF(P120="외주비",J120,0) -> 0 | W120: =IF(P120="장비비",J120,0) -> 0 | X120: =IF(P120="폐기물처리비",L120,0) -> 0 | Y120: =IF(P120="가설비",J120,0) -> 0 | Z120: =IF(P120="잡비제외분",F120,0) -> 0 | AA120: =IF(P120="사급자재대",L120,0) -> 0 | AB120: =IF(P120="관급자재대",L120,0) -> 0 | AC120: =IF(P120="사용자항목1",L120,0) -> 0 | AD120: =IF(P120="사용자항목2",L120,0) -> 0 | AE120: =IF(P120="안전관리비",L120,0) -> 0 | AF120: =IF(P120="품질관리비",L120,0) -> 0 | AG120: =IF(P120="작업부산물(철거해체)",L120,0) -> 0 | AH120: =IF(P120="재해예방기술지도비",L120,0) -> 0 | AI120: =IF(P120="사용자항목7",L120,0) -> 0 | AJ120: =IF(P120="석면분담금",L120,0) -> 0 | AK120: =IF(P120="임금채권부담금",L120,0) -> 0 | AL120: =IF(P120="사용자항목10",L120,0) -> 0 | AM120: =IF(P120="사용자항목11",L120,0) -> 0 | AN120: =IF(P120="사용자항목12",L120,0) -> 0 | AO120: =IF(P120="사용자항목13",L120,0) -> 0 | AP120: =IF(P120="사용자항목14",L120,0) -> 0 | AQ120: =IF(P120="사용자항목15",L120,0) -> 0 | AR120: =IF(P120="사용자항목16",L120,0) -> 0 | AS120: =IF(P120="사용자항목17",L120,0) -> 0 | AT120: =IF(P120="사용자항목18",L120,0) -> 0 | AU120: =IF(P120="사용자항목19",L120,0) -> 0 | AY120: PK적산
A121: 천장점검구 설치 | B121: 600*600mm | C121: 개소 | D121: 1 | F121: =ROUNDDOWN(D121*E121,0) -> 0 | H121: =ROUNDDOWN(D121*G121,0) -> 0 | J121: =ROUNDDOWN(D121*I121,0) -> 0 | K121: =E121+G121+I121 -> 0 | L121: =F121+H121+J121 -> 0 | O121: ="" | P121: 기계경비 | Q121: 1 | R121: =IF(P121="기계경비",J121,0) -> 0 | S121: =IF(P121="운반비",L121,0) -> 0 | T121: =IF(P121="작업부산물",F121,0) -> 0 | U121: =IF(P121="관급",F121,0) -> 0 | V121: =IF(P121="외주비",J121,0) -> 0 | W121: =IF(P121="장비비",J121,0) -> 0 | X121: =IF(P121="폐기물처리비",L121,0) -> 0 | Y121: =IF(P121="가설비",J121,0) -> 0 | Z121: =IF(P121="잡비제외분",F121,0) -> 0 | AA121: =IF(P121="사급자재대",L121,0) -> 0 | AB121: =IF(P121="관급자재대",L121,0) -> 0 | AC121: =IF(P121="사용자항목1",L121,0) -> 0 | AD121: =IF(P121="사용자항목2",L121,0) -> 0 | AE121: =IF(P121="안전관리비",L121,0) -> 0 | AF121: =IF(P121="품질관리비",L121,0) -> 0 | AG121: =IF(P121="작업부산물(철거해체)",L121,0) -> 0 | AH121: =IF(P121="재해예방기술지도비",L121,0) -> 0 | AI121: =IF(P121="사용자항목7",L121,0) -> 0 | AJ121: =IF(P121="석면분담금",L121,0) -> 0 | AK121: =IF(P121="임금채권부담금",L121,0) -> 0 | AL121: =IF(P121="사용자항목10",L121,0) -> 0 | AM121: =IF(P121="사용자항목11",L121,0) -> 0 | AN121: =IF(P121="사용자항목12",L121,0) -> 0 | AO121: =IF(P121="사용자항목13",L121,0) -> 0 | AP121: =IF(P121="사용자항목14",L121,0) -> 0 | AQ121: =IF(P121="사용자항목15",L121,0) -> 0 | AR121: =IF(P121="사용자항목16",L121,0) -> 0 | AS121: =IF(P121="사용자항목17",L121,0) -> 0 | AT121: =IF(P121="사용자항목18",L121,0) -> 0 | AU121: =IF(P121="사용자항목19",L121,0) -> 0 | AY121: AJI60000020S
A122: 금속천장재 | B122: CLIP-BAR, 불연, 내진틀, 600×600×0.4T 평판(내풍압용-볼캡,피스포함) | C122: M2 | D122: 1.8 | F122: =ROUNDDOWN(D122*E122,0) -> 0 | H122: =ROUNDDOWN(D122*G122,0) -> 0 | J122: =ROUNDDOWN(D122*I122,0) -> 0 | K122: =E122+G122+I122 -> 0 | L122: =F122+H122+J122 -> 0 | O122: ="01" -> 01 | P122: 기계경비 | Q122: 1 | R122: =IF(P122="기계경비",J122,0) -> 0 | S122: =IF(P122="운반비",L122,0) -> 0 | T122: =IF(P122="작업부산물",F122,0) -> 0 | U122: =IF(P122="관급",F122,0) -> 0 | V122: =IF(P122="외주비",J122,0) -> 0 | W122: =IF(P122="장비비",J122,0) -> 0 | X122: =IF(P122="폐기물처리비",L122,0) -> 0 | Y122: =IF(P122="가설비",J122,0) -> 0 | Z122: =IF(P122="잡비제외분",F122,0) -> 0 | AA122: =IF(P122="사급자재대",L122,0) -> 0 | AB122: =IF(P122="관급자재대",L122,0) -> 0 | AC122: =IF(P122="사용자항목1",L122,0) -> 0 | AD122: =IF(P122="사용자항목2",L122,0) -> 0 | AE122: =IF(P122="안전관리비",L122,0) -> 0 | AF122: =IF(P122="품질관리비",L122,0) -> 0 | AG122: =IF(P122="작업부산물(철거해체)",L122,0) -> 0 | AH122: =IF(P122="재해예방기술지도비",L122,0) -> 0 | AI122: =IF(P122="사용자항목7",L122,0) -> 0 | AJ122: =IF(P122="석면분담금",L122,0) -> 0 | AK122: =IF(P122="임금채권부담금",L122,0) -> 0 | AL122: =IF(P122="사용자항목10",L122,0) -> 0 | AM122: =IF(P122="사용자항목11",L122,0) -> 0 | AN122: =IF(P122="사용자항목12",L122,0) -> 0 | AO122: =IF(P122="사용자항목13",L122,0) -> 0 | AP122: =IF(P122="사용자항목14",L122,0) -> 0 | AQ122: =IF(P122="사용자항목15",L122,0) -> 0 | AR122: =IF(P122="사용자항목16",L122,0) -> 0 | AS122: =IF(P122="사용자항목17",L122,0) -> 0 | AT122: =IF(P122="사용자항목18",L122,0) -> 0 | AU122: =IF(P122="사용자항목19",L122,0) -> 0
A123: 전도성 바닥재 설치 | B123: 시트형, 전면접착 방식, 2.0T, 의료용 | C123: M2 | D123: 23.02 | F123: =ROUNDDOWN(D123*E123,0) -> 0 | H123: =ROUNDDOWN(D123*G123,0) -> 0 | J123: =ROUNDDOWN(D123*I123,0) -> 0 | K123: =E123+G123+I123 -> 0 | L123: =F123+H123+J123 -> 0 | O123: ="" | P123: 기계경비 | Q123: 1 | R123: =IF(P123="기계경비",J123,0) -> 0 | S123: =IF(P123="운반비",L123,0) -> 0 | T123: =IF(P123="작업부산물",F123,0) -> 0 | U123: =IF(P123="관급",F123,0) -> 0 | V123: =IF(P123="외주비",J123,0) -> 0 | W123: =IF(P123="장비비",J123,0) -> 0 | X123: =IF(P123="폐기물처리비",L123,0) -> 0 | Y123: =IF(P123="가설비",J123,0) -> 0 | Z123: =IF(P123="잡비제외분",F123,0) -> 0 | AA123: =IF(P123="사급자재대",L123,0) -> 0 | AB123: =IF(P123="관급자재대",L123,0) -> 0 | AC123: =IF(P123="사용자항목1",L123,0) -> 0 | AD123: =IF(P123="사용자항목2",L123,0) -> 0 | AE123: =IF(P123="안전관리비",L123,0) -> 0 | AF123: =IF(P123="품질관리비",L123,0) -> 0 | AG123: =IF(P123="작업부산물(철거해체)",L123,0) -> 0 | AH123: =IF(P123="재해예방기술지도비",L123,0) -> 0 | AI123: =IF(P123="사용자항목7",L123,0) -> 0 | AJ123: =IF(P123="석면분담금",L123,0) -> 0 | AK123: =IF(P123="임금채권부담금",L123,0) -> 0 | AL123: =IF(P123="사용자항목10",L123,0) -> 0 | AM123: =IF(P123="사용자항목11",L123,0) -> 0 | AN123: =IF(P123="사용자항목12",L123,0) -> 0 | AO123: =IF(P123="사용자항목13",L123,0) -> 0 | AP123: =IF(P123="사용자항목14",L123,0) -> 0 | AQ123: =IF(P123="사용자항목15",L123,0) -> 0 | AR123: =IF(P123="사용자항목16",L123,0) -> 0 | AS123: =IF(P123="사용자항목17",L123,0) -> 0 | AT123: =IF(P123="사용자항목18",L123,0) -> 0 | AU123: =IF(P123="사용자항목19",L123,0) -> 0 | AY123: PK적산
A132: 합 계 | F132: =ROUNDDOWN(SUMIF(Q118:Q131,"1",F118:F131),0) -> 0 | H132: =ROUNDDOWN(SUMIF(Q118:Q131,"1",H118:H131),0) -> 0 | J132: =ROUNDDOWN(SUMIF(Q118:Q131,"1",J118:J131),0) -> 0 | L132: =F132+H132+J132 -> 0 | R132: =ROUNDDOWN(SUM(R118:R123),0) -> 0 | S132: =ROUNDDOWN(SUM(S118:S123),0) -> 0 | T132: =ROUNDDOWN(SUM(T118:T123),0) -> 0 | U132: =ROUNDDOWN(SUM(U118:U123),0) -> 0 | V132: =ROUNDDOWN(SUM(V118:V123),0) -> 0 | W132: =ROUNDDOWN(SUM(W118:W123),0) -> 0 | X132: =ROUNDDOWN(SUM(X118:X123),0) -> 0 | Y132: =ROUNDDOWN(SUM(Y118:Y123),0) -> 0 | ... AY132: =ROUNDDOWN(SUM(AY118:AY123),0) -> 0
A133: 0109. 금속공사
A134: 욕실거울 설치 | B134: T 5, 화장경 | C134: M2 | D134: 1.44 | F134: =ROUNDDOWN(D134*E134,0) -> 0 | H134: =ROUNDDOWN(D134*G134,0) -> 0 | J134: =ROUNDDOWN(D134*I134,0) -> 0 | K134: =E134+G134+I134 -> 0 | L134: =F134+H134+J134 -> 0 | O134: ="" | P134: 기계경비 | Q134: 1 | R134: =IF(P134="기계경비",J134,0) -> 0 | S134: =IF(P134="운반비",L134,0) -> 0 | T134: =IF(P134="작업부산물",F134,0) -> 0 | U134: =IF(P134="관급",F134,0) -> 0 | V134: =IF(P134="외주비",J134,0) -> 0 | W134: =IF(P134="장비비",J134,0) -> 0 | X134: =IF(P134="폐기물처리비",L134,0) -> 0 | Y134: =IF(P134="가설비",J134,0) -> 0 | Z134: =IF(P134="잡비제외분",F134,0) -> 0 | AA134: =IF(P134="사급자재대",L134,0) -> 0 | AB134: =IF(P134="관급자재대",L134,0) -> 0 | AC134: =IF(P134="사용자항목1",L134,0) -> 0 | AD134: =IF(P134="사용자항목2",L134,0) -> 0 | AE134: =IF(P134="안전관리비",L134,0) -> 0 | AF134: =IF(P134="품질관리비",L134,0) -> 0 | AG134: =IF(P134="작업부산물(철거해체)",L134,0) -> 0 | AH134: =IF(P134="재해예방기술지도비",L134,0) -> 0 | AI134: =IF(P134="사용자항목7",L134,0) -> 0 | AJ134: =IF(P134="석면분담금",L134,0) -> 0 | AK134: =IF(P134="임금채권부담금",L134,0) -> 0 | AL134: =IF(P134="사용자항목10",L134,0) -> 0 | AM134: =IF(P134="사용자항목11",L134,0) -> 0 | AN134: =IF(P134="사용자항목12",L134,0) -> 0 | AO134: =IF(P134="사용자항목13",L134,0) -> 0 | AP134: =IF(P134="사용자항목14",L134,0) -> 0 | AQ134: =IF(P134="사용자항목15",L134,0) -> 0 | AR134: =IF(P134="사용자항목16",L134,0) -> 0 | AS134: =IF(P134="사용자항목17",L134,0) -> 0 | AT134: =IF(P134="사용자항목18",L134,0) -> 0 | AU134: =IF(P134="사용자항목19",L134,0) -> 0 | AY134: PK적산
A135: 스텐레스 공틀 제작 설치 | B135: T 1.2, 275*45, 1100*2100 | C135: SET | D135: 4 | F135: =ROUNDDOWN(D135*E135,0) -> 0 | H135: =ROUNDDOWN(D135*G135,0) -> 0 | J135: =ROUNDDOWN(D135*I135,0) -> 0 | K135: =E135+G135+I135 -> 0 | L135: =F135+H135+J135 -> 0 | O135: ="" | P135: 기계경비 | Q135: 1 | R135: =IF(P135="기계경비",J135,0) -> 0 | S135: =IF(P135="운반비",L135,0) -> 0 | T135: =IF(P135="작업부산물",F135,0) -> 0 | U135: =IF(P135="관급",F135,0) -> 0 | V135: =IF(P135="외주비",J135,0) -> 0 | W135: =IF(P135="장비비",J135,0) -> 0 | X135: =IF(P135="폐기물처리비",L135,0) -> 0 | Y135: =IF(P135="가설비",J135,0) -> 0 | Z135: =IF(P135="잡비제외분",F135,0) -> 0 | AA135: =IF(P135="사급자재대",L135,0) -> 0 | AB135: =IF(P135="관급자재대",L135,0) -> 0 | AC135: =IF(P135="사용자항목1",L135,0) -> 0 | AD135: =IF(P135="사용자항목2",L135,0) -> 0 | AE135: =IF(P135="안전관리비",L135,0) -> 0 | AF135: =IF(P135="품질관리비",L135,0) -> 0 | AG135: =IF(P135="작업부산물(철거해체)",L135,0) -> 0 | AH135: =IF(P135="재해예방기술지도비",L135,0) -> 0 | AI135: =IF(P135="사용자항목7",L135,0) -> 0 | AJ135: =IF(P135="석면분담금",L135,0) -> 0 | AK135: =IF(P135="임금채권부담금",L135,0) -> 0 | AL135: =IF(P135="사용자항목10",L135,0) -> 0 | AM135: =IF(P135="사용자항목11",L135,0) -> 0 | AN135: =IF(P135="사용자항목12",L135,0) -> 0 | AO135: =IF(P135="사용자항목13",L135,0) -> 0 | AP135: =IF(P135="사용자항목14",L135,0) -> 0 | AQ135: =IF(P135="사용자항목15",L135,0) -> 0 | AR135: =IF(P135="사용자항목16",L135,0) -> 0 | AS135: =IF(P135="사용자항목17",L135,0) -> 0 | AT135: =IF(P135="사용자항목18",L135,0) -> 0 | AU135: =IF(P135="사용자항목19",L135,0) -> 0 | AY135: PK적산
A136: 재료분리대 | B136: SUS, 20mm, ㄷ-type | C136: M | D136: 1.1 | F136: =ROUNDDOWN(D136*E136,0) -> 0 | H136: =ROUNDDOWN(D136*G136,0) -> 0 | J136: =ROUNDDOWN(D136*I136,0) -> 0 | K136: =E136+G136+I136 -> 0 | L136: =F136+H136+J136 -> 0 | O136: ="01" -> 01 | P136: 기계경비 | Q136: 1 | R136: =IF(P136="기계경비",J136,0) -> 0 | S136: =IF(P136="운반비",L136,0) -> 0 | T136: =IF(P136="작업부산물",F136,0) -> 0 | U136: =IF(P136="관급",F136,0) -> 0 | V136: =IF(P136="외주비",J136,0) -> 0 | W136: =IF(P136="장비비",J136,0) -> 0 | X136: =IF(P136="폐기물처리비",L136,0) -> 0 | Y136: =IF(P136="가설비",J136,0) -> 0 | Z136: =IF(P136="잡비제외분",F136,0) -> 0 | AA136: =IF(P136="사급자재대",L136,0) -> 0 | AB136: =IF(P136="관급자재대",L136,0) -> 0 | AC136: =IF(P136="사용자항목1",L136,0) -> 0 | AD136: =IF(P136="사용자항목2",L136,0) -> 0 | AE136: =IF(P136="안전관리비",L136,0) -> 0 | AF136: =IF(P136="품질관리비",L136,0) -> 0 | AG136: =IF(P136="작업부산물(철거해체)",L136,0) -> 0 | AH136: =IF(P136="재해예방기술지도비",L136,0) -> 0 | AI136: =IF(P136="사용자항목7",L136,0) -> 0 | AJ136: =IF(P136="석면분담금",L136,0) -> 0 | AK136: =IF(P136="임금채권부담금",L136,0) -> 0 | AL136: =IF(P136="사용자항목10",L136,0) -> 0 | AM136: =IF(P136="사용자항목11",L136,0) -> 0 | AN136: =IF(P136="사용자항목12",L136,0) -> 0 | AO136: =IF(P136="사용자항목13",L136,0) -> 0 | AP136: =IF(P136="사용자항목14",L136,0) -> 0 | AQ136: =IF(P136="사용자항목15",L136,0) -> 0 | AR136: =IF(P136="사용자항목16",L136,0) -> 0 | AS136: =IF(P136="사용자항목17",L136,0) -> 0 | AT136: =IF(P136="사용자항목18",L136,0) -> 0 | AU136: =IF(P136="사용자항목19",L136,0) -> 0 | AY136: PK적산
A148: 합 계 | F148: =ROUNDDOWN(SUMIF(Q134:Q147,"1",F134:F147),0) -> 0 | H148: =ROUNDDOWN(SUMIF(Q134:Q147,"1",H134:H147),0) -> 0 | J148: =ROUNDDOWN(SUMIF(Q134:Q147,"1",J134:J147),0) -> 0 | L148: =F148+H148+J148 -> 0 | R148: =ROUNDDOWN(SUM(R134:R136),0) -> 0 | S148: =ROUNDDOWN(SUM(S134:S136),0) -> 0 | T148: =ROUNDDOWN(SUM(T134:T136),0) -> 0 | U148: =ROUNDDOWN(SUM(U134:U136),0) -> 0 | V148: =ROUNDDOWN(SUM(V134:V136),0) -> 0 | W148: =ROUNDDOWN(SUM(W134:W136),0) -> 0 | X148: =ROUNDDOWN(SUM(X134:X136),0) -> 0 | Y148: =ROUNDDOWN(SUM(Y134:Y136),0) -> 0 | ... AY148: =ROUNDDOWN(SUM(AY134:AY136),0) -> 0
A149: 0110. 도장공사
A150: 수성페인트 롤러칠 | B150: 천장, 2회 | C150: M2 | D150: 23.3 | F150: =ROUNDDOWN(D150*E150,0) -> 0 | H150: =ROUNDDOWN(D150*G150,0) -> 0 | J150: =ROUNDDOWN(D150*I150,0) -> 0 | K150: =E150+G150+I150 -> 0 | L150: =F150+H150+J150 -> 0 | O150: ="" | P150: 기계경비 | Q150: 1 | R150: =IF(P150="기계경비",J150,0) -> 0 | S150: =IF(P150="운반비",L150,0) -> 0 | T150: =IF(P150="작업부산물",F150,0) -> 0 | U150: =IF(P150="관급",F150,0) -> 0 | V150: =IF(P150="외주비",J150,0) -> 0 | W150: =IF(P150="장비비",J150,0) -> 0 | X150: =IF(P150="폐기물처리비",L150,0) -> 0 | Y150: =IF(P150="가설비",J150,0) -> 0 | Z150: =IF(P150="잡비제외분",F150,0) -> 0 | AA150: =IF(P150="사급자재대",L150,0) -> 0 | AB150: =IF(P150="관급자재대",L150,0) -> 0 | AC150: =IF(P150="사용자항목1",L150,0) -> 0 | AD150: =IF(P150="사용자항목2",L150,0) -> 0 | AE150: =IF(P150="안전관리비",L150,0) -> 0 | AF150: =IF(P150="품질관리비",L150,0) -> 0 | AG150: =IF(P150="작업부산물(철거해체)",L150,0) -> 0 | AH150: =IF(P150="재해예방기술지도비",L150,0) -> 0 | AI150: =IF(P150="사용자항목7",L150,0) -> 0 | AJ150: =IF(P150="석면분담금",L150,0) -> 0 | AK150: =IF(P150="임금채권부담금",L150,0) -> 0 | AL150: =IF(P150="사용자항목10",L150,0) -> 0 | AM150: =IF(P150="사용자항목11",L150,0) -> 0 | AN150: =IF(P150="사용자항목12",L150,0) -> 0 | AO150: =IF(P150="사용자항목13",L150,0) -> 0 | AP150: =IF(P150="사용자항목14",L150,0) -> 0 | AQ150: =IF(P150="사용자항목15",L150,0) -> 0 | AR150: =IF(P150="사용자항목16",L150,0) -> 0 | AS150: =IF(P150="사용자항목17",L150,0) -> 0 | AT150: =IF(P150="사용자항목18",L150,0) -> 0 | AU150: =IF(P150="사용자항목19",L150,0) -> 0 | AY150: ANC13300050S
A151: 수성페인트 보강(붓칠) | B151: 내벽 1회 1급, 공틀 주위 | C151: M2 | D151: 2.12 | F151: =ROUNDDOWN(D151*E151,0) -> 0 | H151: =ROUNDDOWN(D151*G151,0) -> 0 | J151: =ROUNDDOWN(D151*I151,0) -> 0 | K151: =E151+G151+I151 -> 0 | L151: =F151+H151+J151 -> 0 | O151: ="" | P151: 기계경비 | Q151: 1 | R151: =IF(P151="기계경비",J151,0) -> 0 | S151: =IF(P151="운반비",L151,0) -> 0 | T151: =IF(P151="작업부산물",F151,0) -> 0 | U151: =IF(P151="관급",F151,0) -> 0 | V151: =IF(P151="외주비",J151,0) -> 0 | W151: =IF(P151="장비비",J151,0) -> 0 | X151: =IF(P151="폐기물처리비",L151,0) -> 0 | Y151: =IF(P151="가설비",J151,0) -> 0 | Z151: =IF(P151="잡비제외분",F151,0) -> 0 | AA151: =IF(P151="사급자재대",L151,0) -> 0 | AB151: =IF(P151="관급자재대",L151,0) -> 0 | AC151: =IF(P151="사용자항목1",L151,0) -> 0 | AD151: =IF(P151="사용자항목2",L151,0) -> 0 | AE151: =IF(P151="안전관리비",L151,0) -> 0 | AF151: =IF(P151="품질관리비",L151,0) -> 0 | AG151: =IF(P151="작업부산물(철거해체)",L151,0) -> 0 | AH151: =IF(P151="재해예방기술지도비",L151,0) -> 0 | AI151: =IF(P151="사용자항목7",L151,0) -> 0 | AJ151: =IF(P151="석면분담금",L151,0) -> 0 | AK151: =IF(P151="임금채권부담금",L151,0) -> 0 | AL151: =IF(P151="사용자항목10",L151,0) -> 0 | AM151: =IF(P151="사용자항목11",L151,0) -> 0 | AN151: =IF(P151="사용자항목12",L151,0) -> 0 | AO151: =IF(P151="사용자항목13",L151,0) -> 0 | AP151: =IF(P151="사용자항목14",L151,0) -> 0 | AQ151: =IF(P151="사용자항목15",L151,0) -> 0 | AR151: =IF(P151="사용자항목16",L151,0) -> 0 | AS151: =IF(P151="사용자항목17",L151,0) -> 0 | AT151: =IF(P151="사용자항목18",L151,0) -> 0 | AU151: =IF(P151="사용자항목19",L151,0) -> 0 | AY151: PK적산
A164: 합 계 | F164: =ROUNDDOWN(SUMIF(Q150:Q163,"1",F150:F163),0) -> 0 | H164: =ROUNDDOWN(SUMIF(Q150:Q163,"1",H150:H163),0) -> 0 | J164: =ROUNDDOWN(SUMIF(Q150:Q163,"1",J150:J163),0) -> 0 | L164: =F164+H164+J164 -> 0 | R164: =ROUNDDOWN(SUM(R150:R151),0) -> 0 | S164: =ROUNDDOWN(SUM(S150:S151),0) -> 0 | T164: =ROUNDDOWN(SUM(T150:T151),0) -> 0 | U164: =ROUNDDOWN(SUM(U150:U151),0) -> 0 | V164: =ROUNDDOWN(SUM(V150:V151),0) -> 0 | W164: =ROUNDDOWN(SUM(W150:W151),0) -> 0 | X164: =ROUNDDOWN(SUM(X150:X151),0) -> 0 | Y164: =ROUNDDOWN(SUM(Y150:Y151),0) -> 0 | ... AY164: =ROUNDDOWN(SUM(AY150:AY151),0) -> 0
A165: 0111. 자동문및반자동문공사
A166: ASD - 1 | B166: 2180 x 2300 | C166: SET | D166: 2 | F166: =ROUNDDOWN(D166*E166,0) -> 0 | H166: =ROUNDDOWN(D166*G166,0) -> 0 | J166: =ROUNDDOWN(D166*I166,0) -> 0 | K166: =E166+G166+I166 -> 0 | L166: =F166+H166+J166 -> 0 | O166: ="" | P166: 기계경비 | Q166: 1 | R166: =IF(P166="기계경비",J166,0) -> 0 | S166: =IF(P166="운반비",L166,0) -> 0 | T166: =IF(P166="작업부산물",F166,0) -> 0 | U166: =IF(P166="관급",F166,0) -> 0 | V166: =IF(P166="외주비",J166,0) -> 0 | W166: =IF(P166="장비비",J166,0) -> 0 | X166: =IF(P166="폐기물처리비",L166,0) -> 0 | Y166: =IF(P166="가설비",J166,0) -> 0 | Z166: =IF(P166="잡비제외분",F166,0) -> 0 | AA166: =IF(P166="사급자재대",L166,0) -> 0 | AB166: =IF(P166="관급자재대",L166,0) -> 0 | AC166: =IF(P166="사용자항목1",L166,0) -> 0 | AD166: =IF(P166="사용자항목2",L166,0) -> 0 | AE166: =IF(P166="안전관리비",L166,0) -> 0 | AF166: =IF(P166="품질관리비",L166,0) -> 0 | AG166: =IF(P166="작업부산물(철거해체)",L166,0) -> 0 | AH166: =IF(P166="재해예방기술지도비",L166,0) -> 0 | AI166: =IF(P166="사용자항목7",L166,0) -> 0 | AJ166: =IF(P166="석면분담금",L166,0) -> 0 | AK166: =IF(P166="임금채권부담금",L166,0) -> 0 | AL166: =IF(P166="사용자항목10",L166,0) -> 0 | AM166: =IF(P166="사용자항목11",L166,0) -> 0 | AN166: =IF(P166="사용자항목12",L166,0) -> 0 | AO166: =IF(P166="사용자항목13",L166,0) -> 0 | AP166: =IF(P166="사용자항목14",L166,0) -> 0 | AQ166: =IF(P166="사용자항목15",L166,0) -> 0 | AR166: =IF(P166="사용자항목16",L166,0) -> 0 | AS166: =IF(P166="사용자항목17",L166,0) -> 0 | AT166: =IF(P166="사용자항목18",L166,0) -> 0 | AU166: =IF(P166="사용자항목19",L166,0) -> 0
A167: SLD - 1 | B167: 2950 x 2500 | C167: SET | D167: 1 | F167: =ROUNDDOWN(D167*E167,0) -> 0 | H167: =ROUNDDOWN(D167*G167,0) -> 0 | J167: =ROUNDDOWN(D167*I167,0) -> 0 | K167: =E167+G167+I167 -> 0 | L167: =F167+H167+J167 -> 0 | O167: ="" | P167: 기계경비 | Q167: 1 | R167: =IF(P167="기계경비",J167,0) -> 0 | S167: =IF(P167="운반비",L167,0) -> 0 | T167: =IF(P167="작업부산물",F167,0) -> 0 | U167: =IF(P167="관급",F167,0) -> 0 | V167: =IF(P167="외주비",J167,0) -> 0 | W167: =IF(P167="장비비",J167,0) -> 0 | X167: =IF(P167="폐기물처리비",L167,0) -> 0 | Y167: =IF(P167="가설비",J167,0) -> 0 | Z167: =IF(P167="잡비제외분",F167,0) -> 0 | AA167: =IF(P167="사급자재대",L167,0) -> 0 | AB167: =IF(P167="관급자재대",L167,0) -> 0 | AC167: =IF(P167="사용자항목1",L167,0) -> 0 | AD167: =IF(P167="사용자항목2",L167,0) -> 0 | AE167: =IF(P167="안전관리비",L167,0) -> 0 | AF167: =IF(P167="품질관리비",L167,0) -> 0 | AG167: =IF(P167="작업부산물(철거해체)",L167,0) -> 0 | AH167: =IF(P167="재해예방기술지도비",L167,0) -> 0 | AI167: =IF(P167="사용자항목7",L167,0) -> 0 | AJ167: =IF(P167="석면분담금",L167,0) -> 0 | AK167: =IF(P167="임금채권부담금",L167,0) -> 0 | AL167: =IF(P167="사용자항목10",L167,0) -> 0 | AM167: =IF(P167="사용자항목11",L167,0) -> 0 | AN167: =IF(P167="사용자항목12",L167,0) -> 0 | AO167: =IF(P167="사용자항목13",L167,0) -> 0 | AP167: =IF(P167="사용자항목14",L167,0) -> 0 | AQ167: =IF(P167="사용자항목15",L167,0) -> 0 | AR167: =IF(P167="사용자항목16",L167,0) -> 0 | AS167: =IF(P167="사용자항목17",L167,0) -> 0 | AT167: =IF(P167="사용자항목18",L167,0) -> 0 | AU167: =IF(P167="사용자항목19",L167,0) -> 0
A168: SLD - 2 | B168: 2200 x 2300 | C168: SET | D168: 2 | F168: =ROUNDDOWN(D168*E168,0) -> 0 | H168: =ROUNDDOWN(D168*G168,0) -> 0 | J168: =ROUNDDOWN(D168*I168,0) -> 0 | K168: =E168+G168+I168 -> 0 | L168: =F168+H168+J168 -> 0 | O168: ="" | P168: 기계경비 | Q168: 1 | R168: =IF(P168="기계경비",J168,0) -> 0 | S168: =IF(P168="운반비",L168,0) -> 0 | T168: =IF(P168="작업부산물",F168,0) -> 0 | U168: =IF(P168="관급",F168,0) -> 0 | V168: =IF(P168="외주비",J168,0) -> 0 | W168: =IF(P168="장비비",J168,0) -> 0 | X168: =IF(P168="폐기물처리비",L168,0) -> 0 | Y168: =IF(P168="가설비",J168,0) -> 0 | Z168: =IF(P168="잡비제외분",F168,0) -> 0 | AA168: =IF(P168="사급자재대",L168,0) -> 0 | AB168: =IF(P168="관급자재대",L168,0) -> 0 | AC168: =IF(P168="사용자항목1",L168,0) -> 0 | AD168: =IF(P168="사용자항목2",L168,0) -> 0 | AE168: =IF(P168="안전관리비",L168,0) -> 0 | AF168: =IF(P168="품질관리비",L168,0) -> 0 | AG168: =IF(P168="작업부산물(철거해체)",L168,0) -> 0 | AH168: =IF(P168="재해예방기술지도비",L168,0) -> 0 | AI168: =IF(P168="사용자항목7",L168,0) -> 0 | AJ168: =IF(P168="석면분담금",L168,0) -> 0 | AK168: =IF(P168="임금채권부담금",L168,0) -> 0 | AL168: =IF(P168="사용자항목10",L168,0) -> 0 | AM168: =IF(P168="사용자항목11",L168,0) -> 0 | AN168: =IF(P168="사용자항목12",L168,0) -> 0 | AO168: =IF(P168="사용자항목13",L168,0) -> 0 | AP168: =IF(P168="사용자항목14",L168,0) -> 0 | AQ168: =IF(P168="사용자항목15",L168,0) -> 0 | AR168: =IF(P168="사용자항목16",L168,0) -> 0 | AS168: =IF(P168="사용자항목17",L168,0) -> 0 | AT168: =IF(P168="사용자항목18",L168,0) -> 0 | AU168: =IF(P168="사용자항목19",L168,0) -> 0
A169: SLD - 3 | B169: 2200 x 2300 | C169: SET | D169: 4 | F169: =ROUNDDOWN(D169*E169,0) -> 0 | H169: =ROUNDDOWN(D169*G169,0) -> 0 | J169: =ROUNDDOWN(D169*I169,0) -> 0 | K169: =E169+G169+I169 -> 0 | L169: =F169+H169+J169 -> 0 | O169: ="" | P169: 기계경비 | Q169: 1 | R169: =IF(P169="기계경비",J169,0) -> 0 | S169: =IF(P169="운반비",L169,0) -> 0 | T169: =IF(P169="작업부산물",F169,0) -> 0 | U169: =IF(P169="관급",F169,0) -> 0 | V169: =IF(P169="외주비",J169,0) -> 0 | W169: =IF(P169="장비비",J169,0) -> 0 | X169: =IF(P169="폐기물처리비",L169,0) -> 0 | Y169: =IF(P169="가설비",J169,0) -> 0 | Z169: =IF(P169="잡비제외분",F169,0) -> 0 | AA169: =IF(P169="사급자재대",L169,0) -> 0 | AB169: =IF(P169="관급자재대",L169,0) -> 0 | AC169: =IF(P169="사용자항목1",L169,0) -> 0 | AD169: =IF(P169="사용자항목2",L169,0) -> 0 | AE169: =IF(P169="안전관리비",L169,0) -> 0 | AF169: =IF(P169="품질관리비",L169,0) -> 0 | AG169: =IF(P169="작업부산물(철거해체)",L169,0) -> 0 | AH169: =IF(P169="재해예방기술지도비",L169,0) -> 0 | AI169: =IF(P169="사용자항목7",L169,0) -> 0 | AJ169: =IF(P169="석면분담금",L169,0) -> 0 | AK169: =IF(P169="임금채권부담금",L169,0) -> 0 | AL169: =IF(P169="사용자항목10",L169,0) -> 0 | AM169: =IF(P169="사용자항목11",L169,0) -> 0 | AN169: =IF(P169="사용자항목12",L169,0) -> 0 | AO169: =IF(P169="사용자항목13",L169,0) -> 0 | AP169: =IF(P169="사용자항목14",L169,0) -> 0 | AQ169: =IF(P169="사용자항목15",L169,0) -> 0 | AR169: =IF(P169="사용자항목16",L169,0) -> 0 | AS169: =IF(P169="사용자항목17",L169,0) -> 0 | AT169: =IF(P169="사용자항목18",L169,0) -> 0 | AU169: =IF(P169="사용자항목19",L169,0) -> 0
A170: SLD - 4 | B170: 3660 x 2300 | C170: SET | D170: 1 | F170: =ROUNDDOWN(D170*E170,0) -> 0 | H170: =ROUNDDOWN(D170*G170,0) -> 0 | J170: =ROUNDDOWN(D170*I170,0) -> 0 | K170: =E170+G170+I170 -> 0 | L170: =F170+H170+J170 -> 0 | O170: ="" | P170: 기계경비 | Q170: 1 | R170: =IF(P170="기계경비",J170,0) -> 0 | S170: =IF(P170="운반비",L170,0) -> 0 | T170: =IF(P170="작업부산물",F170,0) -> 0 | U170: =IF(P170="관급",F170,0) -> 0 | V170: =IF(P170="외주비",J170,0) -> 0 | W170: =IF(P170="장비비",J170,0) -> 0 | X170: =IF(P170="폐기물처리비",L170,0) -> 0 | Y170: =IF(P170="가설비",J170,0) -> 0 | Z170: =IF(P170="잡비제외분",F170,0) -> 0 | AA170: =IF(P170="사급자재대",L170,0) -> 0 | AB170: =IF(P170="관급자재대",L170,0) -> 0 | AC170: =IF(P170="사용자항목1",L170,0) -> 0 | AD170: =IF(P170="사용자항목2",L170,0) -> 0 | AE170: =IF(P170="안전관리비",L170,0) -> 0 | AF170: =IF(P170="품질관리비",L170,0) -> 0 | AG170: =IF(P170="작업부산물(철거해체)",L170,0) -> 0 | AH170: =IF(P170="재해예방기술지도비",L170,0) -> 0 | AI170: =IF(P170="사용자항목7",L170,0) -> 0 | AJ170: =IF(P170="석면분담금",L170,0) -> 0 | AK170: =IF(P170="임금채권부담금",L170,0) -> 0 | AL170: =IF(P170="사용자항목10",L170,0) -> 0 | AM170: =IF(P170="사용자항목11",L170,0) -> 0 | AN170: =IF(P170="사용자항목12",L170,0) -> 0 | AO170: =IF(P170="사용자항목13",L170,0) -> 0 | AP170: =IF(P170="사용자항목14",L170,0) -> 0 | AQ170: =IF(P170="사용자항목15",L170,0) -> 0 | AR170: =IF(P170="사용자항목16",L170,0) -> 0 | AS170: =IF(P170="사용자항목17",L170,0) -> 0 | AT170: =IF(P170="사용자항목18",L170,0) -> 0 | AU170: =IF(P170="사용자항목19",L170,0) -> 0
A180: 합 계 | F180: =ROUNDDOWN(SUMIF(Q166:Q179,"1",F166:F179),0) -> 0 | H180: =ROUNDDOWN(SUMIF(Q166:Q179,"1",H166:H179),0) -> 0 | J180: =ROUNDDOWN(SUMIF(Q166:Q179,"1",J166:J179),0) -> 0 | L180: =F180+H180+J180 -> 0 | R180: =ROUNDDOWN(SUM(R166:R170),0) -> 0 | S180: =ROUNDDOWN(SUM(S166:S170),0) -> 0 | T180: =ROUNDDOWN(SUM(T166:T170),0) -> 0 | U180: =ROUNDDOWN(SUM(U166:U170),0) -> 0 | V180: =ROUNDDOWN(SUM(V166:V170),0) -> 0 | W180: =ROUNDDOWN(SUM(W166:W170),0) -> 0 | X180: =ROUNDDOWN(SUM(X166:X170),0) -> 0 | Y180: =ROUNDDOWN(SUM(Y166:Y170),0) -> 0 | ... AY180: =ROUNDDOWN(SUM(AY166:AY170),0) -> 0
A181: 0112. 핸드레일공사
A182: 코너가드 설치 | B182: TSC-50 , CG-1 , H:1,400 | C182: EA | D182: 35 | F182: =ROUNDDOWN(D182*E182,0) -> 0 | H182: =ROUNDDOWN(D182*G182,0) -> 0 | J182: =ROUNDDOWN(D182*I182,0) -> 0 | K182: =E182+G182+I182 -> 0 | L182: =F182+H182+J182 -> 0 | O182: ="" | P182: 기계경비 | Q182: 1 | R182: =IF(P182="기계경비",J182,0) -> 0 | S182: =IF(P182="운반비",L182,0) -> 0 | T182: =IF(P182="작업부산물",F182,0) -> 0 | U182: =IF(P182="관급",F182,0) -> 0 | V182: =IF(P182="외주비",J182,0) -> 0 | W182: =IF(P182="장비비",J182,0) -> 0 | X182: =IF(P182="폐기물처리비",L182,0) -> 0 | Y182: =IF(P182="가설비",J182,0) -> 0 | Z182: =IF(P182="잡비제외분",F182,0) -> 0 | AA182: =IF(P182="사급자재대",L182,0) -> 0 | AB182: =IF(P182="관급자재대",L182,0) -> 0 | AC182: =IF(P182="사용자항목1",L182,0) -> 0 | AD182: =IF(P182="사용자항목2",L182,0) -> 0 | AE182: =IF(P182="안전관리비",L182,0) -> 0 | AF182: =IF(P182="품질관리비",L182,0) -> 0 | AG182: =IF(P182="작업부산물(철거해체)",L182,0) -> 0 | AH182: =IF(P182="재해예방기술지도비",L182,0) -> 0 | AI182: =IF(P182="사용자항목7",L182,0) -> 0 | AJ182: =IF(P182="석면분담금",L182,0) -> 0 | AK182: =IF(P182="임금채권부담금",L182,0) -> 0 | AL182: =IF(P182="사용자항목10",L182,0) -> 0 | AM182: =IF(P182="사용자항목11",L182,0) -> 0 | AN182: =IF(P182="사용자항목12",L182,0) -> 0 | AO182: =IF(P182="사용자항목13",L182,0) -> 0 | AP182: =IF(P182="사용자항목14",L182,0) -> 0 | AQ182: =IF(P182="사용자항목15",L182,0) -> 0 | AR182: =IF(P182="사용자항목16",L182,0) -> 0 | AS182: =IF(P182="사용자항목17",L182,0) -> 0 | AT182: =IF(P182="사용자항목18",L182,0) -> 0 | AU182: =IF(P182="사용자항목19",L182,0) -> 0
A183: 코너가드 설치 | B183: TSTC-135 , CG-2 , H:1,400 | C183: EA | D183: 22 | F183: =ROUNDDOWN(D183*E183,0) -> 0 | H183: =ROUNDDOWN(D183*G183,0) -> 0 | J183: =ROUNDDOWN(D183*I183,0) -> 0 | K183: =E183+G183+I183 -> 0 | L183: =F183+H183+J183 -> 0 | O183: ="" | P183: 기계경비 | Q183: 1 | R183: =IF(P183="기계경비",J183,0) -> 0 | S183: =IF(P183="운반비",L183,0) -> 0 | T183: =IF(P183="작업부산물",F183,0) -> 0 | U183: =IF(P183="관급",F183,0) -> 0 | V183: =IF(P183="외주비",J183,0) -> 0 | W183: =IF(P183="장비비",J183,0) -> 0 | X183: =IF(P183="폐기물처리비",L183,0) -> 0 | Y183: =IF(P183="가설비",J183,0) -> 0 | Z183: =IF(P183="잡비제외분",F183,0) -> 0 | AA183: =IF(P183="사급자재대",L183,0) -> 0 | AB183: =IF(P183="관급자재대",L183,0) -> 0 | AC183: =IF(P183="사용자항목1",L183,0) -> 0 | AD183: =IF(P183="사용자항목2",L183,0) -> 0 | AE183: =IF(P183="안전관리비",L183,0) -> 0 | AF183: =IF(P183="품질관리비",L183,0) -> 0 | AG183: =IF(P183="작업부산물(철거해체)",L183,0) -> 0 | AH183: =IF(P183="재해예방기술지도비",L183,0) -> 0 | AI183: =IF(P183="사용자항목7",L183,0) -> 0 | AJ183: =IF(P183="석면분담금",L183,0) -> 0 | AK183: =IF(P183="임금채권부담금",L183,0) -> 0 | AL183: =IF(P183="사용자항목10",L183,0) -> 0 | AM183: =IF(P183="사용자항목11",L183,0) -> 0 | AN183: =IF(P183="사용자항목12",L183,0) -> 0 | AO183: =IF(P183="사용자항목13",L183,0) -> 0 | AP183: =IF(P183="사용자항목14",L183,0) -> 0 | AQ183: =IF(P183="사용자항목15",L183,0) -> 0 | AR183: =IF(P183="사용자항목16",L183,0) -> 0 | AS183: =IF(P183="사용자항목17",L183,0) -> 0 | AT183: =IF(P183="사용자항목18",L183,0) -> 0 | AU183: =IF(P183="사용자항목19",L183,0) -> 0
A184: 범퍼레일 설치 | B184: TSB-150B, H:850 | C184: M | D184: 145 | F184: =ROUNDDOWN(D184*E184,0) -> 0 | H184: =ROUNDDOWN(D184*G184,0) -> 0 | J184: =ROUNDDOWN(D184*I184,0) -> 0 | K184: =E184+G184+I184 -> 0 | L184: =F184+H184+J184 -> 0 | O184: ="" | P184: 기계경비 | Q184: 1 | R184: =IF(P184="기계경비",J184,0) -> 0 | S184: =IF(P184="운반비",L184,0) -> 0 | T184: =IF(P184="작업부산물",F184,0) -> 0 | U184: =IF(P184="관급",F184,0) -> 0 | V184: =IF(P184="외주비",J184,0) -> 0 | W184: =IF(P184="장비비",J184,0) -> 0 | X184: =IF(P184="폐기물처리비",L184,0) -> 0 | Y184: =IF(P184="가설비",J184,0) -> 0 | Z184: =IF(P184="잡비제외분",F184,0) -> 0 | AA184: =IF(P184="사급자재대",L184,0) -> 0 | AB184: =IF(P184="관급자재대",L184,0) -> 0 | AC184: =IF(P184="사용자항목1",L184,0) -> 0 | AD184: =IF(P184="사용자항목2",L184,0) -> 0 | AE184: =IF(P184="안전관리비",L184,0) -> 0 | AF184: =IF(P184="품질관리비",L184,0) -> 0 | AG184: =IF(P184="작업부산물(철거해체)",L184,0) -> 0 | AH184: =IF(P184="재해예방기술지도비",L184,0) -> 0 | AI184: =IF(P184="사용자항목7",L184,0) -> 0 | AJ184: =IF(P184="석면분담금",L184,0) -> 0 | AK184: =IF(P184="임금채권부담금",L184,0) -> 0 | AL184: =IF(P184="사용자항목10",L184,0) -> 0 | AM184: =IF(P184="사용자항목11",L184,0) -> 0 | AN184: =IF(P184="사용자항목12",L184,0) -> 0 | AO184: =IF(P184="사용자항목13",L184,0) -> 0 | AP184: =IF(P184="사용자항목14",L184,0) -> 0 | AQ184: =IF(P184="사용자항목15",L184,0) -> 0 | AR184: =IF(P184="사용자항목16",L184,0) -> 0 | AS184: =IF(P184="사용자항목17",L184,0) -> 0 | AT184: =IF(P184="사용자항목18",L184,0) -> 0 | AU184: =IF(P184="사용자항목19",L184,0) -> 0
A185: 범퍼레일 설치 | B185: TSB-150B, H:250 | C185: M | D185: 145 | F185: =ROUNDDOWN(D185*E185,0) -> 0 | H185: =ROUNDDOWN(D185*G185,0) -> 0 | J185: =ROUNDDOWN(D185*I185,0) -> 0 | K185: =E185+G185+I185 -> 0 | L185: =F185+H185+J185 -> 0 | O185: ="" | P185: 기계경비 | Q185: 1 | R185: =IF(P185="기계경비",J185,0) -> 0 | S185: =IF(P185="운반비",L185,0) -> 0 | T185: =IF(P185="작업부산물",F185,0) -> 0 | U185: =IF(P185="관급",F185,0) -> 0 | V185: =IF(P185="외주비",J185,0) -> 0 | W185: =IF(P185="장비비",J185,0) -> 0 | X185: =IF(P185="폐기물처리비",L185,0) -> 0 | Y185: =IF(P185="가설비",J185,0) -> 0 | Z185: =IF(P185="잡비제외분",F185,0) -> 0 | AA185: =IF(P185="사급자재대",L185,0) -> 0 | AB185: =IF(P185="관급자재대",L185,0) -> 0 | AC185: =IF(P185="사용자항목1",L185,0) -> 0 | AD185: =IF(P185="사용자항목2",L185,0) -> 0 | AE185: =IF(P185="안전관리비",L185,0) -> 0 | AF185: =IF(P185="품질관리비",L185,0) -> 0 | AG185: =IF(P185="작업부산물(철거해체)",L185,0) -> 0 | AH185: =IF(P185="재해예방기술지도비",L185,0) -> 0 | AI185: =IF(P185="사용자항목7",L185,0) -> 0 | AJ185: =IF(P185="석면분담금",L185,0) -> 0 | AK185: =IF(P185="임금채권부담금",L185,0) -> 0 | AL185: =IF(P185="사용자항목10",L185,0) -> 0 | AM185: =IF(P185="사용자항목11",L185,0) -> 0 | AN185: =IF(P185="사용자항목12",L185,0) -> 0 | AO185: =IF(P185="사용자항목13",L185,0) -> 0 | AP185: =IF(P185="사용자항목14",L185,0) -> 0 | AQ185: =IF(P185="사용자항목15",L185,0) -> 0 | AR185: =IF(P185="사용자항목16",L185,0) -> 0 | AS185: =IF(P185="사용자항목17",L185,0) -> 0 | AT185: =IF(P185="사용자항목18",L185,0) -> 0 | AU185: =IF(P185="사용자항목19",L185,0) -> 0
A186: 월커버링 설치 | B186: 월커버링 H:1200*1.0T | C186: M | D186: 145 | F186: =ROUNDDOWN(D186*E186,0) -> 0 | H186: =ROUNDDOWN(D186*G186,0) -> 0 | J186: =ROUNDDOWN(D186*I186,0) -> 0 | K186: =E186+G186+I186 -> 0 | L186: =F186+H186+J186 -> 0 | O186: ="" | P186: 기계경비 | Q186: 1 | R186: =IF(P186="기계경비",J186,0) -> 0 | S186: =IF(P186="운반비",L186,0) -> 0 | T186: =IF(P186="작업부산물",F186,0) -> 0 | U186: =IF(P186="관급",F186,0) -> 0 | V186: =IF(P186="외주비",J186,0) -> 0 | W186: =IF(P186="장비비",J186,0) -> 0 | X186: =IF(P186="폐기물처리비",L186,0) -> 0 | Y186: =IF(P186="가설비",J186,0) -> 0 | Z186: =IF(P186="잡비제외분",F186,0) -> 0 | AA186: =IF(P186="사급자재대",L186,0) -> 0 | AB186: =IF(P186="관급자재대",L186,0) -> 0 | AC186: =IF(P186="사용자항목1",L186,0) -> 0 | AD186: =IF(P186="사용자항목2",L186,0) -> 0 | AE186: =IF(P186="안전관리비",L186,0) -> 0 | AF186: =IF(P186="품질관리비",L186,0) -> 0 | AG186: =IF(P186="작업부산물(철거해체)",L186,0) -> 0 | AH186: =IF(P186="재해예방기술지도비",L186,0) -> 0 | AI186: =IF(P186="사용자항목7",L186,0) -> 0 | AJ186: =IF(P186="석면분담금",L186,0) -> 0 | AK186: =IF(P186="임금채권부담금",L186,0) -> 0 | AL186: =IF(P186="사용자항목10",L186,0) -> 0 | AM186: =IF(P186="사용자항목11",L186,0) -> 0 | AN186: =IF(P186="사용자항목12",L186,0) -> 0 | AO186: =IF(P186="사용자항목13",L186,0) -> 0 | AP186: =IF(P186="사용자항목14",L186,0) -> 0 | AQ186: =IF(P186="사용자항목15",L186,0) -> 0 | AR186: =IF(P186="사용자항목16",L186,0) -> 0 | AS186: =IF(P186="사용자항목17",L186,0) -> 0 | AT186: =IF(P186="사용자항목18",L186,0) -> 0 | AU186: =IF(P186="사용자항목19",L186,0) -> 0
A196: 합 계 | F196: =ROUNDDOWN(SUMIF(Q182:Q195,"1",F182:F195),0) -> 0 | H196: =ROUNDDOWN(SUMIF(Q182:Q195,"1",H182:H195),0) -> 0 | J196: =ROUNDDOWN(SUMIF(Q182:Q195,"1",J182:J195),0) -> 0 | L196: =F196+H196+J196 -> 0 | R196: =ROUNDDOWN(SUM(R182:R186),0) -> 0 | S196: =ROUNDDOWN(SUM(S182:S186),0) -> 0 | T196: =ROUNDDOWN(SUM(T182:T186),0) -> 0 | U196: =ROUNDDOWN(SUM(U182:U186),0) -> 0 | V196: =ROUNDDOWN(SUM(V182:V186),0) -> 0 | W196: =ROUNDDOWN(SUM(W182:W186),0) -> 0 | X196: =ROUNDDOWN(SUM(X182:X186),0) -> 0 | Y196: =ROUNDDOWN(SUM(Y182:Y186),0) -> 0 | ... AY196: =ROUNDDOWN(SUM(AY182:AY186),0) -> 0
A197: 0113. 폐기물처리비
A198: 건설폐기물처리비 | B198: 건설(건축)폐자재 | C198: 톤 | D198: 4.41 | F198: =ROUNDDOWN(D198*E198,0) -> 0 | H198: =ROUNDDOWN(D198*G198,0) -> 0 | J198: =ROUNDDOWN(D198*I198,0) -> 0 | K198: =E198+G198+I198 -> 0 | L198: =F198+H198+J198 -> 0 | O198: ="" | P198: 폐기물처리비 | Q198: 1 | R198: =IF(P198="기계경비",J198,0) -> 0 | S198: =IF(P198="운반비",L198,0) -> 0 | T198: =IF(P198="작업부산물",F198,0) -> 0 | U198: =IF(P198="관급",F198,0) -> 0 | V198: =IF(P198="외주비",J198,0) -> 0 | W198: =IF(P198="장비비",J198,0) -> 0 | X198: =IF(P198="폐기물처리비",L198,0) -> 0 | Y198: =IF(P198="가설비",J198,0) -> 0 | Z198: =IF(P198="잡비제외분",F198,0) -> 0 | AA198: =IF(P198="사급자재대",L198,0) -> 0 | AB198: =IF(P198="관급자재대",L198,0) -> 0 | AC198: =IF(P198="사용자항목1",L198,0) -> 0 | AD198: =IF(P198="사용자항목2",L198,0) -> 0 | AE198: =IF(P198="안전관리비",L198,0) -> 0 | AF198: =IF(P198="품질관리비",L198,0) -> 0 | AG198: =IF(P198="작업부산물(철거해체)",L198,0) -> 0 | AH198: =IF(P198="재해예방기술지도비",L198,0) -> 0 | AI198: =IF(P198="사용자항목7",L198,0) -> 0 | AJ198: =IF(P198="석면분담금",L198,0) -> 0 | AK198: =IF(P198="임금채권부담금",L198,0) -> 0 | AL198: =IF(P198="사용자항목10",L198,0) -> 0 | AM198: =IF(P198="사용자항목11",L198,0) -> 0 | AN198: =IF(P198="사용자항목12",L198,0) -> 0 | AO198: =IF(P198="사용자항목13",L198,0) -> 0 | AP198: =IF(P198="사용자항목14",L198,0) -> 0 | AQ198: =IF(P198="사용자항목15",L198,0) -> 0 | AR198: =IF(P198="사용자항목16",L198,0) -> 0 | AS198: =IF(P198="사용자항목17",L198,0) -> 0 | AT198: =IF(P198="사용자항목18",L198,0) -> 0 | AU198: =IF(P198="사용자항목19",L198,0) -> 0
A199: 건설폐기물처리비 | B199: 폐콘크리트 | C199: 톤 | D199: 12.74 | F199: =ROUNDDOWN(D199*E199,0) -> 0 | H199: =ROUNDDOWN(D199*G199,0) -> 0 | J199: =ROUNDDOWN(D199*I199,0) -> 0 | K199: =E199+G199+I199 -> 0 | L199: =F199+H199+J199 -> 0 | O199: ="" | P199: 폐기물처리비 | Q199: 1 | R199: =IF(P199="기계경비",J199,0) -> 0 | S199: =IF(P199="운반비",L199,0) -> 0 | T199: =IF(P199="작업부산물",F199,0) -> 0 | U199: =IF(P199="관급",F199,0) -> 0 | V199: =IF(P199="외주비",J199,0) -> 0 | W199: =IF(P199="장비비",J199,0) -> 0 | X199: =IF(P199="폐기물처리비",L199,0) -> 0 | Y199: =IF(P199="가설비",J199,0) -> 0 | Z199: =IF(P199="잡비제외분",F199,0) -> 0 | AA199: =IF(P199="사급자재대",L199,0) -> 0 | AB199: =IF(P199="관급자재대",L199,0) -> 0 | AC199: =IF(P199="사용자항목1",L199,0) -> 0 | AD199: =IF(P199="사용자항목2",L199,0) -> 0 | AE199: =IF(P199="안전관리비",L199,0) -> 0 | AF199: =IF(P199="품질관리비",L199,0) -> 0 | AG199: =IF(P199="작업부산물(철거해체)",L199,0) -> 0 | AH199: =IF(P199="재해예방기술지도비",L199,0) -> 0 | AI199: =IF(P199="사용자항목7",L199,0) -> 0 | AJ199: =IF(P199="석면분담금",L199,0) -> 0 | AK199: =IF(P199="임금채권부담금",L199,0) -> 0 | AL199: =IF(P199="사용자항목10",L199,0) -> 0 | AM199: =IF(P199="사용자항목11",L199,0) -> 0 | AN199: =IF(P199="사용자항목12",L199,0) -> 0 | AO199: =IF(P199="사용자항목13",L199,0) -> 0 | AP199: =IF(P199="사용자항목14",L199,0) -> 0 | AQ199: =IF(P199="사용자항목15",L199,0) -> 0 | AR199: =IF(P199="사용자항목16",L199,0) -> 0 | AS199: =IF(P199="사용자항목17",L199,0) -> 0 | AT199: =IF(P199="사용자항목18",L199,0) -> 0 | AU199: =IF(P199="사용자항목19",L199,0) -> 0
A200: 건설폐기물처리비 | B200: 폐합성수지 | C200: 톤 | D200: 0.12 | F200: =ROUNDDOWN(D200*E200,0) -> 0 | H200: =ROUNDDOWN(D200*G200,0) -> 0 | J200: =ROUNDDOWN(D200*I200,0) -> 0 | K200: =E200+G200+I200 -> 0 | L200: =F200+H200+J200 -> 0 | O200: ="" | P200: 폐기물처리비 | Q200: 1 | R200: =IF(P200="기계경비",J200,0) -> 0 | S200: =IF(P200="운반비",L200,0) -> 0 | T200: =IF(P200="작업부산물",F200,0) -> 0 | U200: =IF(P200="관급",F200,0) -> 0 | V200: =IF(P200="외주비",J200,0) -> 0 | W200: =IF(P200="장비비",J200,0) -> 0 | X200: =IF(P200="폐기물처리비",L200,0) -> 0 | Y200: =IF(P200="가설비",J200,0) -> 0 | Z200: =IF(P200="잡비제외분",F200,0) -> 0 | AA200: =IF(P200="사급자재대",L200,0) -> 0 | AB200: =IF(P200="관급자재대",L200,0) -> 0 | AC200: =IF(P200="사용자항목1",L200,0) -> 0 | AD200: =IF(P200="사용자항목2",L200,0) -> 0 | AE200: =IF(P200="안전관리비",L200,0) -> 0 | AF200: =IF(P200="품질관리비",L200,0) -> 0 | AG200: =IF(P200="작업부산물(철거해체)",L200,0) -> 0 | AH200: =IF(P200="재해예방기술지도비",L200,0) -> 0 | AI200: =IF(P200="사용자항목7",L200,0) -> 0 | AJ200: =IF(P200="석면분담금",L200,0) -> 0 | AK200: =IF(P200="임금채권부담금",L200,0) -> 0 | AL200: =IF(P200="사용자항목10",L200,0) -> 0 | AM200: =IF(P200="사용자항목11",L200,0) -> 0 | AN200: =IF(P200="사용자항목12",L200,0) -> 0 | AO200: =IF(P200="사용자항목13",L200,0) -> 0 | AP200: =IF(P200="사용자항목14",L200,0) -> 0 | AQ200: =IF(P200="사용자항목15",L200,0) -> 0 | AR200: =IF(P200="사용자항목16",L200,0) -> 0 | AS200: =IF(P200="사용자항목17",L200,0) -> 0 | AT200: =IF(P200="사용자항목18",L200,0) -> 0 | AU200: =IF(P200="사용자항목19",L200,0) -> 0 | AY200: PK적산
A201: 건설폐기물수집운반비(상차비) | B201: 24톤 덤프트럭, 건설폐재류 | C201: TON | D201: 17.28 | F201: =ROUNDDOWN(D201*E201,0) -> 0 | H201: =ROUNDDOWN(D201*G201,0) -> 0 | J201: =ROUNDDOWN(D201*I201,0) -> 0 | K201: =E201+G201+I201 -> 0 | L201: =F201+H201+J201 -> 0 | O201: ="03" -> 03 | P201: 폐기물처리비 | Q201: 1 | R201: =IF(P201="기계경비",J201,0) -> 0 | S201: =IF(P201="운반비",L201,0) -> 0 | T201: =IF(P201="작업부산물",F201,0) -> 0 | U201: =IF(P201="관급",F201,0) -> 0 | V201: =IF(P201="외주비",J201,0) -> 0 | W201: =IF(P201="장비비",J201,0) -> 0 | X201: =IF(P201="폐기물처리비",L201,0) -> 0 | Y201: =IF(P201="가설비",J201,0) -> 0 | Z201: =IF(P201="잡비제외분",F201,0) -> 0 | AA201: =IF(P201="사급자재대",L201,0) -> 0 | AB201: =IF(P201="관급자재대",L201,0) -> 0 | AC201: =IF(P201="사용자항목1",L201,0) -> 0 | AD201: =IF(P201="사용자항목2",L201,0) -> 0 | AE201: =IF(P201="안전관리비",L201,0) -> 0 | AF201: =IF(P201="품질관리비",L201,0) -> 0 | AG201: =IF(P201="작업부산물(철거해체)",L201,0) -> 0 | AH201: =IF(P201="재해예방기술지도비",L201,0) -> 0 | AI201: =IF(P201="사용자항목7",L201,0) -> 0 | AJ201: =IF(P201="석면분담금",L201,0) -> 0 | AK201: =IF(P201="임금채권부담금",L201,0) -> 0 | AL201: =IF(P201="사용자항목10",L201,0) -> 0 | AM201: =IF(P201="사용자항목11",L201,0) -> 0 | AN201: =IF(P201="사용자항목12",L201,0) -> 0 | AO201: =IF(P201="사용자항목13",L201,0) -> 0 | AP201: =IF(P201="사용자항목14",L201,0) -> 0 | AQ201: =IF(P201="사용자항목15",L201,0) -> 0 | AR201: =IF(P201="사용자항목16",L201,0) -> 0 | AS201: =IF(P201="사용자항목17",L201,0) -> 0 | AT201: =IF(P201="사용자항목18",L201,0) -> 0 | AU201: =IF(P201="사용자항목19",L201,0) -> 0
A202: 건설폐기물수집운반비(운반비) | B202: 24톤 덤프트럭, 건설폐재류, 30km | C202: TON | D202: 17.28 | F202: =ROUNDDOWN(D202*E202,0) -> 0 | H202: =ROUNDDOWN(D202*G202,0) -> 0 | J202: =ROUNDDOWN(D202*I202,0) -> 0 | K202: =E202+G202+I202 -> 0 | L202: =F202+H202+J202 -> 0 | O202: ="03" -> 03 | P202: 폐기물처리비 | Q202: 1 | R202: =IF(P202="기계경비",J202,0) -> 0 | S202: =IF(P202="운반비",L202,0) -> 0 | T202: =IF(P202="작업부산물",F202,0) -> 0 | U202: =IF(P202="관급",F202,0) -> 0 | V202: =IF(P202="외주비",J202,0) -> 0 | W202: =IF(P202="장비비",J202,0) -> 0 | X202: =IF(P202="폐기물처리비",L202,0) -> 0 | Y202: =IF(P202="가설비",J202,0) -> 0 | Z202: =IF(P202="잡비제외분",F202,0) -> 0 | AA202: =IF(P202="사급자재대",L202,0) -> 0 | AB202: =IF(P202="관급자재대",L202,0) -> 0 | AC202: =IF(P202="사용자항목1",L202,0) -> 0 | AD202: =IF(P202="사용자항목2",L202,0) -> 0 | AE202: =IF(P202="안전관리비",L202,0) -> 0 | AF202: =IF(P202="품질관리비",L202,0) -> 0 | AG202: =IF(P202="작업부산물(철거해체)",L202,0) -> 0 | AH202: =IF(P202="재해예방기술지도비",L202,0) -> 0 | AI202: =IF(P202="사용자항목7",L202,0) -> 0 | AJ202: =IF(P202="석면분담금",L202,0) -> 0 | AK202: =IF(P202="임금채권부담금",L202,0) -> 0 | AL202: =IF(P202="사용자항목10",L202,0) -> 0 | AM202: =IF(P202="사용자항목11",L202,0) -> 0 | AN202: =IF(P202="사용자항목12",L202,0) -> 0 | AO202: =IF(P202="사용자항목13",L202,0) -> 0 | AP202: =IF(P202="사용자항목14",L202,0) -> 0 | AQ202: =IF(P202="사용자항목15",L202,0) -> 0 | AR202: =IF(P202="사용자항목16",L202,0) -> 0 | AS202: =IF(P202="사용자항목17",L202,0) -> 0 | AT202: =IF(P202="사용자항목18",L202,0) -> 0 | AU202: =IF(P202="사용자항목19",L202,0) -> 0
A212: 합 계 | F212: =ROUNDDOWN(SUMIF(Q198:Q211,"1",F198:F211),0) -> 0 | H212: =ROUNDDOWN(SUMIF(Q198:Q211,"1",H198:H211),0) -> 0 | J212: =ROUNDDOWN(SUMIF(Q198:Q211,"1",J198:J211),0) -> 0 | L212: =F212+H212+J212 -> 0 | R212: =ROUNDDOWN(SUM(R198:R202),0) -> 0 | S212: =ROUNDDOWN(SUM(S198:S202),0) -> 0 | T212: =ROUNDDOWN(SUM(T198:T202),0) -> 0 | U212: =ROUNDDOWN(SUM(U198:U202),0) -> 0 | V212: =ROUNDDOWN(SUM(V198:V202),0) -> 0 | W212: =ROUNDDOWN(SUM(W198:W202),0) -> 0 | X212: =ROUNDDOWN(SUM(X198:X202),0) -> 0 | Y212: =ROUNDDOWN(SUM(Y198:Y202),0) -> 0 | ... AY212: =ROUNDDOWN(SUM(AY198:AY202),0) -> 0

Sheet Sheet1
