Workbook

Sheet 원가계산서
B1: 공 사 원 가 계 산 서
B2: 공사명 : 국민건강보험 일산병원 시설물 보수공사
B3: 비 목 | E3: 금 액 | F3: 구 성 비 | G3: 비 고
A4: A1 | B4: 순 공 사 원 가 | C4: 재 료 비 | D4: 직 접 재 료 비 | E4: =TRUNC(공종별집계표!F5, 0) -> 0
A5: A2 | D5: 간 접 재 료 비 | E5: 0
A6: A3 | D6: 작업설, 부산물(△) | E6: 0
A7: AS | D7: [ 소 계 ] | E7: =TRUNC(E4+E5-E6, 0) -> 0
A8: B1 | C8: 노 무 비 | D8: 직 접 노 무 비 | E8: =TRUNC(공종별집계표!H5, 0) -> 0
A9: B2 | D9: 간 접 노 무 비 | E9: =TRUNC(E8*0.175, 0) -> 0 | F9: 직접노무비 * 17.5%
A10: BS | D10: [ 소 계 ] | E10: =TRUNC(E8+E9, 0) -> 0
A11: C2 | C11: 경 비 | D11: 경 비 | E11: =TRUNC(공종별집계표!J5, 0) -> 0
A12: C4 | D12: 산 재 보 험 료 | E12: =TRUNC(E10*0.0356, 0) -> 0 | F12: 노무비 * 3.56%
A13: C5 | D13: 고 용 보 험 료 | E13: =TRUNC(E10*0.0101, 0) -> 0 | F13: 노무비 * 1.01%
A14: C6 | D14: 국민 건강 보험료 | E14: =TRUNC(E8*0.03595, 0) -> 0 | F14: 직접노무비 * 3.545%
A15: C7 | D15: 국민 연금 보험료 | E15: =TRUNC(E8*0.0475, 0) -> 0 | F15: 직접노무비 * 4.75%
A16: CB | D16: 노인장기요양보험료 | E16: =TRUNC(E14*0.1314, 0) -> 0 | F16: 건강보험료 * 13.14%
A17: CA | D17: 산업안전보건관리비 | E17: =TRUNC((E7+E8+(0/1.1))*0.0311, 0) -> 0 | F17: (재료비+직노비) * 3.11%
A18: CG | D18: 기 타 경 비 | E18: =TRUNC((E7+E10)*0.05, 0) -> 0 | F18: (재료비+노무비) * 5%
A19: CH | D19: 환 경 보 전 비 | E19: =TRUNC((E7+E8+E11)*0.003, 0) -> 0 | F19: (재료비+직노+경비) * 0.3%
A20: CK | D20: 하도급지급보증수수료 | E20: =TRUNC((E7+E8+E11)*0.00081, 0) -> 0 | F20: (재료비+직노+경비) * 0.081%
A21: CL | D21: 건설기계대여금지급보증서발급수수료 | E21: =TRUNC((E7+E8+E11)*0.0007, 0) -> 0 | F21: (재료비+직노+경비) * 0.07%
A22: CE | D22: 석 면 분 담 금 | E22: =TRUNC(E10*0.00006, 0) -> 0 | F22: 노무비 * 0.006%
A23: CF | D23: 임 금 채 권 부 담 금 | E23: =TRUNC(E10*0.0009, 0) -> 0 | F23: 노무비 * 0.09%
A24: CS | D24: [ 소 계 ] | E24: =TRUNC(E11+E12+E13+E14+E15+E17+E16+E22+E23+E18+E19+E20+E21, 0) -> 0
A25: S1 | B25: 계 | E25: =TRUNC(E7+E10+E24, 0) -> 0
A26: D1 | B26: 일 반 관 리 비 | E26: =TRUNC(E25*0.08, 0) -> 0 | F26: 계 * 8%
A27: D2 | B27: 이 윤 | E27: =TRUNC((E10+E24+E26)*0.15/1.1, 0) -> 0 | F27: (노무비+경비+일반관리비) * 15%
A28: D4 | B28: 폐기물 처리비 | E28: =TRUNC(공종별집계표!T20, 0) -> 0
A29: D9 | B29: 공 급 가 액 | E29: =TRUNC(E25+E26+E27+E28, 0) -> 0
A30: DB | B30: 부 가 가 치 세 | E30: =TRUNC(E29*0.1, 0) -> 0 | F30: 공급가액 * 10%
A31: DH | B31: 도 급 액 | E31: =TRUNC(E29+E30, 0) -> 0
A32: S2 | B32: 총 공 사 비 | E32: =TRUNC(E31+0, 0) -> 0

Sheet 공종별집계표
A1: 공 종 별 집 계 표
A2: [ 국민건강보험 일산병원 원내시설물 보수공사 ]
A3: 품 명 | B3: 규 격 | C3: 단위 | D3: 수량 | E3: 재 료 비 | G3: 노 무 비 | I3: 경 비 | K3: 합 계 | M3: 비 고 | N3: 공종코드 | O3: 변수 | P3: 상위공종 | Q3: 공종구분 | R3: 공종레벨 | S3: 공종소계 | T3: 원가계산서 연결금액
E4: 단 가 | F4: 금 액 | G4: 단 가 | H4: 금 액 | I4: 단 가 | J4: 금 액 | K4: 단 가 | L4: 금 액
A5: 01 국민건강보험 일산병원 원내시설물 보수공사 | D5: 1 | E5: =F6 -> 0 | F5: =E5*D5 -> 0 | G5: =H6 -> 0 | H5: =G5*D5 -> 0 | I5: =J6 -> 0 | J5: =I5*D5 -> 0 | K5: =E5+G5+I5 -> 0 | L5: =F5+H5+J5 -> 0 | N5: 01 | R5: 1
A6: 0101 ◆ 건 축 공 사 | D6: 1 | E6: =F7+F14 -> 0 | F6: =E6*D6 -> 0 | G6: =H7+H14 -> 0 | H6: =G6*D6 -> 0 | I6: =J7+J14 -> 0 | J6: =I6*D6 -> 0 | K6: =E6+G6+I6 -> 0 | L6: =F6+H6+J6 -> 0 | N6: 0101 | P6: 01 | R6: 2
A7: 010101 -- 내외부 공사 | D7: 1 | E7: =F8+F9+F10+F11+F12+F13 -> 0 | F7: =E7*D7 -> 0 | G7: =H8+H9+H10+H11+H12+H13 -> 0 | H7: =G7*D7 -> 0 | I7: =J8+J9+J10+J11+J12+J13 -> 0 | J7: =I7*D7 -> 0 | K7: =E7+G7+I7 -> 0 | L7: =F7+H7+J7 -> 0 | N7: 010101 | P7: 0101 | R7: 3
A8: 01010101 가 설 공 사 | D8: 1 | E8: =공종별내역서!F29 -> 0 | F8: =E8*D8 -> 0 | G8: =공종별내역서!H29 -> 0 | H8: =G8*D8 -> 0 | I8: =공종별내역서!J29 -> 0 | J8: =I8*D8 -> 0 | K8: =E8+G8+I8 -> 0 | L8: =F8+H8+J8 -> 0 | N8: 01010101 | P8: 010101 | R8: 4
A9: 01010102 습 식 공 사 | D9: 1 | E9: =공종별내역서!F55 -> 0 | F9: =E9*D9 -> 0 | G9: =공종별내역서!H55 -> 0 | H9: =G9*D9 -> 0 | I9: =공종별내역서!J55 -> 0 | J9: =I9*D9 -> 0 | K9: =E9+G9+I9 -> 0 | L9: =F9+H9+J9 -> 0 | N9: 01010102 | P9: 010101 | R9: 4
A10: 01010103 금 속 공 사 | D10: 1 | E10: =공종별내역서!F81 -> 0 | F10: =E10*D10 -> 0 | G10: =공종별내역서!H81 -> 0 | H10: =G10*D10 -> 0 | I10: =공종별내역서!J81 -> 0 | J10: =I10*D10 -> 0 | K10: =E10+G10+I10 -> 0 | L10: =F10+H10+J10 -> 0 | N10: 01010103 | P10: 010101 | R10: 4
A11: 01010104 철 거 공 사 | D11: 1 | E11: =공종별내역서!F107 -> 0 | F11: =E11*D11 -> 0 | G11: =공종별내역서!H107 -> 0 | H11: =G11*D11 -> 0 | I11: =공종별내역서!J107 -> 0 | J11: =I11*D11 -> 0 | K11: =E11+G11+I11 -> 0 | L11: =F11+H11+J11 -> 0 | N11: 01010104 | P11: 010101 | R11: 4
A12: 01010105 골 재 비 | D12: 1 | E12: =공종별내역서!F133 -> 0 | F12: =E12*D12 -> 0 | G12: =공종별내역서!H133 -> 0 | H12: =G12*D12 -> 0 | I12: =공종별내역서!J133 -> 0 | J12: =I12*D12 -> 0 | K12: =E12+G12+I12 -> 0 | L12: =F12+H12+J12 -> 0 | N12: 01010105 | P12: 010101 | R12: 4
A13: 01010106 작 업 부 산 물 | D13: 1 | E13: =공종별내역서!F159 -> 0 | F13: =E13*D13 -> 0 | G13: =공종별내역서!H159 -> 0 | H13: =G13*D13 -> 0 | I13: =공종별내역서!J159 -> 0 | J13: =I13*D13 -> 0 | K13: =E13+G13+I13 -> 0 | L13: =F13+H13+J13 -> 0 | N13: 01010106 | P13: 010101 | R13: 4
A14: 010102 -- 장 례 식 장 | D14: 1 | E14: =F15+F16+F17+F18+F19 -> 0 | F14: =E14*D14 -> 0 | G14: =H15+H16+H17+H18+H19 -> 0 | H14: =G14*D14 -> 0 | I14: =J15+J16+J17+J18+J19 -> 0 | J14: =I14*D14 -> 0 | K14: =E14+G14+I14 -> 0 | L14: =F14+H14+J14 -> 0 | N14: 010102 | P14: 0101 | R14: 3
A15: 01010201 가 설 공 사 | D15: 1 | E15: =공종별내역서!F185 -> 0 | F15: =E15*D15 -> 0 | G15: =공종별내역서!H185 -> 0 | H15: =G15*D15 -> 0 | I15: =공종별내역서!J185 -> 0 | J15: =I15*D15 -> 0 | K15: =E15+G15+I15 -> 0 | L15: =F15+H15+J15 -> 0 | N15: 01010201 | P15: 010102 | R15: 4
A16: 01010202 돌 공 사 | D16: 1 | E16: =공종별내역서!F211 -> 0 | F16: =E16*D16 -> 0 | G16: =공종별내역서!H211 -> 0 | H16: =G16*D16 -> 0 | I16: =공종별내역서!J211 -> 0 | J16: =I16*D16 -> 0 | K16: =E16+G16+I16 -> 0 | L16: =F16+H16+J16 -> 0 | N16: 01010202 | P16: 010102 | R16: 4
A17: 01010203 금 속 공 사 | D17: 1 | E17: =공종별내역서!F237 -> 0 | F17: =E17*D17 -> 0 | G17: =공종별내역서!H237 -> 0 | H17: =G17*D17 -> 0 | I17: =공종별내역서!J237 -> 0 | J17: =I17*D17 -> 0 | K17: =E17+G17+I17 -> 0 | L17: =F17+H17+J17 -> 0 | N17: 01010203 | P17: 010102 | R17: 4
A18: 01010204 철 거 공 사 | D18: 1 | E18: =공종별내역서!F263 -> 0 | F18: =E18*D18 -> 0 | G18: =공종별내역서!H263 -> 0 | H18: =G18*D18 -> 0 | I18: =공종별내역서!J263 -> 0 | J18: =I18*D18 -> 0 | K18: =E18+G18+I18 -> 0 | L18: =F18+H18+J18 -> 0 | N18: 01010204 | P18: 010102 | R18: 4
A19: 01010205 골 재 비 | D19: 1 | E19: =공종별내역서!F289 -> 0 | F19: =E19*D19 -> 0 | G19: =공종별내역서!H289 -> 0 | H19: =G19*D19 -> 0 | I19: =공종별내역서!J289 -> 0 | J19: =I19*D19 -> 0 | K19: =E19+G19+I19 -> 0 | L19: =F19+H19+J19 -> 0 | N19: 01010205 | P19: 010102 | R19: 4
A20: 0102 폐기물 처리비 | D20: 1 | E20: =F21+F22 -> 0 | F20: =E20*D20 -> 0 | G20: =H21+H22 -> 0 | H20: =G20*D20 -> 0 | I20: =J21+J22 -> 0 | J20: =I20*D20 -> 0 | K20: =E20+G20+I20 -> 0 | L20: =F20+H20+J20 -> 0 | N20: 0102 | Q20: 6 | R20: 2 | T20: =L20*1 -> 0
A21: 010201 내외부 공사 | D21: 1 | E21: =공종별내역서!F315 -> 0 | F21: =E21*D21 -> 0 | G21: =공종별내역서!H315 -> 0 | H21: =G21*D21 -> 0 | I21: =공종별내역서!J315 -> 0 | J21: =I21*D21 -> 0 | K21: =E21+G21+I21 -> 0 | L21: =F21+H21+J21 -> 0 | N21: 010201 | P21: 0102 | R21: 3
A22: 010202 장 례 식 장 | D22: 1 | E22: =공종별내역서!F341 -> 0 | F22: =E22*D22 -> 0 | G22: =공종별내역서!H341 -> 0 | H22: =G22*D22 -> 0 | I22: =공종별내역서!J341 -> 0 | J22: =I22*D22 -> 0 | K22: =E22+G22+I22 -> 0 | L22: =F22+H22+J22 -> 0 | N22: 010202 | P22: 0102 | R22: 3
A29: [ 합 계 ] | F29: =F5 -> 0 | H29: =H5 -> 0 | J29: =J5 -> 0 | L29: =L5 -> 0

Sheet 공종별내역서
A1: [ 국민건강보험 일산병원 시설물 보수공사 ]
A2: 품 명 | B2: 규 격 | C2: 단위 | D2: 수량 | E2: 재 료 비 | G2: 노 무 비 | I2: 경 비 | K2: 합 계 | M2: 비 고 | N2: 품목코드 | O2: 변수 | P2: 설정 | Q2: 공종코드 | R2: 일위 | S2: 단산 | T2: 자재 | U2: 손료적용 | V2: 손료저장 | W2: 적용율 | X2: JUK1 | Y2: JUK2 | Z2: JUK3 | AA2: JUK4 | AB2: JUK5 | AC2: JUK6 | AD2: JUK7 | AE2: JUK8 | AF2: JUK9 | AG2: JUK10 | AH2: JUK11 | AI2: JUK12 | AJ2: JUK13 | AK2: JUK14 | AL2: JUK15 | AM2: JUK16 | AN2: JUK17 | AO2: JUK18 | AP2: JUK19 | AQ2: JUK20 | AR2: 자재구분 | AS2: 공종구분 | AT2: 공종레벨 | AU2: 공종+자재 | AV2: 고유번호
E3: 단 가 | F3: 금 액 | G3: 단 가 | H3: 금 액 | I3: 단 가 | J3: 금 액 | K3: 단 가 | L3: 금 액
A4: 01010101 가 설 공 사 | Q4: 01010101
A5: 건축물 현장정리 | B5: 리모델링 및 준공청소 | C5: M2 | D5: 31 | F5: =TRUNC(E5*D5, 0) -> 0 | H5: =TRUNC(G5*D5, 0) -> 0 | J5: =TRUNC(I5*D5, 0) -> 0 | K5: =TRUNC(E5+G5+I5, 0) -> 0 | L5: =TRUNC(F5+H5+J5, 0) -> 0 | N5: 5A32D5380D7ACBF8796933508F222D | Q5: 01010101 | R5: T | S5: F | T5: F | AU5: 010101015A32D5380D7ACBF8796933508F222D | AV5: 45
A6: 구조부 먹매김 | B6: 일반 | C6: M2 | D6: 31 | F6: =TRUNC(E6*D6, 0) -> 0 | H6: =TRUNC(G6*D6, 0) -> 0 | J6: =TRUNC(I6*D6, 0) -> 0 | K6: =TRUNC(E6+G6+I6, 0) -> 0 | L6: =TRUNC(F6+H6+J6, 0) -> 0 | N6: 5A32D5380E7B1E5F4967527A182C2F | Q6: 01010101 | R6: T | S6: F | T6: F | AU6: 010101015A32D5380E7B1E5F4967527A182C2F | AV6: 46
A7: 가설칸막이/래핑칸막이 | B7: H:3000*100t, 2회 | C7: M | D7: 14 | F7: =TRUNC(E7*D7, 0) -> 0 | H7: =TRUNC(G7*D7, 0) -> 0 | J7: =TRUNC(I7*D7, 0) -> 0 | K7: =TRUNC(E7+G7+I7, 0) -> 0 | L7: =TRUNC(F7+H7+J7, 0) -> 0 | N7: 5A32D5380E7B1E69D9984E0EB02D24 | Q7: 01010101 | R7: T | S7: F | T7: F | AU7: 010101015A32D5380E7B1E69D9984E0EB02D24 | AV7: 114
A8: 양개도어(가설칸막이용도어) | B8: 1800*2100 / 하드웨어 포함, 2회 | C8: EA | D8: 1 | F8: =TRUNC(E8*D8, 0) -> 0 | H8: =TRUNC(G8*D8, 0) -> 0 | J8: =TRUNC(I8*D8, 0) -> 0 | K8: =TRUNC(E8+G8+I8, 0) -> 0 | L8: =TRUNC(F8+H8+J8, 0) -> 0 | N8: 5A32D5380E7B1E69D9984E082A2B2F | Q8: 01010101 | R8: T | S8: F | T8: F | AU8: 010101015A32D5380E7B1E69D9984E082A2B2F | AV8: 115
A9: 강관 조립말비계(이동식)설치 및 해체 | B9: 높이 2m, 3개월 | C9: 대 | D9: 2 | F9: =TRUNC(E9*D9, 0) -> 0 | H9: =TRUNC(G9*D9, 0) -> 0 | J9: =TRUNC(I9*D9, 0) -> 0 | K9: =TRUNC(E9+G9+I9, 0) -> 0 | L9: =TRUNC(F9+H9+J9, 0) -> 0 | Q9: 01010101
A10: 이동식집진기 | B10: RT-1100, 운반비 포함, 1개월 | C10: 대 | D10: 1 | F10: 0 | H10: 0 | J10: =TRUNC(I10*D10, 0) -> 0 | K10: =TRUNC(E10+G10+I10, 0) -> 0 | L10: =TRUNC(F10+H10+J10, 0) -> 0 | Q10: 01010101
Q11: 01010101
Q12: 01010101
Q13: 01010101
Q14: 01010101
Q15: 01010101
Q16: 01010101
Q17: 01010101
Q18: 01010101
Q19: 01010101
Q20: 01010101
Q21: 01010101
Q22: 01010101
... Q28: 01010101
A29: [ 합 계 ] | F29: =SUMIF(Q5:Q28,"01010101",F5:F28) -> 0 | H29: =SUMIF(Q5:Q28,"01010101",H5:H28) -> 0 | J29: =SUMIF(Q5:Q28,"01010101",J5:J28) -> 0 | L29: =SUMIF(Q5:Q28,"01010101",L5:L28) -> 0 | N29: TOTAL
A30: 01010102 습 식 공 사 | Q30: 01010102
A31: 화강석붙임(건식/앵커, 물갈기) | B31: 벽, 포천석 30mm, 기존자재 40%, 신자재 60% | C31: M2 | D31: 80 | F31: =TRUNC(E31*D31, 0) -> 0 | H31: =TRUNC(G31*D31, 0) -> 0 | J31: =TRUNC(I31*D31, 0) -> 0 | K31: =TRUNC(E31+G31+I31, 0) -> 0 | L31: =TRUNC(F31+H31+J31, 0) -> 0 | N31: 5A3215E999726E985981527B9A232E | Q31: 01010102 | R31: T | S31: F | T31: F | AU31: 010101025A3215E999726E985981527B9A232E | AV31: 49
A32: 화강석붙임(습식, 물갈기) | B32: 바닥, 카파오석 20mm, 모르타르 60mm | C32: M2 | D32: 13 | F32: =TRUNC(E32*D32, 0) -> 0 | H32: =TRUNC(G32*D32, 0) -> 0 | J32: =TRUNC(I32*D32, 0) -> 0 | K32: =TRUNC(E32+G32+I32, 0) -> 0 | L32: =TRUNC(F32+H32+J32, 0) -> 0 | N32: 5A3215E99B7D257E49F2280EFE2824 | Q32: 01010102 | R32: T | S32: F | T32: F | AU32: 010101025A3215E99B7D257E49F2280EFE2824 | AV32: 116
A33: 화강석 두겁돌(습식, 물갈기) | B33: 기존두겁석 380*60mm, 모르타르 30mm | C33: M | D33: 18 | F33: =TRUNC(E33*D33, 0) -> 0 | H33: =TRUNC(G33*D33, 0) -> 0 | J33: =TRUNC(I33*D33, 0) -> 0 | K33: =TRUNC(E33+G33+I33, 0) -> 0 | L33: =TRUNC(F33+H33+J33, 0) -> 0 | N33: 5A3215E99F74AEBC693452670B202A | Q33: 01010102 | R33: T | S33: F | T33: F | AU33: 010101025A3215E99F74AEBC693452670B202A | AV33: 51
A34: 방수모르타르 바름(지하주차장 트렌치) | B34: 50mm 이하, 벽돌, 콘크리트 바탕 | C34: M2 | D34: 15 | F34: =TRUNC(E34*D34, 0) -> 0 | H34: =TRUNC(G34*D34, 0) -> 0 | J34: =TRUNC(I34*D34, 0) -> 0 | K34: =TRUNC(E34+G34+I34, 0) -> 0 | L34: =TRUNC(F34+H34+J34, 0) -> 0 | Q34: 01010102
A35: 우레탄 도막방수 | B35: 바닥, 노출 3mm | C35: M2 | D35: 15 | F35: =TRUNC(E35*D35, 0) -> 0 | H35: =TRUNC(G35*D35, 0) -> 0 | J35: =TRUNC(I35*D35, 0) -> 0 | K35: =TRUNC(E35+G35+I35, 0) -> 0 | L35: =TRUNC(F35+H35+J35, 0) -> 0 | Q35: 01010102
Q36: 01010102
Q37: 01010102
Q38: 01010102
Q39: 01010102
Q40: 01010102
Q41: 01010102
Q42: 01010102
Q43: 01010102
Q44: 01010102
Q45: 01010102
...

Sheet  공사설정 
A1: 이 Sheet는 수정하지 마십시요
A2: 공사구분 | B2: A | C2: 타이틀
A3: 확정내역 | B3: 원내역
A4: 자재단가적용 | B4: 5
A5: 경비단가적용 | B5: 5
A6: 품목코드형식 | B6: XXXX-XXXX-XXXXXXXXX
A7: 내역금액소수점처리 | B7: C | C7: T
A8: 일위대가내역소수점처리 | B8: C | C8: 2
A9: 단가명 | B9: 조달청가격 | C9: 거래가격 | D9: 유통물가 | E9: 물가자료 | F9: 조사가격 | G9: TTTTT
A10: 환율 | B10: 1466 | C10: 0 | D10: 0
A11: 시간당작업량 | B11: R | C11: 4
A12: 1회 사이클시간 | B12: R | C12: 4
A13: 시간당 작업사이클 | B13: R | C13: 3
A14: 일반변수 | B14: R | C14: 5
A15: 시간당 노임산출 계수 | B15: A | C15: 1/8*16/12*25/20 | D15: 1/8*16/12*25/20 | E15: 1/8*16/12*25/20 | F15: 1
A16: 재료비 할증 계수 | B16: 1.11 | C16: 1.12
A17: 노무비 할증 계수 | B17: 1 | C17: 1.5 | D17: 1.16 | E17: 1.6 | F17: 1.6 | G17: 1.6 | H17: 1.94 | I17: 1.94 | J17: 1.94 | K17: 1 | L17: 1 | M17: 1
A18: 경비 할증 계수 | B18: 1.25 | C18: 1.071
A19: 내역,일위대가 품명,규격,단위 따로적용
A20: 내역단가 소수점처리 | B20: C | C20: 1
A21: 코드 | B21: 공종구분명 | C21: 원가비목코드
A22: 1 | B22: 작 업 부 산 물 | C22: A3
A23: 2 | B23: 운 반 비 | C23: C1
A24: 3 | B24: 관 급 자 재 비 | C24: DJ
A25: 4 | B25: 사 급 자 재 비 | C25: D3
A26: 5 | B26: 외 자 재
A27: 6 | B27: 폐기물 처리비 | C27: D4
A28: 7 | B28: ...
A29: 8 | B29: ...
A30: 9 | B30: ...
A31: A | B31: ....
A32: B | B32: .....
A33: C | B33: ....
A34: D | B34: ....
A35: E | B35: ....
A36: F | B36: ....
A37: G | B37: ....
A38: H | B38: ....
A39: I | B39: ....
A40: J | B40: ....
...
