Workbook

Sheet 원가계산서
A1: 공 사 원 가 계 산 서
A2: 공사명 : 병동 오물처리실 보수공사 | F2: ="금액 : "&NUMBERSTRING((D35),1)&"원정" -> 금액 : 영원정 | H2: ="(\"&TEXT(D35,"#,##0")&" 원)" -> (\0 원)
A3: 비 목 | D3: 금 액 | E3: 제비율 | F3: 구 성 비 | H3: 비 고
A4: 순 공 사 원 가 | B4: 재 료 비 | C4: 직 접 재 료 비 | D4: =집계표!F6 -> 0
C5: 간 접 재 료 비
C6: 작업설, 부산물(△)
C7: [ 소 계 ] | D7: =SUM(D4-D6) -> 0
B8: 노무비 | C8: 직 접 노 무 비 | D8: =집계표!H6 -> 0
C9: 간 접 노 무 비 | D9: =INT(D8*17.5%) -> 0 | E9: 0.175 | F9: 직접노무비 * 17.5%
C10: [ 소 계 ] | D10: =SUM(D8:D9) -> 0
B11: 경 비 | C11: 기 계 경 비 | D11: =집계표!J6 -> 0
C12: 산 재 보 험 료 | D12: =INT(D10*3.56%) -> 0 | E12: 0.0356 | F12: 노무비 * 3.56%
C13: 고 용 보 험 료 | D13: =INT(D10*1.01%) -> 0 | E13: 0.0101 | F13: 노무비 * 1.01%
C14: 건 강 보 험 료 | D14: =INT(D8*3.595%) -> 0 | E14: 0.03595 | F14: 직접노무비 * 3.595%
C15: 연 금 보 험 료 | D15: =INT(D8*4.75%) -> 0 | E15: 0.0475 | F15: 직접노무비 * 4.75%
C16: 노인장기요양보험료 | D16: =INT(D14*13.14%) -> 0 | E16: 0.1314 | F16: 건강보험료 * 13.14%
C17: 퇴 직 공 제 부금비 | E17: 0.023 | F17: 직접노무비 * 2.3%
C18: 안 전 관 리 비 | D18: =INT((D7+D8)*3.11%) -> 0 | E18: 0.0311 | F18: (재료비+직노) * 3.11%
C19: 기 타 경 비 | D19: =INT((D7+D10)*5%) -> 0 | E19: 0.05 | F19: (재료비+노무비) * 5.0%
C20: 환 경 보 전 비 | D20: =INT((D7+D8+D11)*0.3%) -> 0 | E20: 0.003 | F20: (재료비+직노+기계경비) * 0.3%
C21: 공사이행보증수수료 | D21: =(INT((((D7+D8+D11)))*0.0108%))*1 -> 0 | E21: 0.000108 | F21: (직접공사비) * 0.0108%)*1년
C22: 건 설 하 도 급 대 금 지급보증서발급수수료 | E22: 0.00081 | F22: (재료비+직노+기계경비) * 0.081%
C23: [ 소 계 ] | D23: =SUM(D11:D22) -> 0
A24: 계 | D24: =D7+D10+D23 -> 0
A25: 일 반 관 리 비 | D25: =INT(D24*8%) -> 0 | E25: 0.08 | F25: 계 * 8.0%
A26: 이 윤 | D26: =INT((D10+D23+D25)*15%) -> 0 | E26: 0.15 | F26: (노무비+경비+일반관리비) * 15%
A27: 공 급 가 액 | D27: =SUM(D24:D26) -> 0
A28: 석 면 분 담 금 | D28: =INT(D10*0.006%) -> 0 | E28: 6e-05 | F28: 노무비 * 0.006%
A29: 고 재
A30: 입 금 채 권 부 담 금 | D30: =INT(D10*0.09%) -> 0 | E30: 0.0009 | F30: 노무비 * 0.09&
A31: 부 가 가 치 세 | D31: =SUM(D27:D30)*10% -> 0 | E31: 0.1 | F31: 10%
A32: 관 급 자 관 급
A33: 도 급 자 관 급
A34: 도 급 액 | D34: =SUM(D27:D31) -> 0
A35: 총 공 사 비 | D35: =ROUNDDOWN(SUM(D32:D34),-4) -> 0 | F35: 천원미만 절사

Sheet 집계표
A1: 집 계 표
A2: =원가계산서!A2 -> 공사명 : 병동 오물처리실 보수공사
A3: 품 명 | B3: 규 격 | C3: 단위 | D3: 수량 | E3: 재 료 비 | G3: 노 무 비 | I3: 경 비 | K3: 합 계 | M3: 비고
E4: 단가 | F4: 금액 | G4: 단가 | H4: 금액 | I4: 단가 | J4: 금액 | K4: 단가 | L4: 금액
A5: 01 기계설비공사 | D5: 1 | E5: =(F6) -> 0 | F5: =D5*E5 -> 0 | G5: =(H6) -> 0 | H5: =D5*G5 -> 0 | I5: =(J6) -> 0 | J5: =D5*I5 -> 0 | K5: =E5+G5+I5 -> 0 | L5: =D5*K5 -> 0 | N5: 01
A6: 0101 병동부 | D6: 1 | E6: =(F7+F11+F12) -> 0 | F6: =D6*E6 -> 0 | G6: =(H7+H11+H12) -> 0 | H6: =D6*G6 -> 0 | I6: =(J7+J11+J12) -> 0 | J6: =D6*I6 -> 0 | K6: =E6+G6+I6 -> 0 | L6: =D6*K6 -> 0 | N6: 0101
A7: 010102 위생배관공사 | D7: 1 | E7: =(F8+F9+F10) -> 0 | F7: =D7*E7 -> 0 | G7: =(H8+H9+H10) -> 0 | H7: =D7*G7 -> 0 | I7: =(J8+J9+J10) -> 0 | J7: =D7*I7 -> 0 | K7: =E7+G7+I7 -> 0 | L7: =D7*K7 -> 0 | N7: 010102
A8: 01010201 위생기구설치공사 | D8: 1 | E8: =내역서!H29 -> 0 | F8: =D8*E8 -> 0 | G8: =내역서!J29 -> 0 | H8: =D8*G8 -> 0 | I8: =내역서!L29 -> 0 | J8: =D8*I8 -> 0 | K8: =E8+G8+I8 -> 0 | L8: =D8*K8 -> 0 | N8: 01010201
A9: 01010202 급수급탕배관공사 | D9: 1 | E9: =내역서!H81 -> 0 | F9: =D9*E9 -> 0 | G9: =내역서!J81 -> 0 | H9: =D9*G9 -> 0 | I9: =내역서!L81 -> 0 | J9: =D9*I9 -> 0 | K9: =E9+G9+I9 -> 0 | L9: =D9*K9 -> 0 | N9: 01010202
A10: 01010203 오배수배관공사 | D10: 1 | E10: =내역서!H133 -> 0 | F10: =D10*E10 -> 0 | G10: =내역서!J133 -> 0 | H10: =D10*G10 -> 0 | I10: =내역서!L133 -> 0 | J10: =D10*I10 -> 0 | K10: =E10+G10+I10 -> 0 | L10: =D10*K10 -> 0 | N10: 01010203
A11: 010103 환기덕트설치공사 | D11: 1 | E11: =내역서!H159 -> 0 | F11: =D11*E11 -> 0 | G11: =내역서!J159 -> 0 | H11: =D11*G11 -> 0 | I11: =내역서!L159 -> 0 | J11: =D11*I11 -> 0 | K11: =E11+G11+I11 -> 0 | L11: =D11*K11 -> 0 | N11: 010103
A12: 010104 철거공사 | D12: 1 | E12: =(F13+F14+F15+F16) -> 0 | F12: =D12*E12 -> 0 | G12: =(H13+H14+H15+H16) -> 0 | H12: =D12*G12 -> 0 | I12: =(J13+J14+J15+J16) -> 0 | J12: =D12*I12 -> 0 | K12: =E12+G12+I12 -> 0 | L12: =D12*K12 -> 0 | N12: 010104
A13: 01010401 위생기구철거공사 | D13: 1 | E13: =내역서!H185 -> 0 | F13: =D13*E13 -> 0 | G13: =내역서!J185 -> 0 | H13: =D13*G13 -> 0 | I13: =내역서!L185 -> 0 | J13: =D13*I13 -> 0 | K13: =E13+G13+I13 -> 0 | L13: =D13*K13 -> 0 | N13: 01010401
A14: 01010402 급수급탕배관철거공사 | D14: 1 | E14: =내역서!H211 -> 0 | F14: =D14*E14 -> 0 | G14: =내역서!J211 -> 0 | H14: =D14*G14 -> 0 | I14: =내역서!L211 -> 0 | J14: =D14*I14 -> 0 | K14: =E14+G14+I14 -> 0 | L14: =D14*K14 -> 0 | N14: 01010402
A15: 01010403 오배수배관철거공사 | D15: 1 | E15: =내역서!H237 -> 0 | F15: =D15*E15 -> 0 | G15: =내역서!J237 -> 0 | H15: =D15*G15 -> 0 | I15: =내역서!L237 -> 0 | J15: =D15*I15 -> 0 | K15: =E15+G15+I15 -> 0 | L15: =D15*K15 -> 0 | N15: 01010403
A16: 01010404 환기덕트철거공사 | D16: 1 | E16: =내역서!H263 -> 0 | F16: =D16*E16 -> 0 | G16: =내역서!J263 -> 0 | H16: =D16*G16 -> 0 | I16: =내역서!L263 -> 0 | J16: =D16*I16 -> 0 | K16: =E16+G16+I16 -> 0 | L16: =D16*K16 -> 0 | N16: 01010404
A29: [ 합 계 ] | F29: =(F5) -> 0 | H29: =(H5) -> 0 | J29: =(J5) -> 0 | L29: =F29+H29+J29 -> 0
A30: End Of File(Ver 6.0)
A31: 마지막열은 지우지 마시오

Sheet 내역서
C1: =원가계산서!A2 -> 공사명 : 병동 오물처리실 보수공사
A2: 공종 | B2: 코드 | C2: 품 명 | D2: 규 격 | E2: 단위 | F2: 수량 | G2: 재 료 비 | I2: 노 무 비 | K2: 경 비 | M2: 합 계 | O2: 비고
G3: 단가 | H3: 금액 | I3: 단가 | J3: 금액 | K3: 단가 | L3: 금액 | M3: 단가 | N3: 금액
C4: 01010201 위생기구설치공사
A5: 01010201 | B5: 56958000001 | C5: 씽크혼합수전 | E5: EA | F5: 18 | H5: =TRUNC(F5*G5,0) -> 0 | J5: =TRUNC(F5*I5,0) -> 0 | L5: =TRUNC(F5*K5,0) -> 0 | M5: =G5+I5+K5 -> 0 | N5: =H5+J5+L5 -> 0 | T5: 0 | AC5: 1
A6: 01010201 | B6: 56958000022 | C6: 오물처리기 | D6: S-123F | E6: SET | F6: 18 | H6: =TRUNC(F6*G6,0) -> 0 | J6: =TRUNC(F6*I6,0) -> 0 | L6: =TRUNC(F6*K6,0) -> 0 | M6: =G6+I6+K6 -> 0 | N6: =H6+J6+L6 -> 0 | T6: 0 | AC6: 1
A7: 01010201 | B7: 56958000020 | C7: 걸레수채 | D7: S-124F | E7: SET | F7: 9 | H7: =TRUNC(F7*G7,0) -> 0 | J7: =TRUNC(F7*I7,0) -> 0 | L7: =TRUNC(F7*K7,0) -> 0 | M7: =G7+I7+K7 -> 0 | N7: =H7+J7+L7 -> 0 | T7: 0 | AC7: 1
C29: [ 합 계 ] | H29: =SUMIF(AC5:AC28, 1, H5:H28) -> 0 | J29: =SUMIF(AC5:AC28, 1, J5:J28) -> 0 | L29: =SUMIF(AC5:AC28, 1, L5:L28) -> 0 | N29: =H29+J29+L29 -> 0
C30: 01010202 급수급탕배관공사
A31: 01010202 | B31: 56941820071 | C31: 동및동합금관 | D31: 동관(L-TYPE),D15 | E31: M | F31: 120 | H31: =TRUNC(F31*G31,0) -> 0 | J31: =TRUNC(F31*I31,0) -> 0 | L31: =TRUNC(F31*K31,0) -> 0 | M31: =G31+I31+K31 -> 0 | N31: =H31+J31+L31 -> 0 | T31: 0 | AC31: 1
A32: 01010202 | B32: 56941820072 | C32: 동및동합금관 | D32: 동관(L-TYPE),D20 | E32: M | F32: 40 | H32: =TRUNC(F32*G32,0) -> 0 | J32: =TRUNC(F32*I32,0) -> 0 | L32: =TRUNC(F32*K32,0) -> 0 | M32: =G32+I32+K32 -> 0 | N32: =H32+J32+L32 -> 0 | T32: 0 | AC32: 1
A33: 01010202 | B33: 56941820073 | C33: 동및동합금관 | D33: 동관(L-TYPE),D25 | E33: M | F33: 70 | H33: =TRUNC(F33*G33,0) -> 0 | J33: =TRUNC(F33*I33,0) -> 0 | L33: =TRUNC(F33*K33,0) -> 0 | M33: =G33+I33+K33 -> 0 | N33: =H33+J33+L33 -> 0 | T33: 0 | AC33: 1
A34: 01010202 | B34: 56940840100 | C34: 아티론보온 | D34: 5TxD15 | E34: M | F34: 50 | H34: =TRUNC(F34*G34,0) -> 0 | J34: =TRUNC(F34*I34,0) -> 0 | L34: =TRUNC(F34*K34,0) -> 0 | M34: =G34+I34+K34 -> 0 | N34: =H34+J34+L34 -> 0 | T34: 0 | AC34: 1
A35: 01010202 | B35: 56940840101 | C35: 아티론보온 | D35: 5TxD20 | E35: M | F35: 15 | H35: =TRUNC(F35*G35,0) -> 0 | J35: =TRUNC(F35*I35,0) -> 0 | L35: =TRUNC(F35*K35,0) -> 0 | M35: =G35+I35+K35 -> 0 | N35: =H35+J35+L35 -> 0 | T35: 0 | AC35: 1
A36: 01010202 | B36: 56940840102 | C36: 아티론보온 | D36: 5TxD25 | E36: M | F36: 7 | H36: =TRUNC(F36*G36,0) -> 0 | J36: =TRUNC(F36*I36,0) -> 0 | L36: =TRUNC(F36*K36,0) -> 0 | M36: =G36+I36+K36 -> 0 | N36: =H36+J36+L36 -> 0 | T36: 0 | AC36: 1
A37: 01010202 | B37: 56940850181 | C37: 관보온(고무발포,동관용) | D37: 25TxD15 | E37: M | F37: 70 | H37: =TRUNC(F37*G37,0) -> 0 | J37: =TRUNC(F37*I37,0) -> 0 | L37: =TRUNC(F37*K37,0) -> 0 | M37: =G37+I37+K37 -> 0 | N37: =H37+J37+L37 -> 0 | T37: 0 | AC37: 1
A38: 01010202 | B38: 56940850182 | C38: 관보온(고무발포,동관용) | D38: 25TxD20 | E38: M | F38: 50 | H38: =TRUNC(F38*G38,0) -> 0 | J38: =TRUNC(F38*I38,0) -> 0 | L38: =TRUNC(F38*K38,0) -> 0 | M38: =G38+I38+K38 -> 0 | N38: =H38+J38+L38 -> 0 | T38: 0 | AC38: 1
A39: 01010202 | B39: 56940850183 | C39: 관보온(고무발포,동관용) | D39: 25TxD25 | E39: M | F39: 60 | H39: =TRUNC(F39*G39,0) -> 0 | J39: =TRUNC(F39*I39,0) -> 0 | L39: =TRUNC(F39*K39,0) -> 0 | M39: =G39+I39+K39 -> 0 | N39: =H39+J39+L39 -> 0 | T39: 0 | AC39: 1
A40: 01010202 | B40: 47301018301 | C40: 동관이음쇠 | D40: 동엘보 D15 | E40: EA | F40: 110 | H40: =TRUNC(F40*G40,0) -> 0 | J40: =TRUNC(F40*I40,0) -> 0 | L40: =TRUNC(F40*K40,0) -> 0 | M40: =G40+I40+K40 -> 0 | N40: =H40+J40+L40 -> 0 | T40: 0 | AC40: 1
A41: 01010202 | B41: 47301018302 | C41: 동관이음쇠 | D41: 동엘보 D20 | E41: EA | F41: 40 | H41: =TRUNC(F41*G41,0) -> 0 | J41: =TRUNC(F41*I41,0) -> 0 | L41: =TRUNC(F41*K41,0) -> 0 | M41: =G41+I41+K41 -> 0 | N41: =H41+J41+L41 -> 0 | T41: 0 | AC41: 1
A42: 01010202 | B42: 47301018303 | C42: 동관이음쇠 | D42: 동엘보 D25 | E42: EA | F42: 100 | H42: =TRUNC(F42*G42,0) -> 0 | J42: =TRUNC(F42*I42,0) -> 0 | L42: =TRUNC(F42*K42,0) -> 0 | M42: =G42+I42+K42 -> 0 | N42: =H42+J42+L42 -> 0 | T42: 0 | AC42: 1
... A69: 01010202 | B69: 56942000222 | C69: 코아드릴(바닥)(150mm) | D69: D25 | E69: 개소 | F69: 36 | H69: =TRUNC(F69*G69,0) -> 0 | J69: =TRUNC(F69*I69,0) -> 0 | L69: =TRUNC(F69*K69,0) -> 0 | M69: =G69+I69+K69 -> 0 | N69: =H69+J69+L69 -> 0 | T69: 0 | AC69: 1
C81: [ 합 계 ] | H81: =SUMIF(AC31:AC80, 1, H31:H80) -> 0 | J81: =SUMIF(AC31:AC80, 1, J31:J80) -> 0 | L81: =SUMIF(AC31:AC80, 1, L31:L80) -> 0 | N81: =H81+J81+L81 -> 0
C82: 01010203 오배수배관공사
A83: 01010203 | B83: 56941820411 | C83: 일반용경질염화비닐관(SDR13.6) | D83: PVC관(VG1,DRF),D35 | E83: M | F83: 1 | H83: =TRUNC(F83*G83,0) -> 0 | J83: =TRUNC(F83*I83,0) -> 0 | L83: =TRUNC(F83*K83,0) -> 0 | N83: =H83+J83+L83 -> 0 | T83: 0 | AC83: 1
A84: 01010203 | B84: 56941820413 | C84: 일반용경질염화비닐관(SDR13.6) | D84: PVC관(VG1,DRF),D50 | E84: M | F84: 30 | H84: =TRUNC(F84*G84,0) -> 0 | J84: =TRUNC(F84*I84,0) -> 0 | L84: =TRUNC(F84*K84,0) -> 0 | N84: =H84+J84+L84 -> 0 | T84: 0 | AC84: 1
A85: 01010203 | B85: 56941820414 | C85: 일반용경질염화비닐관(SDR 17) | D85: PVC관(VG1,DRF),D75 | E85: M | F85: 20 | H85: =TRUNC(F85*G85,0) -> 0 | J85: =TRUNC(F85*I85,0) -> 0 | L85: =TRUNC(F85*K85,0) -> 0 | N85: =H85+J85+L85 -> 0 | T85: 0 | AC85: 1
A86: 01010203 | B86: 56941820415 | C86: 일반용경질염화비닐관(SDR 17) | D86: PVC관(VG1,DRF),D100 | E86: M | F86: 40 | H86: =TRUNC(F86*G86,0) -> 0 | J86: =TRUNC(F86*I86,0) -> 0 | L86: =TRUNC(F86*K86,0) -> 0 | N86: =H86+J86+L86 -> 0 | T86: 0 | AC86: 1
A87: 01010203 | B87: 47301148650 | C87: 배수용경질염화비닐이음관 | D87: 90'단곡관(DRF) D35 | E87: EA | F87: 2 | H87: =TRUNC(F87*G87,0) -> 0 | J87: =TRUNC(F87*I87,0) -> 0 | L87: =TRUNC(F87*K87,0) -> 0 | N87: =H87+J87+L87 -> 0 | T87: 0 | AC87: 1
A88: 01010203 | B88: 47301148652 | C88: 배수용경질염화비닐이음관 | D88: 90'단곡관(DRF) D50 | E88: EA | F88: 20 | H88: =TRUNC(F88*G88,0) -> 0 | J88: =TRUNC(F88*I88,0) -> 0 | L88: =TRUNC(F88*K88,0) -> 0 | N88: =H88+J88+L88 -> 0 | T88: 0 | AC88: 1
A89: 01010203 | B89: 47301148653 | C89: 배수용경질염화비닐이음관 | D89: 90'단곡관(DRF) D75 | E89: EA | F89: 8 | H89: =TRUNC(F89*G89,0) -> 0 | J89: =TRUNC(F89*I89,0) -> 0 | L89: =TRUNC(F89*K89,0) -> 0 | N89: =H89+J89+L89 -> 0 | T89: 0 | AC89: 1
A90: 01010203 | B90: 47301148654 | C90: 배수용경질염화비닐이음관 | D90: 90'단곡관(DRF) D100 | E90: EA | F90: 16 | H90: =TRUNC(F90*G90,0) -> 0 | J90: =TRUNC(F90*I90,0) -> 0 | L90: =TRUNC(F90*K90,0) -> 0 | N90: =H90+J90+L90 -> 0 | T90: 0 | AC90: 1
A91: 01010203 | B91: 47301148659 | C91: 배수용경질염화비닐이음관 | D91: 45'단곡관(DRF) D50 | E91: EA | F91: 16 | H91: =TRUNC(F91*G91,0) -> 0 | J91: =TRUNC(F91*I91,0) -> 0 | L91: =TRUNC(F91*K91,0) -> 0 | N91: =H91+J91+L91 -> 0 | T91: 0 | AC91: 1
A92: 01010203 | B92: 47301148660 | C92: 배수용경질염화비닐이음관 | D92: 45'단곡관(DRF) D75 | E92: EA | F92: 8 | H92: =TRUNC(F92*G92,0) -> 0 | J92: =TRUNC(F92*I92,0) -> 0 | L92: =TRUNC(F92*K92,0) -> 0 | N92: =H92+J92+L92 -> 0 | T92: 0 | AC92: 1
A93: 01010203 | B93: 47301148661 | C93: 배수용경질염화비닐이음관 | D93: 45'단곡관(DRF) D100 | E93: EA | F93: 18 | H93: =TRUNC(F93*G93,0) -> 0 | J93: =TRUNC(F93*I93,0) -> 0 | L93: =TRUNC(F93*K93,0) -> 0 | N93: =H93+J93+L93 -> 0 | T93: 0 | AC93: 1
A94: 01010203 | B94: 47301148670 | C94: 배수용경질염화비닐이음관 | D94: Y관(DRF) D75x75 | E94: EA | F94: 8 | H94: =TRUNC(F94*G94,0) -> 0 | J94: =TRUNC(F94*I94,0) -> 0 | L94: =TRUNC(F94*K94,0) -> 0 | N94: =H94+J94+L94 -> 0 | T94: 0 | AC94: 1
... A111: 01010203 | B111: 47301148944 | C111: 배수용경질염화비닐이음관 | D111: 씽크스리브 D50 | E111: EA | F111: 18 | H111: =TRUNC(F111*G111,0) -> 0 | J111: =TRUNC(F111*I111,0) -> 0 | L111: =TRUNC(F111*K111,0) -> 0 | N111: =H111+J111+L111 -> 0 | T111: 0 | AC111: 1
C133: [ 합 계 ] | H133: =SUMIF(AC83:AC132, 1, H83:H132) -> 0 | J133: =SUMIF(AC83:AC132, 1, J83:J132) -> 0 | L133: =SUMIF(AC83:AC132, 1, L83:L132) -> 0 | N133: =H133+J133+L133 -> 0
C134: 010103 환기덕트설치공사
A135: 010103 | B135: 56958000002 | C135: 디퓨저 | D135: 사각, D200, AL | E135: EA | F135: 18 | H135: =TRUNC(F135*G135,0) -> 0 | J135: =TRUNC(F135*I135,0) -> 0 | L135: =TRUNC(F135*K135,0) -> 0 | N135: =H135+J135+L135 -> 0 | T135: 0 | AC135: 1
A136: 010103 | B136: 56941890035 | C136: 후렉시블덕트호스(비보온) | D136: D200 | E136: M | F136: 25 | H136: =TRUNC(F136*G136,0) -> 0 | J136: =TRUNC(F136*I136,0) -> 0 | L136: =TRUNC(F136*K136,0) -> 0 | N136: =H136+J136+L136 -> 0 | T136: 0 | AC136: 1
A137: 010103 | B137: 53300527216 | C137: 스텐밴드 | D137: D200 | E137: EA | F137: 36 | H137: =TRUNC(F137*G137,0) -> 0 | J137: =TRUNC(F137*I137,0) -> 0 | L137: =TRUNC(F137*K137,0) -> 0 | N137: =H137+J137+L137 -> 0 | T137: 0 | AC137: 1
A138: 010103 | B138: 53300537013 | C138: SPIN IN | D138: D200 | E138: EA | F138: 18 | H138: =TRUNC(F138*G138,0) -> 0 | J138: =TRUNC(F138*I138,0) -> 0 | L138: =TRUNC(F138*K138,0) -> 0 | N138: =H138+J138+L138 -> 0 | T138: 0 | AC138: 1
C159: [ 합 계 ] | H159: =SUMIF(AC135:AC158, 1, H135:H158) -> 0 | J159: =SUMIF(AC135:AC158, 1, J135:J158) -> 0 | L159: =SUMIF(AC135:AC158, 1, L135:L158) -> 0 | N159: =H159+J159+L159 -> 0
C160: 01010401 위생기구철거공사
A161: 01010401 | B161: 56958000023 | C161: 오물처리기 | D161: 철거 | E161: SET | F161: 18 | H161: =TRUNC(F161*G161,0) -> 0 | J161: =TRUNC(F161*I161,0) -> 0 | L161: =TRUNC(F161*K161,0) -> 0 | N161: =H161+J161+L161 -> 0 | T161: 0 | AC161: 1
A162: 01010401 | B162: 56958000024 | C162: 청소씽크 | D162: 철거 | E162: SET | F162: 9 | H162: =TRUNC(F162*G162,0) -> 0 | J162: =TRUNC(F162*I162,0) -> 0 | L162: =TRUNC(F162*K162,0) -> 0 | N162: =H162+J162+L162 -> 0 | T162: 0 | AC162: 1
C185: [ 합 계 ] | H185: =SUMIF(AC161:AC184, 1, H161:H184) -> 0 | J185: =SUMIF(AC161:AC184, 1, J161:J184) -> 0 | L185: =SUMIF(AC161:AC184, 1, L161:L184) -> 0 | N185: =H185+J185+L185 -> 0
C186: 01010402 급수급탕배관철거공사
A187: 01010402 | B187: 47303009001 | C187: 고동 | E187: Kg | F187: -144 | H187: =TRUNC(F187*G187,0) -> 0 | I187: 0 | J187: =TRUNC(F187*I187,0) -> 0 | K187: 0 | L187: =TRUNC(F187*K187,0) -> 0 | N187: =H187+J187+L187 -> 0 | T187: 0 | AC187: 1
A188: 01010402 | B188: 56958000010 | C188: 동관철거-인건비 | D188: D15 | E188: M | F188: 117 | H188: =TRUNC(F188*G188,0) -> 0 | J188: =TRUNC(F188*I188,0) -> 0 | L188: =TRUNC(F188*K188,0) -> 0 | N188: =H188+J188+L188 -> 0 | T188: 0 | AC188: 1
A189: 01010402 | B189: 56958000011 | C189: 동관철거-인건비 | D189: D20 | E189: M | F189: 48 | H189: =TRUNC(F189*G189,0) -> 0 | J189: =TRUNC(F189*I189,0) -> 0 | L189: =TRUNC(F189*K189,0) -> 0 | N189: =H189+J189+L189 -> 0 | T189: 0 | AC189: 1
A190: 01010402 | B190: 56958000012 | C190: 동관철거-인건비 | D190: D25 | E190: M | F190: 63 | H190: =TRUNC(F190*G190,0) -> 0 | J190: =TRUNC(F190*I190,0) -> 0 | L190: =TRUNC(F190*K190,0) -> 0 | N190: =H190+J190+L190 -> 0 | T190: 0 | AC190: 1
A191: 01010402 | B191: 56958000013 | C191: 보온철거(아티론)-인건비 | D191: 50T이하 D15 | E191: M | F191: 63 | H191: =TRUNC(F191*G191,0) -> 0 | J191: =TRUNC(F191*I191,0) -> 0 | L191: =TRUNC(F191*K191,0) -> 0 | N191: =H191+J191+L191 -> 0 | T191: 0 | AC191: 1
A192: 01010402 | B192: 56958000014 | C192: 보온철거(아티론)-인건비 | D192: 50T이하 D20 | E192: M | F192: 27 | H192: =TRUNC(F192*G192,0) -> 0 | J192: =TRUNC(F192*I192,0) -> 0 | L192: =TRUNC(F192*K192,0) -> 0 | N192: =H192+J192+L192 -> 0 | T192: 0 | AC192: 1
A193: 01010402 | B193: 56958000015 | C193: 보온철거(아티론)-인건비 | D193: 50T이하 D25 | E193: M | F193: 45 | H193: =TRUNC(F193*G193,0) -> 0 | J193: =TRUNC(F193*I193,0) -> 0 | L193: =TRUNC(F193*K193,0) -> 0 | N193: =H193+J193+L193 -> 0 | T193: 0 | AC193: 1
A194: 01010402 | B194: 56100117031 | C194: 폐기물수수료 | E194: TON | F194: 0.088 | H194: =TRUNC(F194*G194,0) -> 0 | J194: =TRUNC(F194*I194,0) -> 0 | L194: =TRUNC(F194*K194,0) -> 0 | N194: =H194+J194+L194 -> 0 | T194: 0 | AC194: 1
A195: 01010402 | B195: 56100117032 | C195: 폐기물수집운반기본운임료 | E195: TON | F195: 0.088 | H195: =TRUNC(F195*G195,0) -> 0 | J195: =TRUNC(F195*I195,0) -> 0 | L195: =TRUNC(F195*K195,0) -> 0 | N195: =H195+J195+L195 -> 0 | T195: 0 | AC195: 1
C211: [ 합 계 ] | H211: =SUMIF(AC187:AC210, 1, H187:H210) -> 0 | J211: =SUMIF(AC187:AC210, 1, J187:J210) -> 0 | L211: =SUMIF(AC187:AC210, 1, L187:L210) -> 0 | N211: =H211+J211+L211 -> 0
C212: 01010403 오배수배관철거공사
A213: 01010403 | B213: 56958000007 | C213: 강관철거-인건비 | D213: D50 | E213: M | F213: 22 | H213: =TRUNC(F213*G213,0) -> 0 | J213: =TRUNC(F213*I213,0) -> 0 | L213: =TRUNC(F213*K213,0) -> 0 | N213: =H213+J213+L213 -> 0 | T213: 0 | AC213: 1
A214: 01010403 | B214: 56958000008 | C214: 강관철거-인건비 | D214: D80 | E214: M | F214: 13 | H214: =TRUNC(F214*G214,0) -> 0 | J214: =TRUNC(F214*I214,0) -> 0 | L214: =TRUNC(F214*K214,0) -> 0 | N214: =H214+J214+L214 -> 0 | T214: 0 | AC214: 1
A215: 01010403 | B215: 56958000009 | C215: 강관철거-인건비 | D215: D100 | E215: M | F215: 22 | H215: =TRUNC(F215*G215,0) -> 0 | J215: =TRUNC(F215*I215,0) -> 0 | L215: =TRUNC(F215*K215,0) -> 0 | N215: =H215+J215+L215 -> 0 | T215: 0 | AC215: 1
C237: [ 합 계 ] | H237: =SUMIF(AC213:AC236, 1, H213:H236) -> 0 | J237: =SUMIF(AC213:AC236, 1, J213:J236) -> 0 | L237: =SUMIF(AC213:AC236, 1, L213:L236) -> 0 | N237: =H237+J237+L237 -> 0
C238: 01010404 환기덕트철거공사
A239: 01010404 | B239: 56958000021 | C239: 디퓨져(철거) | D239: D200 | E239: EA | F239: 18 | H239: =TRUNC(F239*G239,0) -> 0 | J239: =TRUNC(F239*I239,0) -> 0 | L239: =TRUNC(F239*K239,0) -> 0 | N239: =H239+J239+L239 -> 0 | T239: 0 | AC239: 1
A240: 01010404 | B240: 56958000025 | C240: 플렉시블덕트(철거) | D240: D200 | E240: M | F240: 27 | H240: =TRUNC(F240*G240,0) -> 0 | J240: =TRUNC(F240*I240,0) -> 0 | L240: =TRUNC(F240*K240,0) -> 0 | N240: =H240+J240+L240 -> 0 | T240: 0 | AC240: 1
C263: [ 합 계 ] | H263: =ROUNDDOWN(SUMIF(AC239:AC262, 1, H239:H262), 0) -> 0 | J263: =ROUNDDOWN(SUMIF(AC239:AC262, 1, J239:J262), 0) -> 0 | L263: =ROUNDDOWN(SUMIF(AC239:AC262, 1, L239:L262), 0) -> 0 | N263: =H263+J263+L263 -> 0
A264: End Of File(Ver 6.0)
C265: A,B행과 마지막열은 지우지 마시오
