Workbook

Sheet 원가계산서
B1: 공 사 원 가 계 산 서
B2: ■ 공사명 : 병동 오물처리실 보수공사
B3: 비 목 | E3: 금 액 | F3: 구 성 비 | G3: 비 고
A4: A1 | B4: 순 공 사 원 가 | C4: 재 료 비 | D4: 직 접 재 료 비 | E4: =+공종별집계표!F6 -> 0
A5: A2 | D5: 간 접 재 료 비 | E5: 0
A6: A3 | D6: 작업설, 부산물(△) | E6: 0
A7: AS | D7: [ 소 계 ] | E7: =TRUNC(E4+E5-E6, 0) -> 0
A8: B1 | C8: 노 무 비 | D8: 직 접 노 무 비 | E8: =+공종별집계표!H6 -> 0
A9: B2 | D9: 간 접 노 무 비 | E9: =TRUNC(E8*0.175, 0) -> 0 | F9: 직접노무비 * 17.5%
A10: BS | D10: [ 소 계 ] | E10: =TRUNC(E8+E9, 0) -> 0
A11: C2 | C11: 경 비 | D11: 경 비 | E11: =+공종별집계표!J6 -> 0
A12: C4 | D12: 산 재 보 험 료 | E12: =TRUNC(E10*0.0356, 0) -> 0 | F12: 노무비 * 3.56%
A13: C5 | D13: 고 용 보 험 료 | E13: =TRUNC(E10*0.0101, 0) -> 0 | F13: 노무비 * 1.01%
A14: C6 | D14: 국민 건강 보험료 | E14: =TRUNC(E8*0.03595, 0) -> 0 | F14: 직접노무비 * 3.595%
A15: C7 | D15: 국민 연금 보험료 | E15: =TRUNC(E8*0.0475, 0) -> 0 | F15: 직접노무비 * 4.75%
A16: CB | D16: 노인장기요양보험료 | E16: =TRUNC(E14*0.1314, 0) -> 0 | F16: 건강보험료 * 13.14%
A17: C8 | D17: 퇴직 공제 부금비 | E17: =TRUNC(E8*0.023, 0) -> 0 | F17: 직접노무비 * 2.3%
A18: CA | D18: 산업안전보건관리비 | E18: =TRUNC((E7+E8+(0/1.1))*0.0311, 0) -> 0 | F18: (재료비+직노+관급자재비) * 3.11%
A19: CG | D19: 기 타 경 비 | E19: =TRUNC((E7+E10)*0.05, 0) -> 0 | F19: (재료비+노무비) * 5%
A20: CH | D20: 환 경 보 전 비 | E20: =TRUNC((E7+E8+E11)*0.003, 0) -> 0 | F20: (재료비+직노+경비) * 0.3%
A21: CK | D21: 하도급지급보증수수료 | E21: =TRUNC((E7+E8+E11)*0.00081, 0) -> 0 | F21: (재료비+직노+경비) * 0.081%
A22: CL | D22: 건설기계대여금지급보증서발급수수료 | E22: =TRUNC((E7+E8+E11)*0.0007, 0) -> 0 | F22: (재료비+직노+경비) * 0.07%
A23: CM | D23: 석 면 분 담 금 | E23: =TRUNC(E10*0.00006, 0) -> 0 | F23: 노무비 * 0.006%
A24: CN | D24: 임 금 채 권 부 담 금 | E24: =TRUNC(E10*0.0009, 0) -> 0 | F24: 노무비 * 0.09%
A25: CS | D25: [ 소 계 ] | E25: =TRUNC(E11+E12+E13+E14+E15+E17+E18+E16+E19+E20+E21+E22+E23+E24, 0) -> 0
A26: S1 | B26: 계 | E26: =TRUNC(E7+E10+E25, 0) -> 0
A27: D1 | B27: 일 반 관 리 비 | E27: =TRUNC(E26*0.08, 0) -> 0 | F27: 계 * 8%
A28: D2 | B28: 이 윤 | E28: =TRUNC((E10+E25+E27)*0.15, 0) -> 0 | F28: (노무비+경비+일반관리비) * 15%
A29: D4 | B29: 폐기물 처리비 | E29: =+공종별집계표!L58 -> 0
A30: D9 | B30: 공 급 가 액 | E30: =TRUNC(E26+E27+E28+E29, 0) -> 0
A31: DB | B31: 부 가 가 치 세 | E31: =TRUNC(E30*0.1, 0) -> 0 | F31: 공급가액 * 10%
A32: DH | B32: 도 급 액 | E32: =TRUNC(E30+E31, 0) -> 0
A33: S2 | B33: 총 공 사 비 | E33: =TRUNC(E32+0, 0) -> 0

Sheet 공종별집계표
A1: 공 종 별 집 계 표
A2: =원가계산서!B2 -> ■ 공사명 : 병동 오물처리실 보수공사
A3: 품 명 | B3: 규 격 | C3: 단위 | D3: 수량 | E3: 재 료 비 | G3: 노 무 비 | I3: 경 비 | K3: 합 계 | M3: 비 고 | N3: 공종코드 | O3: 변수 | P3: 상위공종 | Q3: 공종구분 | R3: 공종레벨 | S3: 공종소계 | T3: 원가계산서 연결금액
E4: 단 가 | F4: 금 액 | G4: 단 가 | H4: 금 액 | I4: 단 가 | J4: 금 액 | K4: 단 가 | L4: 금 액
A5: 01 국민건강보험 일산병원 오물처리실 보수공사 | D5: 1 | E5: =F6 -> 0 | F5: =E5*D5 -> 0 | G5: =H6 -> 0 | H5: =G5*D5 -> 0 | I5: =J6 -> 0 | J5: =I5*D5 -> 0 | K5: =E5+G5+I5 -> 0 | L5: =F5+H5+J5 -> 0 | N5: 01 | R5: 1
A6: 0101 ◆ 건 축 공 사 | D6: 1 | E6: =F7+F8+F18+F28+F38+F48 -> 0 | F6: =E6*D6 -> 0 | G6: =H7+H8+H18+H28+H38+H48 -> 0 | H6: =G6*D6 -> 0 | I6: =J7+J8+J18+J28+J38+J48 -> 0 | J6: =I6*D6 -> 0 | K6: =E6+G6+I6 -> 0 | L6: =F6+H6+J6 -> 0 | N6: 0101 | P6: 01 | R6: 2
A7: 010101 00.공통가설공사 | D7: 1 | E7: =공종별내역서!F29 -> 0 | F7: =E7*D7 -> 0 | G7: =공종별내역서!H29 -> 0 | H7: =G7*D7 -> 0 | I7: =공종별내역서!J29 -> 0 | J7: =I7*D7 -> 0 | K7: =E7+G7+I7 -> 0 | L7: =F7+H7+J7 -> 0 | N7: 010101 | P7: 0101 | R7: 3
A8: 010102 00.오물처리실 7층 | D8: 1 | E8: =F9+F10+F11+F12+F13+F14+F15+F16+F17 -> 0 | F8: =E8*D8 -> 0 | G8: =H9+H10+H11+H12+H13+H14+H15+H16+H17 -> 0 | H8: =G8*D8 -> 0 | I8: =J9+J10+J11+J12+J13+J14+J15+J16+J17 -> 0 | J8: =I8*D8 -> 0 | K8: =E8+G8+I8 -> 0 | L8: =F8+H8+J8 -> 0 | N8: 010102 | P8: 0101 | R8: 3
A9: 01010201 가 설 공 사 | D9: 1 | E9: =공종별내역서!F55 -> 0 | F9: =E9*D9 -> 0 | G9: =공종별내역서!H55 -> 0 | H9: =G9*D9 -> 0 | I9: =공종별내역서!J55 -> 0 | J9: =I9*D9 -> 0 | K9: =E9+G9+I9 -> 0 | L9: =F9+H9+J9 -> 0 | N9: 01010201 | P9: 010102 | R9: 4
A10: 01010202 타 일 공 사 | D10: 1 | E10: =공종별내역서!F81 -> 0 | F10: =E10*D10 -> 0 | G10: =공종별내역서!H81 -> 0 | H10: =G10*D10 -> 0 | I10: =공종별내역서!J81 -> 0 | J10: =I10*D10 -> 0 | K10: =E10+G10+I10 -> 0 | L10: =F10+H10+J10 -> 0 | N10: 01010202 | P10: 010102 | R10: 4
A11: 01010203 목공사및수장공사 | D11: 1 | E11: =공종별내역서!F107 -> 0 | F11: =E11*D11 -> 0 | G11: =공종별내역서!H107 -> 0 | H11: =G11*D11 -> 0 | I11: =공종별내역서!J107 -> 0 | J11: =I11*D11 -> 0 | K11: =E11+G11+I11 -> 0 | L11: =F11+H11+J11 -> 0 | N11: 01010203 | P11: 010102 | R11: 4
A12: 01010204 방 수 공 사 | D12: 1 | E12: =공종별내역서!F133 -> 0 | F12: =E12*D12 -> 0 | G12: =공종별내역서!H133 -> 0 | H12: =G12*D12 -> 0 | I12: =공종별내역서!J133 -> 0 | J12: =I12*D12 -> 0 | K12: =E12+G12+I12 -> 0 | L12: =F12+H12+J12 -> 0 | N12: 01010204 | P12: 010102 | R12: 4
A13: 01010205 금 속 공 사 | D13: 1 | E13: =공종별내역서!F159 -> 0 | F13: =E13*D13 -> 0 | G13: =공종별내역서!H159 -> 0 | H13: =G13*D13 -> 0 | I13: =공종별내역서!J159 -> 0 | J13: =I13*D13 -> 0 | K13: =E13+G13+I13 -> 0 | L13: =F13+H13+J13 -> 0 | N13: 01010205 | P13: 010102 | R13: 4
A14: 01010206 창호 및 유리공사 | D14: 1 | E14: =공종별내역서!F185 -> 0 | F14: =E14*D14 -> 0 | G14: =공종별내역서!H185 -> 0 | H14: =G14*D14 -> 0 | I14: =공종별내역서!J185 -> 0 | J14: =I14*D14 -> 0 | K14: =E14+G14+I14 -> 0 | L14: =F14+H14+J14 -> 0 | N14: 01010206 | P14: 010102 | R14: 4
A15: 01010207 철 거 공 사 | D15: 1 | E15: =공종별내역서!F211 -> 0 | F15: =E15*D15 -> 0 | G15: =공종별내역서!H211 -> 0 | H15: =G15*D15 -> 0 | I15: =공종별내역서!J211 -> 0 | J15: =I15*D15 -> 0 | K15: =E15+G15+I15 -> 0 | L15: =F15+H15+J15 -> 0 | N15: 01010207 | P15: 010102 | R15: 4
A16: 01010208 골 재 비 | D16: 1 | E16: =공종별내역서!F237 -> 0 | F16: =E16*D16 -> 0 | G16: =공종별내역서!H237 -> 0 | H16: =G16*D16 -> 0 | I16: =공종별내역서!J237 -> 0 | J16: =I16*D16 -> 0 | K16: =E16+G16+I16 -> 0 | L16: =F16+H16+J16 -> 0 | N16: 01010208 | P16: 010102 | R16: 4
A17: 01010209 작 업 부 산 물 | D17: 1 | E17: =공종별내역서!F263 -> 0 | F17: =E17*D17 -> 0 | G17: =공종별내역서!H263 -> 0 | H17: =G17*D17 -> 0 | I17: =공종별내역서!J263 -> 0 | J17: =I17*D17 -> 0 | K17: =E17+G17+I17 -> 0 | L17: =F17+H17+J17 -> 0 | N17: 01010209 | P17: 010102 | R17: 4
A18: 010103 00.오물처리실 8층 | D18: 1 | E18: =F19+F20+F21+F22+F23+F24+F25+F26+F27 -> 0 | F18: =E18*D18 -> 0 | G18: =H19+H20+H21+H22+H23+H24+H25+H26+H27 -> 0 | H18: =G18*D18 -> 0 | I18: =J19+J20+J21+J22+J23+J24+J25+J26+J27 -> 0 | J18: =I18*D18 -> 0 | K18: =E18+G18+I18 -> 0 | L18: =F18+H18+J18 -> 0 | N18: 010103 | P18: 0101 | R18: 3
A19: 01010301 가 설 공 사 | D19: 1 | E19: =공종별내역서!F289 -> 0 | F19: =E19*D19 -> 0 | G19: =공종별내역서!H289 -> 0 | H19: =G19*D19 -> 0 | I19: =공종별내역서!J289 -> 0 | J19: =I19*D19 -> 0 | K19: =E19+G19+I19 -> 0 | L19: =F19+H19+J19 -> 0 | N19: 01010301 | P19: 010103 | R19: 4
A20: 01010302 타 일 공 사 | D20: 1 | E20: =공종별내역서!F315 -> 0 | F20: =E20*D20 -> 0 | G20: =공종별내역서!H315 -> 0 | H20: =G20*D20 -> 0 | I20: =공종별내역서!J315 -> 0 | J20: =I20*D20 -> 0 | K20: =E20+G20+I20 -> 0 | L20: =F20+H20+J20 -> 0 | N20: 01010302 | P20: 010103 | R20: 4
A21: 01010303 목공사및수장공사 | D21: 1 | E21: =공종별내역서!F341 -> 0 | F21: =E21*D21 -> 0 | G21: =공종별내역서!H341 -> 0 | H21: =G21*D21 -> 0 | I21: =공종별내역서!J341 -> 0 | J21: =I21*D21 -> 0 | K21: =E21+G21+I21 -> 0 | L21: =F21+H21+J21 -> 0 | N21: 01010303 | P21: 010103 | R21: 4
A22: 01010304 방 수 공 사 | D22: 1 | E22: =공종별내역서!F367 -> 0 | F22: =E22*D22 -> 0 | G22: =공종별내역서!H367 -> 0 | H22: =G22*D22 -> 0 | I22: =공종별내역서!J367 -> 0 | J22: =I22*D22 -> 0 | K22: =E22+G22+I22 -> 0 | L22: =F22+H22+J22 -> 0 | N22: 01010304 | P22: 010103 | R22: 4
A23: 01010305 금 속 공 사 | D23: 1 | E23: =공종별내역서!F393 -> 0 | F23: =E23*D23 -> 0 | G23: =공종별내역서!H393 -> 0 | H23: =G23*D23 -> 0 | I23: =공종별내역서!J393 -> 0 | J23: =I23*D23 -> 0 | K23: =E23+G23+I23 -> 0 | L23: =F23+H23+J23 -> 0 | N23: 01010305 | P23: 010103 | R23: 4
A24: 01010306 창호 및 유리공사 | D24: 1 | E24: =공종별내역서!F419 -> 0 | F24: =E24*D24 -> 0 | G24: =공종별내역서!H419 -> 0 | H24: =G24*D24 -> 0 | I24: =공종별내역서!J419 -> 0 | J24: =I24*D24 -> 0 | K24: =E24+G24+I24 -> 0 | L24: =F24+H24+J24 -> 0 | N24: 01010306 | P24: 010103 | R24: 4
A25: 01010307 철 거 공 사 | D25: 1 | E25: =공종별내역서!F445 -> 0 | F25: =E25*D25 -> 0 | G25: =공종별내역서!H445 -> 0 | H25: =G25*D25 -> 0 | I25: =공종별내역서!J445 -> 0 | J25: =I25*D25 -> 0 | K25: =E25+G25+I25 -> 0 | L25: =F25+H25+J25 -> 0 | N25: 01010307 | P25: 010103 | R25: 4
A26: 01010308 골 재 비 | D26: 1 | E26: =공종별내역서!F471 -> 0 | F26: =E26*D26 -> 0 | G26: =공종별내역서!H471 -> 0 | H26: =G26*D26 -> 0 | I26: =공종별내역서!J471 -> 0 | J26: =I26*D26 -> 0 | K26: =E26+G26+I26 -> 0 | L26: =F26+H26+J26 -> 0 | N26: 01010308 | P26: 010103 | R26: 4
A27: 01010309 작 업 부 산 물 | D27: 1 | E27: =공종별내역서!F497 -> 0 | F27: =E27*D27 -> 0 | G27: =공종별내역서!H497 -> 0 | H27: =G27*D27 -> 0 | I27: =공종별내역서!J497 -> 0 | J27: =I27*D27 -> 0 | K27: =E27+G27+I27 -> 0 | L27: =F27+H27+J27 -> 0 | N27: 01010309 | P27: 010103 | R27: 4
A28: 010104 00.오물처리실 9층 | D28: 1 | E28: =F29+F30+F31+F32+F33+F34+F35+F36+F37 -> 0 | F28: =E28*D28 -> 0 | G28: =H29+H30+H31+H32+H33+H34+H35+H36+H37 -> 0 | H28: =G28*D28 -> 0 | I28: =J29+J30+J31+J32+J33+J34+J35+J36+J37 -> 0 | J28: =I28*D28 -> 0 | K28: =E28+G28+I28 -> 0 | L28: =F28+H28+J28 -> 0 | N28: 010104 | P28: 0101 | R28: 3
A29: 01010401 가 설 공 사 | D29: 1 | E29: =공종별내역서!F523 -> 0 | F29: =E29*D29 -> 0 | G29: =공종별내역서!H523 -> 0 | H29: =G29*D29 -> 0 | I29: =공종별내역서!J523 -> 0 | J29: =I29*D29 -> 0 | K29: =E29+G29+I29 -> 0 | L29: =F29+H29+J29 -> 0 | N29: 01010401 | P29: 010104 | R29: 4
A30: 01010402 타 일 공 사 | D30: 1 | E30: =공종별내역서!F549 -> 0 | F30: =E30*D30 -> 0 | G30: =공종별내역서!H549 -> 0 | H30: =G30*D30 -> 0 | I30: =공종별내역서!J549 -> 0 | J30: =I30*D30 -> 0 | K30: =E30+G30+I30 -> 0 | L30: =F30+H30+J30 -> 0 | N30: 01010402 | P30: 010104 | R30: 4
A31: 01010403 목공사및수장공사 | D31: 1 | E31: =공종별내역서!F575 -> 0 | F31: =E31*D31 -> 0 | G31: =공종별내역서!H575 -> 0 | H31: =G31*D31 -> 0 | I31: =공종별내역서!J575 -> 0 | J31: =I31*D31 -> 0 | K31: =E31+G31+I31 -> 0 | L31: =F31+H31+J31 -> 0 | N31: 01010403 | P31: 010104 | R31: 4
A32: 01010404 방 수 공 사 | D32: 1 | E32: =공종별내역서!F601 -> 0 | F32: =E32*D32 -> 0 | G32: =공종별내역서!H601 -> 0 | H32: =G32*D32 -> 0 | I32: =공종별내역서!J601 -> 0 | J32: =I32*D32 -> 0 | K32: =E32+G32+I32 -> 0 | L32: =F32+H32+J32 -> 0 | N32: 01010404 | P32: 010104 | R32: 4
A33: 01010405 금 속 공 사 | D33: 1 | E33: =공종별내역서!F627 -> 0 | F33: =E33*D33 -> 0 | G33: =공종별내역서!H627 -> 0 | H33: =G33*D33 -> 0 | I33: =공종별내역서!J627 -> 0 | J33: =I33*D33 -> 0 | K33: =E33+G33+I33 -> 0 | L33: =F33+H33+J33 -> 0 | N33: 01010405 | P33: 010104 | R33: 4
A34: 01010406 창호 및 유리공사 | D34: 1 | E34: =공종별내역서!F653 -> 0 | F34: =E34*D34 -> 0 | G34: =공종별내역서!H653 -> 0 | H34: =G34*D34 -> 0 | I34: =공종별내역서!J653 -> 0 | J34: =I34*D34 -> 0 | K34: =E34+G34+I34 -> 0 | L34: =F34+H34+J34 -> 0 | N34: 01010406 | P34: 010104 | R34: 4
A35: 01010407 철 거 공 사 | D35: 1 | E35: =공종별내역서!F679 -> 0 | F35: =E35*D35 -> 0 | G35: =공종별내역서!H679 -> 0 | H35: =G35*D35 -> 0 | I35: =공종별내역서!J679 -> 0 | J35: =I35*D35 -> 0 | K35: =E35+G35+I35 -> 0 | L35: =F35+H35+J35 -> 0 | N35: 01010407 | P35: 010104 | R35: 4
A36: 01010408 골 재 비 | D36: 1 | E36: =공종별내역서!F705 -> 0 | F36: =E36*D36 -> 0 | G36: =공종별내역서!H705 -> 0 | H36: =G36*D36 -> 0 | I36: =공종별내역서!J705 -> 0 | J36: =I36*D36 -> 0 | K36: =E36+G36+I36 -> 0 | L36: =F36+H36+J36 -> 0 | N36: 01010408 | P36: 010104 | R36: 4
A37: 01010409 작 업 부 산 물 | D37: 1 | E37: =공종별내역서!F731 -> 0 | F37: =E37*D37 -> 0 | G37: =공종별내역서!H731 -> 0 | H37: =G37*D37 -> 0 | I37: =공종별내역서!J731 -> 0 | J37: =I37*D37 -> 0 | K37: =E37+G37+I37 -> 0 | L37: =F37+H37+J37 -> 0 | N37: 01010409 | P37: 010104 | R37: 4
A38: 010105 00.오물처리실10층 | D38: 1 | E38: =F39+F40+F41+F42+F43+F44+F45+F46+F47 -> 0 | F38: =E38*D38 -> 0 | G38: =H39+H40+H41+H42+H43+H44+H45+H46+H47 -> 0 | H38: =G38*D38 -> 0 | I38: =J39+J40+J41+J42+J43+J44+J45+J46+J47 -> 0 | J38: =I38*D38 -> 0 | K38: =E38+G38+I38 -> 0 | L38: =F38+H38+J38 -> 0 | N38: 010105 | P38: 0101 | R38: 3
A39: 01010501 가 설 공 사 | D39: 1 | E39: =공종별내역서!F757 -> 0 | F39: =E39*D39 -> 0 | G39: =공종별내역서!H757 -> 0 | H39: =G39*D39 -> 0 | I39: =공종별내역서!J757 -> 0 | J39: =I39*D39 -> 0 | K39: =E39+G39+I39 -> 0 | L39: =F39+H39+J39 -> 0 | N39: 01010501 | P39: 010105 | R39: 4
A40: 01010502 타 일 공 사 | D40: 1 | E40: =공종별내역서!F783 -> 0 | F40: =E40*D40 -> 0 | G40: =공종별내역서!H783 -> 0 | H40: =G40*D40 -> 0 | I40: =공종별내역서!J783 -> 0 | J40: =I40*D40 -> 0 | K40: =E40+G40+I40 -> 0 | L40: =F40+H40+J40 -> 0 | N40: 01010502 | P40: 010105 | R40: 4
A41: 01010503 목공사및수장공사 | D41: 1 | E41: =공종별내역서!F809 -> 0 | F41: =E41*D41 -> 0 | G41: =공종별내역서!H809 -> 0 | H41: =G41*D41 -> 0 | I41: =공종별내역서!J809 -> 0 | J41: =I41*D41 -> 0 | K41: =E41+G41+I41 -> 0 | L41: =F41+H41+J41 -> 0 | N41: 01010503 | P41: 010105 | R41: 4
A42: 01010504 방 수 공 사 | D42: 1 | E42: =공종별내역서!F835 -> 0 | F42: =E42*D42 -> 0 | G42: =공종별내역서!H835 -> 0 | H42: =G42*D42 -> 0 | I42: =공종별내역서!J835 -> 0 | J42: =I42*D42 -> 0 | K42: =E42+G42+I42 -> 0 | L42: =F42+H42+J42 -> 0 | N42: 01010504 | P42: 010105 | R42: 4
A43: 01010505 금 속 공 사 | D43: 1 | E43: =공종별내역서!F861 -> 0 | F43: =E43*D43 -> 0 | G43: =공종별내역서!H861 -> 0 | H43: =G43*D43 -> 0 | I43: =공종별내역서!J861 -> 0 | J43: =I43*D43 -> 0 | K43: =E43+G43+I43 -> 0 | L43: =F43+H43+J43 -> 0 | N43: 01010505 | P43: 010105 | R43: 4
A44: 01010506 창호 및 유리공사 | D44: 1 | E44: =공종별내역서!F887 -> 0 | F44: =E44*D44 -> 0 | G44: =공종별내역서!H887 -> 0 | H44: =G44*D44 -> 0 | I44: =공종별내역서!J887 -> 0 | J44: =I44*D44 -> 0 | K44: =E44+G44+I44 -> 0 | L44: =F44+H44+J44 -> 0 | N44: 01010506 | P44: 010105 | R44: 4
A45: 01010507 철 거 공 사 | D45: 1 | E45: =공종별내역서!F913 -> 0 | F45: =E45*D45 -> 0 | G45: =공종별내역서!H913 -> 0 | H45: =G45*D45 -> 0 | I45: =공종별내역서!J913 -> 0 | J45: =I45*D45 -> 0 | K45: =E45+G45+I45 -> 0 | L45: =F45+H45+J45 -> 0 | N45: 01010507 | P45: 010105 | R45: 4
A46: 01010508 골 재 비 | D46: 1 | E46: =공종별내역서!F939 -> 0 | F46: =E46*D46 -> 0 | G46: =공종별내역서!H939 -> 0 | H46: =G46*D46 -> 0 | I46: =공종별내역서!J939 -> 0 | J46: =I46*D46 -> 0 | K46: =E46+G46+I46 -> 0 | L46: =F46+H46+J46 -> 0 | N46: 01010508 | P46: 010105 | R46: 4
A47: 01010509 작 업 부 산 물 | D47: 1 | E47: =공종별내역서!F965 -> 0 | F47: =E47*D47 -> 0 | G47: =공종별내역서!H965 -> 0 | H47: =G47*D47 -> 0 | I47: =공종별내역서!J965 -> 0 | J47: =I47*D47 -> 0 | K47: =E47+G47+I47 -> 0 | L47: =F47+H47+J47 -> 0 | N47: 01010509 | P47: 010105 | R47: 4
A48: 010106 00.오물처리실13층 | D48: 1 | E48: =F49+F50+F51+F52+F53+F54+F55+F56+F57 -> 0 | F48: =E48*D48 -> 0 | G48: =H49+H50+H51+H52+H53+H54+H55+H56+H57 -> 0 | H48: =G48*D48 -> 0 | I48: =J49+J50+J51+J52+J53+J54+J55+J56+J57 -> 0 | J48: =I48*D48 -> 0 | K48: =E48+G48+I48 -> 0 | L48: =F48+H48+J48 -> 0 | N48: 010106 | P48: 0101 | R48: 3
A49: 01010601 가 설 공 사 | D49: 1 | E49: =공종별내역서!F991 -> 0 | F49: =E49*D49 -> 0 | G49: =공종별내역서!H991 -> 0 | H49: =G49*D49 -> 0 | I49: =공종별내역서!J991 -> 0 | J49: =I49*D49 -> 0 | K49: =E49+G49+I49 -> 0 | L49: =F49+H49+J49 -> 0 | N49: 01010601 | P49: 010106 | R49: 4
A50: 01010602 타 일 공 사 | D50: 1 | E50: =공종별내역서!F1017 -> 0 | F50: =E50*D50 -> 0 | G50: =공종별내역서!H1017 -> 0 | H50: =G50*D50 -> 0 | I50: =공종별내역서!J1017 -> 0 | J50: =I50*D50 -> 0 | K50: =E50+G50+I50 -> 0 | L50: =F50+H50+J50 -> 0 | N50: 01010602 | P50: 010106 | R50: 4
A51: 01010603 목공사및수장공사 | D51: 1 | E51: =공종별내역서!F1043 -> 0 | F51: =E51*D51 -> 0 | G51: =공종별내역서!H1043 -> 0 | H51: =G51*D51 -> 0 | I51: =공종별내역서!J1043 -> 0 | J51: =I51*D51 -> 0 | K51: =E51+G51+I51 -> 0 | L51: =F51+H51+J51 -> 0 | N51: 01010603 | P51: 010106 | R51: 4
A52: 01010604 방 수 공 사 | D52: 1 | E52: =공종별내역서!F1069 -> 0 | F52: =E52*D52 -> 0 | G52: =공종별내역서!H1069 -> 0 | H52: =G52*D52 -> 0 | I52: =공종별내역서!J1069 -> 0 | J52: =I52*D52 -> 0 | K52: =E52+G52+I52 -> 0 | L52: =F52+H52+J52 -> 0 | N52: 01010604 | P52: 010106 | R52: 4
A53: 01010605 금 속 공 사 | D53: 1 | E53: =공종별내역서!F1095 -> 0 | F53: =E53*D53 -> 0 | G53: =공종별내역서!H1095 -> 0 | H53: =G53*D53 -> 0 | I53: =공종별내역서!J1095 -> 0 | J53: =I53*D53 -> 0 | K53: =E53+G53+I53 -> 0 | L53: =F53+H53+J53 -> 0 | N53: 01010605 | P53: 010106 | R53: 4
A54: 01010606 창호 및 유리공사 | D54: 1 | E54: =공종별내역서!F1121 -> 0 | F54: =E54*D54 -> 0 | G54: =공종별내역서!H1121 -> 0 | H54: =G54*D54 -> 0 | I54: =공종별내역서!J1121 -> 0 | J54: =I54*D54 -> 0 | K54: =E54+G54+I54 -> 0 | L54: =F54+H54+J54 -> 0 | N54: 01010606 | P54: 010106 | R54: 4
A55: 01010607 철 거 공 사 | D55: 1 | E55: =공종별내역서!F1147 -> 0 | F55: =E55*D55 -> 0 | G55: =공종별내역서!H1147 -> 0 | H55: =G55*D55 -> 0 | I55: =공종별내역서!J1147 -> 0 | J55: =I55*D55 -> 0 | K55: =E55+G55+I55 -> 0 | L55: =F55+H55+J55 -> 0 | N55: 01010607 | P55: 010106 | R55: 4
A56: 01010608 골 재 비 | D56: 1 | E56: =공종별내역서!F1173 -> 0 | F56: =E56*D56 -> 0 | G56: =공종별내역서!H1173 -> 0 | H56: =G56*D56 -> 0 | I56: =공종별내역서!J1173 -> 0 | J56: =I56*D56 -> 0 | K56: =E56+G56+I56 -> 0 | L56: =F56+H56+J56 -> 0 | N56: 01010608 | P56: 010106 | R56: 4
A57: 01010609 작 업 부 산 물 | D57: 1 | E57: =공종별내역서!F1199 -> 0 | F57: =E57*D57 -> 0 | G57: =공종별내역서!H1199 -> 0 | H57: =G57*D57 -> 0 | I57: =공종별내역서!J1199 -> 0 | J57: =I57*D57 -> 0 | K57: =E57+G57+I57 -> 0 | L57: =F57+H57+J57 -> 0 | N57: 01010609 | P57: 010106 | R57: 4
A58: 0102 건설폐기물처리비 | D58: 1 | E58: =F59+F60+F61+F62+F63 -> 0 | F58: =E58*D58 -> 0 | G58: =H59+H60+H61+H62+H63 -> 0 | H58: =G58*D58 -> 0 | I58: =J59+J60+J61+J62+J63 -> 0 | J58: =I58*D58 -> 0 | K58: =E58+G58+I58 -> 0 | L58: =F58+H58+J58 -> 0 | N58: 0102 | Q58: 6 | R58: 2 | T58: =L58*1 -> 0
A59: 010201 오물처리실 7층 | D59: 1 | E59: =공종별내역서!F1225 -> 0 | F59: =E59*D59 -> 0 | G59: =공종별내역서!H1225 -> 0 | H59: =G59*D59 -> 0 | I59: =공종별내역서!J1225 -> 0 | J59: =I59*D59 -> 0 | K59: =E59+G59+I59 -> 0 | L59: =F59+H59+J59 -> 0 | N59: 010201 | P59: 0102 | R59: 3
A60: 010202 오물처리실 8층 | D60: 1 | E60: =공종별내역서!F1251 -> 0 | F60: =E60*D60 -> 0 | G60: =공종별내역서!H1251 -> 0 | H60: =G60*D60 -> 0 | I60: =공종별내역서!J1251 -> 0 | J60: =I60*D60 -> 0 | K60: =E60+G60+I60 -> 0 | L60: =F60+H60+J60 -> 0 | N60: 010202 | P60: 0102 | R60: 3
A61: 010203 오물처리실 9층 | D61: 1 | E61: =공종별내역서!F1277 -> 0 | F61: =E61*D61 -> 0 | G61: =공종별내역서!H1277 -> 0 | H61: =G61*D61 -> 0 | I61: =공종별내역서!J1277 -> 0 | J61: =I61*D61 -> 0 | K61: =E61+G61+I61 -> 0 | L61: =F61+H61+J61 -> 0 | N61: 010203 | P61: 0102 | R61: 3
A62: 010204 오물처리실10층 | D62: 1 | E62: =공종별내역서!F1303 -> 0 | F62: =E62*D62 -> 0 | G62: =공종별내역서!H1303 -> 0 | H62: =G62*D62 -> 0 | I62: =공종별내역서!J1303 -> 0 | J62: =I62*D62 -> 0 | K62: =E62+G62+I62 -> 0 | L62: =F62+H62+J62 -> 0 | N62: 010204 | P62: 0102 | R62: 3
A63: 010205 오물처리실13층 | D63: 1 | E63: =공종별내역서!F1329 -> 0 | F63: =E63*D63 -> 0 | G63: =공종별내역서!H1329 -> 0 | H63: =G63*D63 -> 0 | I63: =공종별내역서!J1329 -> 0 | J63: =I63*D63 -> 0 | K63: =E63+G63+I63 -> 0 | L63: =F63+H63+J63 -> 0 | N63: 010205 | P63: 0102 | R63: 3
A76: [ 합 계 ] | F76: =F5 -> 0 | H76: =H5 -> 0 | J76: =J5 -> 0 | L76: =L5 -> 0

Sheet 공종별내역서
A1: =원가계산서!B2 -> ■ 공사명 : 병동 오물처리실 보수공사
A2: 품 명 | B2: 규 격 | C2: 단위 | D2: 수량 | E2: 재 료 비 | G2: 노 무 비 | I2: 경 비 | K2: 합 계 | M2: 비 고 | N2: 품목코드 | O2: 변수 | P2: 설정 | Q2: 공종코드 | R2: 일위 | S2: 단산 | T2: 자재 | U2: 손료적용 | V2: 손료저장 | W2: 적용율 | X2: JUK1 | Y2: JUK2 | Z2: JUK3 | AA2: JUK4 | AB2: JUK5 | AC2: JUK6 | AD2: JUK7 | AE2: JUK8 | AF2: JUK9 | AG2: JUK10 | AH2: JUK11 | AI2: JUK12 | AJ2: JUK13 | AK2: JUK14 | AL2: JUK15 | AM2: JUK16 | AN2: JUK17 | AO2: JUK18 | AP2: JUK19 | AQ2: JUK20 | AR2: 자재구분 | AS2: 공종구분 | AT2: 공종레벨 | AU2: 공종+자재 | AV2: 고유번호
E3: 단 가 | F3: 금 액 | G3: 단 가 | H3: 금 액 | I3: 단 가 | J3: 금 액 | K3: 단 가 | L3: 금 액
A4: 010101 00.공통가설공사 | Q4: 010101
A5: 강관 조립말비계(이동식)설치 및 해체 | B5: 높이 2m, 3개월 | C5: 대 | D5: 4 | F5: =TRUNC(E5*D5, 0) -> 0 | H5: =TRUNC(G5*D5, 0) -> 0 | I5: 0 | J5: =TRUNC(I5*D5, 0) -> 0 | K5: =TRUNC(E5+G5+I5, 0) -> 0 | L5: =TRUNC(F5+H5+J5, 0) -> 0 | N5: 5938C59A414FC1001E33C759DB0F85 | Q5: 010101 | R5: T | S5: F | T5: F | AU5: 0101015938C59A414FC1001E33C759DB0F85 | AV5: 4
A6: 가설칸막이/래핑칸막이 | B6: H:2,700, 설치 및 철거(재사용) | C6: M | D6: 19 | F6: =TRUNC(E6*D6, 0) -> 0 | H6: =TRUNC(G6*D6, 0) -> 0 | I6: 0 | J6: =TRUNC(I6*D6, 0) -> 0 | K6: =TRUNC(E6+G6+I6, 0) -> 0 | L6: =TRUNC(F6+H6+J6, 0) -> 0 | N6: 5938C59FC644BF00144E850A302A1579 | Q6: 010101 | R6: T | S6: F | T6: F | AU6: 0101015938C59FC644BF00144E850A302A1579 | AV6: 320
A7: 양개도어(가설칸막이용도어) | B7: 1,800*2,100 / 하드웨어 포함 | C7: EA | D7: 4 | F7: =TRUNC(E7*D7, 0) -> 0 | H7: =TRUNC(G7*D7, 0) -> 0 | I7: 0 | J7: =TRUNC(I7*D7, 0) -> 0 | K7: =TRUNC(E7+G7+I7, 0) -> 0 | L7: =TRUNC(F7+H7+J7, 0) -> 0 | N7: 5938C59FC644BF00144E850A35A8B0 | Q7: 010101 | R7: T | S7: F | T7: F | AU7: 0101015938C59FC644BF00144E850A35A8B0 | AV7: 9
Q8: 010101
Q9: 010101
Q10: 010101
Q11: 010101
Q12: 010101
Q13: 010101
Q14: 010101
Q15: 010101
Q16: 010101
Q17: 010101
Q18: 010101
Q19: 010101
... Q28: 010101
A29: [ 합 계 ] | F29: =SUMIF(Q5:Q28,"010101",F5:F28) -> 0 | H29: =SUMIF(Q5:Q28,"010101",H5:H28) -> 0 | J29: =SUMIF(Q5:Q28,"010101",J5:J28) -> 0 | L29: =SUMIF(Q5:Q28,"010101",L5:L28) -> 0 | N29: TOTAL
A30: 01010201 가 설 공 사 | Q30: 01010201
A31: 건축물 현장정리 | B31: 리모델링 및 준공청소 | C31: M2 | D31: 20 | F31: =TRUNC(E31*D31, 0) -> 0 | H31: =TRUNC(G31*D31, 0) -> 0 | J31: =TRUNC(I31*D31, 0) -> 0 | K31: =TRUNC(E31+G31+I31, 0) -> 0 | L31: =TRUNC(F31+H31+J31, 0) -> 0 | N31: 5938C59FC54A25001F745C8677B7B5 | Q31: 01010201 | R31: T | S31: F | T31: F | AU31: 010102015938C59FC54A25001F745C8677B7B5 | AV31: 5
A32: 구조부 먹매김 | B32: 일반 | C32: M2 | D32: 20 | F32: =TRUNC(E32*D32, 0) -> 0 | H32: =TRUNC(G32*D32, 0) -> 0 | J32: =TRUNC(I32*D32, 0) -> 0 | K32: =TRUNC(E32+G32+I32, 0) -> 0 | L32: =TRUNC(F32+H32+J32, 0) -> 0 | N32: 5938C59FC644BF0017024EDF0F5E05 | Q32: 01010201 | R32: T | S32: F | T32: F | AU32: 010102015938C59FC644BF0017024EDF0F5E05 | AV32: 6
A33: 건축물보양/타일및석재면 | B33: 보양지 붙이기 | C33: M2 | D33: 20 | F33: =TRUNC(E33*D33, 0) -> 0 | H33: =TRUNC(G33*D33, 0) -> 0 | J33: =TRUNC(I33*D33, 0) -> 0 | K33: =TRUNC(E33+G33+I33, 0) -> 0 | L33: =TRUNC(F33+H33+J33, 0) -> 0 | N33: 5938C59FC644BF00144FAB071ECE6A | Q33: 01010201 | R33: T | S33: F | T33: F | AU33: 010102015938C59FC644BF00144FAB071ECE6A | AV33: 7
Q34: 01010201
Q35: 01010201
Q36: 01010201
Q37: 01010201
Q38: 01010201
Q39: 01010201
Q40: 01010201
Q41: 01010201
Q42: 01010201
Q43: 01010201
Q44: 01010201
Q45: 01010201
... Q54: 01010201
A55: [ 합 계 ] | F55: =SUMIF(Q31:Q54,"01010201",F31:F54) -> 0 | H55: =SUMIF(Q31:Q54,"01010201",H31:H54) -> 0 | J55: =SUMIF(Q31:Q54,"01010201",J31:J54) -> 0 | L55: =SUMIF(Q31:Q54,"01010201",L31:L54) -> 0 | N55: TOTAL
A56: 01010202 타 일 공 사 | Q56: 01010202
A57: 도기질타일 | B57: 도기질타일, 일반색, 300*600mm | C57: M2 | D57: 100 | F57: =TRUNC(E57*D57, 0) -> 0 | H57: =TRUNC(G57*D57, 0) -> 0 | J57: =TRUNC(I57*D57, 0) -> 0 | K57: =TRUNC(E57+G57+I57, 0) -> 0 | L57: =TRUNC(F57+H57+J57, 0) -> 0 | N57: 5E12B581B141DC00180266E0259FEB4620537A | Q57: 01010202 | R57: F | S57: F | T57: T | AU57: 010102025E12B581B141DC00180266E0259FEB4620537A | AV57: 11
A58: 자기질타일 | B58: 바닥 논스립, 300*300mm | C58: M2 | D58: 22 | F58: =TRUNC(E58*D58, 0) -> 0 | H58: =TRUNC(G58*D58, 0) -> 0 | J58: =TRUNC(I58*D58, 0) -> 0 | K58: =TRUNC(E58+G58+I58, 0) -> 0 | L58: =TRUNC(F58+H58+J58, 0) -> 0 | N58: 5E12B581B141DC00180266E0259FEB43532642 | Q58: 01010202 | R58: F | S58: F | T58: T | AU58: 010102025E12B581B141DC00180266E0259FEB43532642 | AV58: 12
A59: 타일 압착 붙이기(바탕 14mm+압 6mm) | B59: 벽, 300*600(타일C, 회색줄눈) | C59: M2 | D59: 90 | F59: =TRUNC(E59*D59, 0) -> 0 | H59: =TRUNC(G59*D59, 0) -> 0 | J59: =TRUNC(I59*D59, 0) -> 0 | K59: =TRUNC(E59+G59+I59, 0) -> 0 | L59: =TRUNC(F59+H59+J59, 0) -> 0 | N59: 5938054B2E44570012332B61A44CBD | Q59: 01010202 | R59: T | S59: F | T59: F | AU59: 010102025938054B2E44570012332B61A44CBD | AV59: 13
A60: 타일 압착 붙이기(바탕 32mm+압 5mm) | B60: 바닥, 300*300(타일C, 회색줄눈) | C60: M2 | D60: 20 | F60: =TRUNC(E60*D60, 0) -> 0 | H60: =TRUNC(G60*D60, 0) -> 0 | J60: =TRUNC(I60*D60, 0) -> 0 | K60: =TRUNC(E60+G60+I60, 0) -> 0 | L60: =TRUNC(F60+H60+J60, 0) -> 0 | N60: 5938054B2C4968001DEA6F9E5950E1 | Q60: 01010202 | R60: T | S60: F | T60: F | AU60: 010102025938054B2C4968001DEA6F9E5950E1 | AV60: 15
Q61: 01010202
Q62: 01010202
Q63: 01010202
Q64: 01010202
Q65: 01010202
Q66: 01010202
Q67: 01010202
Q68: 01010202
Q69: 01010202
Q70: 01010202
Q71: 01010202
Q72: 01010202
... Q80: 01010202
A81: [ 합 계 ] | F81: =SUMIF(Q57:Q80,"01010202",F57:F80) -> 0 | H81: =SUMIF(Q57:Q80,"01010202",H57:H80) -> 0 | J81: =SUMIF(Q57:Q80,"01010202",J57:J80) -> 0 | L81: =SUMIF(Q57:Q80,"01010202",L57:L80) -> 0 | N81: TOTAL
A82: 01010203 목공사및수장공사 | Q82: 01010203
A83: 열경화성수지천장판 설치 | B83: SMC, 1.2*300*600mm | C83: M2 | D83: 20 | F83: =TRUNC(E83*D83, 0) -> 0 | H83: =TRUNC(G83*D83, 0) -> 0 | J83: =TRUNC(I83*D83, 0) -> 0 | K83: =TRUNC(E83+G83+I83, 0) -> 0 | L83: =TRUNC(F83+H83+J83, 0) -> 0 | N83: 5938259BF143A6001CFC0035E11A7C | Q83: 01010203 | R83: T | S83: F | T83: F | AU83: 010102035938259BF143A6001CFC0035E11A7C | AV83: 321
Q84: 01010203
Q85: 01010203
Q86: 01010203
Q87: 01010203
Q88: 01010203
Q89: 01010203
Q90: 01010203
Q91: 01010203
Q92: 01010203
Q93: 01010203
Q94: 01010203
Q95: 01010203
... Q106: 01010203
A107: [ 합 계 ] | F107: =SUMIF(Q83:Q106,"01010203",F83:F106) -> 0 | H107: =SUMIF(Q83:Q106,"01010203",H83:H106) -> 0 | J107: =SUMIF(Q83:Q106,"01010203",J83:J106) -> 0 | L107: =SUMIF(Q83:Q106,"01010203",L83:L106) -> 0 | N107: TOTAL
A108: 01010204 방 수 공 사 | Q108: 01010204
A109: 수용성 아크릴 우레탄 도막방수 | B109: 바닥 - 2회 도포 | C109: M2 | D109: 20 | F109: =TRUNC(E109*D109, 0) -> 0 | H109: =TRUNC(G109*D109, 0) -> 0 | J109: =TRUNC(I109*D109, 0) -> 0 | K109: =TRUNC(E109+G109+I109, 0) -> 0 | L109: =TRUNC(F109+H109+J109, 0) -> 0 | N109: 5E3DA5C3C844AA0019CE5C010F8D52137D63F9 | Q109: 01010204 | R109: F | S109: F | T109: T | AU109: 010102045E3DA5C3C844AA0019CE5C010F8D52137D63F9 | AV109: 20
A110: 수용성 아크릴 우레탄 도막방수 | B110: 벽 - 2회 도포 | C110: M2 | D110: 39 | F110: =TRUNC(E110*D110, 0) -> 0 | H110: =TRUNC(G110*D110, 0) -> 0 | J110: =TRUNC(I110*D110, 0) -> 0 | K110: =TRUNC(E110+G110+I110, 0) -> 0 | L110: =TRUNC(F110+H110+J110, 0) -> 0 | N110: 5E3DA5C3C844AA0019CE5C010F8D52137D63FA | Q110: 01010204 | R110: F | S110: F | T110: T | AU110: 010102045E3DA5C3C844AA0019CE5C010F8D52137D63FA | AV110: 21
A111: 바탕처리 | B111: 단면복구, 바닥 | C111: M2 | D111: 20 | F111: =TRUNC(E111*D111, 0) -> 0 | H111: =TRUNC(G111*D111, 0) -> 0 | J111: =TRUNC(I111*D111, 0) -> 0 | K111: =TRUNC(E111+G111+I111, 0) -> 0 | L111: =TRUNC(F111+H111+J111, 0) -> 0 | N111: 593855DF634F0C001434A6465B8E8C | Q111: 01010204 | R111: T | S111: F | T111: F | AU111: 01010204593855DF634F0C001434A6465B8E8C | AV111: 22
A112: 바탕처리 | B112: 단면복구, 수직부 | C112: M2 | D112: 39 | F112: =TRUNC(E112*D112, 0) -> 0 | H112: =TRUNC(G112*D112, 0) -> 0 | J112: =TRUNC(I112*D112, 0) -> 0 | K112: =TRUNC(E112+G112+I112, 0) -> 0 | L112: =TRUNC(F112+H112+J112, 0) -> 0 | N112: 593855DF634F0C001434A6465B8DE5 | Q112: 01010204 | R112: T | S112: F | T112: F | AU112: 01010204593855DF634F0C001434A6465B8DE5 | AV112: 23
Q113: 01010204
Q114: 01010204
Q115: 01010204
Q116: 01010204
Q117: 01010204
Q118: 01010204
Q119: 01010204
Q120: 01010204
Q121: 01010204
Q122: 01010204
Q123: 01010204
Q124: 01010204
... Q132: 01010204
A133: [ 합 계 ] | F133: =SUMIF(Q109:Q132,"01010204",F109:F132) -> 0 | H133: =SUMIF(Q109:Q132,"01010204",H109:H132) -> 0 | J133: =SUMIF(Q109:Q132,"01010204",J109:J132) -> 0 | L133: =SUMIF(Q109:Q132,"01010204",L109:L132) -> 0 | N133: TOTAL
A134: 01010205 금 속 공 사 | Q134: 01010205
A135: 의료용 손잡이/핸드레일 | B135: TSH-140, W:140mm | C135: M | D135: 6 | F135: =TRUNC(E135*D135, 0) -> 0 | H135: =TRUNC(G135*D135, 0) -> 0 | J135: =TRUNC(I135*D135, 0) -> 0 | K135: =TRUNC(E135+G135+I135, 0) -> 0 | L135: =TRUNC(F135+H135+J135, 0) -> 0 | N135: 5E6AC5F24142010011B701C3F55E7BCC13A4BD | Q135: 01010205 | R135: F | S135: F | T135: T | AU135: 010102055E6AC5F24142010011B701C3F55E7BCC13A4BD | AV135: 25
A136: 하부범퍼 | B136: TSB-150A, W:150mm | C136: M | D136: 6 | F136: =TRUNC(E136*D136, 0) -> 0 | H136: =TRUNC(G136*D136, 0) -> 0 | J136: =TRUNC(I136*D136, 0) -> 0 | K136: =TRUNC(E136+G136+I136, 0) -> 0 | L136: =TRUNC(F136+H136+J136, 0) -> 0 | N136: 5E6AC5F24142010011B701C3F55E7BCC13A7F0 | Q136: 01010205 | R136: F | S136: F | T136: T | AU136: 010102055E6AC5F24142010011B701C3F55E7BCC13A7F0 | AV136: 26
A137: 경량천장철골틀 설치 | B137: M-BAR | C137: M2 | D137: 20 | F137: =TRUNC(E137*D137, 0) -> 0 | H137: =TRUNC(G137*D137, 0) -> 0 | J137: =TRUNC(I137*D137, 0) -> 0 | K137: =TRUNC(E137+G137+I137, 0) -> 0 | L137: =TRUNC(F137+H137+J137, 0) -> 0 | N137: 5938751072439B001350DE716D6B28 | Q137: 01010205 | R137: T | S137: F | T137: F | AU137: 010102055938751072439B001350DE716D6B28 | AV137: 27
A138: 스테인리스재료분리대 | B138: 바닥, W40*H20*1.5t | C138: M | D138: 5 | F138: =TRUNC(E138*D138, 0) -> 0 | H138: =TRUNC(G138*D138, 0) -> 0 | J138: =TRUNC(I138*D138, 0) -> 0 | K138: =TRUNC(E138+G138+I138, 0) -> 0 | L138: =TRUNC(F138+H138+J138, 0) -> 0 | N138: 5938259F6A457C001FDBFA7B2B71D0 | Q138: 01010205 | R138: T | S138: F | T138: F | AU138: 010102055938259F6A457C001FDBFA7B2B71D0 | AV138: 314
A139: AL몰딩 설치 | B139: ㄷ형, 25*30*25*1.0mm | C139: M | D139: 37 | F139: =TRUNC(E139*D139, 0) -> 0 | H139: =TRUNC(G139*D139, 0) -> 0 | J139: =TRUNC(I139*D139, 0) -> 0 | K139: =TRUNC(E139+G139+I139, 0) -> 0 | L139: =TRUNC(F139+H139+J139, 0) -> 0 | N139: 593825918F42A60011522C7EE17580 | Q139: 01010205 | R139: T | S139: F | T139: F | AU139: 01010205593825918F42A60011522C7EE17580 | AV139: 28
Q140: 01010205
...

Sheet  공사설정 
A1: 이 Sheet는 수정하지 마십시요
A2: 공사구분 | B2: A | C2: 타이틀
A3: 확정내역 | B3: 원내역
A4: 자재단가적용 | B4: 5
A5: 경비단가적용 | B5: 5
A6: 품목코드형식 | B6: XXXX-XXXX-XXXXXXXXX
A7: 내역금액소수점처리 | B7: C | C7: T
A8: 일위대가내역소수점처리 | B8: C | C8: 2
A9: 단가명 | B9: 조달청가격 | C9: 거래가격 | D9: 유통물가 | E9: 물가자료 | F9: 조사가격 | G9: TTTTT
A10: 환율 | B10: 1472 | C10: 0 | D10: 0
A11: 시간당작업량 | B11: R | C11: 4
A12: 1회 사이클시간 | B12: R | C12: 4
A13: 시간당 작업사이클 | B13: R | C13: 3
A14: 일반변수 | B14: R | C14: 5
A15: 시간당 노임산출 계수 | B15: A | C15: 1/8*16/12*25/20 | D15: 1/8*16/12*25/20 | E15: 1/8*16/12*25/20 | F15: 1
A16: 재료비 할증 계수 | B16: 1.11 | C16: 1.12
A17: 노무비 할증 계수 | B17: 1 | C17: 1.5 | D17: 1.16 | E17: 1.6 | F17: 1.6 | G17: 1.6 | H17: 1.94 | I17: 1.94 | J17: 1.94 | K17: 1 | L17: 1 | M17: 1
A18: 경비 할증 계수 | B18: 1.25 | C18: 1.071
A19: 내역,일위대가 품명,규격,단위 따로적용
A20: 내역단가 소수점처리 | B20: C | C20: 1
A21: 코드 | B21: 공종구분명 | C21: 원가비목코드
A22: 1 | B22: 작 업 부 산 물 | C22: A3
A23: 2 | B23: 운 반 비 | C23: C1
A24: 3 | B24: 관 급 자 재 비 | C24: DJ
A25: 4 | B25: 사 급 자 재 비 | C25: D3
A26: 5 | B26: 외 자 재
A27: 6 | B27: 폐기물 처리비 | C27: D4
A28: 7 | B28: ...
A29: 8 | B29: ...
A30: 9 | B30: ...
A31: A | B31: ....
A32: B | B32: .....
A33: C | B33: ....
A34: D | B34: ....
A35: E | B35: ....
A36: F | B36: ....
A37: G | B37: ....
A38: H | B38: ....
A39: I | B39: ....
A40: J | B40: ....
A43: 단가 순서 | B43: 1234
