Workbook

Sheet 원가계산서
A1: 공 사 원 가 계 산 서
A2: ■ 공사명 : 병동 등 화장실 환경개선공사
A3: 구 분 비 목 | D3: 구 성 비 | E3: 금 액 | F3: 비 고 | K3: 금 액
A5: 순 공 사 원 가 | B5: 재료비 | C5: 직 접 재 료 비 | E5: =ROUNDDOWN('총괄 집계표'!E20, 0) -> 0 | G5: A1 | H5: 0 | I5: =E5 -> 0
C6: 간 접 재 료 비 | E6: =ROUNDDOWN(E5*H6, 0) -> 0 | G6: A2 | H6: 0 | I6: =E6 -> 0
C7: 작업설.부산물 등(△) | E7: ='공정별집계표(건축)'!S20 -> 0 | G7: A3 | H7: 0 | I7: =E7 -> 0
C8: 소 계 | E8: =SUM(E5:E6)-ABS(E7) -> 0 | G8: A | H8: 0 | I8: =E8 -> 0
B9: 노무비 | C9: 직 접 노 무 비 | E9: =ROUNDDOWN('총괄 집계표'!G20, 0) -> 0 | G9: B1 | H9: 0 | I9: =E9 -> 0
C10: 간 접 노 무 비 | D10: ="직.노*"&H10*100&"%" -> 직.노*17.4% | E10: =ROUNDDOWN(E9*H10, 0) -> 0 | G10: B2 | H10: 0.174 | I10: =E10 -> 0
C11: 소 계 | E11: =SUM(E9:E10) -> 0 | G11: B | H11: 0 | I11: =E11 -> 0
B12: 경 비 | C12: 기 계 경 비 | E12: =ROUNDDOWN('총괄 집계표'!I20, 0) -> 0 | G12: C4 | H12: 0 | I12: =E12 -> 0
C13: 산 재 보 험 료 | D13: ="(노)*"&H13*100&"%" -> (노)*3.56% | E13: =ROUNDDOWN((E11)*H13, 0) -> 0 | G13: C10 | H13: 0.0356 | I13: =E13 -> 0
C14: 고 용 보 험 료 | D14: ="(노)*"&H14*100&"%" -> (노)*1.01% | E14: =ROUNDDOWN((E11)*H14, 0) -> 0 | G14: C11 | H14: 0.0101 | I14: =E14 -> 0
C15: 건 강 보 험 료 | D15: ="(직.노)*"&H15*100&"%" -> (직.노)*3.595% | E15: =ROUNDDOWN((E9)*H15, 0) -> 0 | G15: C12 | H15: 0.03595 | I15: =E15 -> 0
C16: 연 금 보 험 료 | D16: ="(직.노)*"&H16*100&"%" -> (직.노)*4.75% | E16: =ROUNDDOWN((E9)*H16, 0) -> 0 | G16: C13 | H16: 0.0475 | I16: =E16 -> 0
C17: 노인 장기 요양보험료 | D17: ="(건강보험료)*"&H17*100&"%" -> (건강보험료)*13.14% | E17: =ROUNDDOWN((E15)*H17, 0) -> 0 | G17: C14 | H17: 0.1314 | I17: =E17 -> 0
C18: 퇴 직 공 제 부 금 비 | D18: ="(직.노)*"&H18*100&"%" -> (직.노)*2.3% | E18: =ROUNDDOWN((E9)*H18, 0) -> 0 | G18: C15 | H18: 0.023 | I18: =E18 -> 0
C19: 산업 안전 보건관리비 | D19: ="(재+직.노+(관급-0)/1.1)*"&H19*100&"%"&"+4,325,000 < ((재+직.노)*2.28%+4,325,000)*1.2" -> (재+직.노+(관급-0)/1.1)*2.28%+4,325,000 < ((재+직.노)*2.28%+4,325,000)*1.2 | G19: C16 | H19: 0.0228 | I19: =E19 -> 0
C20: 기 타 경 비 | D20: ="(재+노)*"&H20*100&"%" -> (재+노)*5.2% | E20: =ROUNDDOWN((E8+E11)*H20, 0) -> 0 | G20: C20 | H20: 0.052 | I20: =E20 -> 0
C21: 환 경 보 전 비 | D21: ="(재+직.노+기.경)*"&H21*100&"%" -> (재+직.노+기.경)*0.3% | E21: =ROUNDDOWN((E8+E9+E12)*H21, 0) -> 0 | G21: C25 | H21: 0.003 | I21: =E21 -> 0
C22: 건설하도급보증수수료 | D22: ="(재+직.노+기.경)*"&H22*100&"%" -> (재+직.노+기.경)*0.081% | E22: =ROUNDDOWN((E8+E9+E12)*H22, 0) -> 0 | G22: C30 | H22: 0.00081 | I22: =E22 -> 0
C23: 공사 이행 보증수수료 | D23: ="(재+직.노+기.경)*"&H23*100&"%"&"*(6/12)" -> (재+직.노+기.경)*0.0108%*(6/12) | E23: =ROUNDDOWN((E8+E9+E12)*H23*(6/12), 0) -> 0 | G23: C31 | H23: 0.000108 | I23: =E23 -> 0
C24: 건설기계대여보증수수료 | D24: ="(재+직.노+기.경)*"&H24*100&"%" -> (재+직.노+기.경)*0.07% | E24: =ROUNDDOWN((E8+E9+E12)*H24, 0) -> 0 | G24: C32 | H24: 0.0007 | I24: =E24 -> 0
C25: 안 전 관 리 비 | E25: ='공정별집계표(건축)'!AD20 -> 0 | G25: C17 | H25: 0 | I25: =E25 -> 0
C26: 품 질 관 리 비 | E26: =ROUNDDOWN('공정별집계표(건축)'!AE20, 0) -> 0 | G26: C18 | H26: 0 | I26: =E26 -> 0
C27: 임금채권분담금 | D27: ="(노)*"&H27*100&"%" -> (노)*0.09% | E27: =ROUNDDOWN((E11)*H27, 0) -> 0 | G27: C34 | H27: 0.0009 | I27: =E27 -> 0
C28: 석면분담금 | D28: ="(노)*"&H28*100&"%" -> (노)*0.006% | E28: =ROUNDDOWN((E11)*H28, 0) -> 0 | G28: C33 | H28: 6e-05 | I28: =E28 -> 0
C29: 소 계 | E29: =SUM(E12:E28) -> 0 | G29: C | H29: 0 | I29: =E29 -> 0
B30: 계 | E30: =E8+E11+E29 -> 0 | G30: X | H30: 0 | I30: =E30 -> 0
A31: 일 반 관 리 비 | D31: ="(재+노+경)*"&H31*100&"%" -> (재+노+경)*8% | E31: =ROUNDDOWN((E8+E11+E29)*H31, 0) -> 0 | G31: D | H31: 0.08 | I31: =E31 -> 0
A32: 작업설.부산물 등(△) | E32: =ROUNDDOWN('공정별집계표(건축)'!AF20+'공종별집계표(기계설비)'!L62, 0) -> 0 | G32: M2 | H32: 0 | I32: =E32 -> 0
A33: 이 윤 | D33: ="(노+경+일)*"&H33*100&"%" -> (노+경+일)*15% | E33: =ROUNDDOWN((E11+E29+E31)*H33, 0) -> 0 | G33: E | H33: 0.15 | I33: =(I11+I29+I31)*H33 -> 0
A34: 폐 기 물 처 리 비 | E34: ='공정별집계표(건축)'!W20 -> 0 | G34: L | H34: 0 | I34: =E34 -> 0
A35: 총 원 가 | E35: =SUM(E30:E34) -> 0 | G35: F | H35: 0 | I35: =SUM(I30:I34) -> 0
A36: 부 가 가 치 세 | D36: ="(총원가)*"&H36*100&"%" -> (총원가)*10% | E36: =ROUNDDOWN(((E37)/110)*10, 0)-J36 -> 0 | G36: H | H36: 0.1 | I36: =ROUNDDOWN((I35)*H36, 0)+30 -> 30
A37: 도 급 금 액 | E37: =INT(I37/1000)*1000 -> 0 | G37: Y | H37: 0 | I37: =I35+I36 -> 30
A38: 재해예방기술지도비 | E38: ='공정별집계표(건축)'!AG20 -> 0 | G38: M3 | H38: 0 | I38: =E38 -> 0
A39: 관 급 자 재 대 | E39: ='공정별집계표(건축)'!AA20 -> 0 | G39: J | H39: 0 | I39: =E39 -> 0
A40: 사 급 자 재 대 | E40: ='공정별집계표(건축)'!Z20 -> 0 | G40: K | H40: 0 | I40: =E40 -> 0
A41: 총 공 사 금 액 | E41: =ROUNDDOWN(E37+E38+E39+E40, 0) -> 0 | H41: 0 | I41: =I37+I38+I39+I40 -> 30

Sheet 총괄 집계표
A1: 공 사 집 계 표
A2: =원가계산서!A2 -> ■ 공사명 : 병동 등 화장실 환경개선공사
A3: 품 명 | B3: 단위 | C3: 수량 | D3: 재 료 비 | F3: 노 무 비 | H3: 경 비 | J3: 합 계 | L3: 비 고
D4: 단 가 | E4: 금 액 | F4: 단 가 | G4: 금 액 | H4: 단 가 | I4: 금 액 | J4: 단 가 | K4: 금 액 | M4: 손료요율 | N4: 손료구분 | O4: 적용구분 | P4: 합계구분 | Q4: 기계경비 | R4: 운반비 | S4: 작업부산물 | T4: 관급 | U4: 외주비 | V4: 장비비 | W4: 폐기물처리비 | X4: 가설비 | Y4: 잡비제외분 | Z4: 사급자재대 | AA4: 관급자재대 | AB4: 사용자항목1 | AC4: 사용자항목2 | AD4: 안전관리비 | AE4: 품질관리비 | AF4: 작업부산물(철거해체) | AG4: 재해예방기술지도비 | AH4: 사용자항목7 | AI4: 석면분담금 | AJ4: 임금채권분담금 | AK4: 사용자항목10 | AL4: 사용자항목11 | AM4: 사용자항목12 | AN4: 사용자항목13 | AO4: 사용자항목14 | AP4: 사용자항목15 | AQ4: 사용자항목16 | AR4: 사용자항목17 | AS4: 사용자항목18 | AT4: 사용자항목19 | AU4: 간접재료비 | AV4: 품목구분 | AW4: 조달코드 | AX4: 구분
A5: 1. 건축공사 | B5: 식 | C5: 1 | D5: =SUM(E6:E7) -> 0 | E5: =C5*D5 -> 0 | F5: =SUM(G6:G7) -> 0 | G5: =C5*F5 -> 0 | H5: =SUM(I6:I7) -> 0 | I5: =C5*H5 -> 0 | J5: =D5+F5+H5 -> 0 | K5: =E5+G5+I5 -> 0
A6: 01. 병동화장실 개선공사 | B6: 식 | C6: 1 | D6: ='공정별집계표(건축)'!D5 -> 0 | E6: =C6*D6 -> 0 | F6: ='공정별집계표(건축)'!F5 -> 0 | G6: =C6*F6 -> 0 | H6: ='공정별집계표(건축)'!H5 -> 0 | I6: =C6*H6 -> 0 | J6: =D6+F6+H6 -> 0 | K6: =E6+G6+I6 -> 0 | P6: 1 | Q6: =C6*#REF! -> #REF! | R6: =C6*#REF! -> #REF! | S6: =C6*#REF! -> #REF! | T6: =C6*#REF! -> #REF! | U6: =C6*#REF! -> #REF! | V6: =C6*#REF! -> #REF! | W6: =C6*#REF! -> #REF! | X6: =C6*#REF! -> #REF! | Y6: =C6*#REF! -> #REF! | Z6: =C6*#REF! -> #REF! | AA6: =C6*#REF! -> #REF! | AB6: =C6*#REF! -> #REF! | AC6: =C6*#REF! -> #REF! | AD6: =C6*#REF! -> #REF! | AE6: =C6*#REF! -> #REF! | AF6: =C6*#REF! -> #REF! | AG6: =C6*#REF! -> #REF! | AH6: =C6*#REF! -> #REF! | AI6: =C6*#REF! -> #REF! | AJ6: =C6*#REF! -> #REF! | AK6: =C6*#REF! -> #REF! | AL6: =C6*#REF! -> #REF! | AM6: =C6*#REF! -> #REF! | AN6: =C6*#REF! -> #REF! | AO6: =C6*#REF! -> #REF! | AP6: =C6*#REF! -> #REF! | AQ6: =C6*#REF! -> #REF! | AR6: =C6*#REF! -> #REF! | AS6: =C6*#REF! -> #REF! | AT6: =C6*#REF! -> #REF! | AU6: =C6*#REF! -> #REF!
A7: 02. 화장실 개선공사 | B7: 식 | C7: 1 | D7: ='공정별집계표(건축)'!D6 -> 0 | E7: =C7*D7 -> 0 | F7: ='공정별집계표(건축)'!F6 -> 0 | G7: =C7*F7 -> 0 | H7: ='공정별집계표(건축)'!I6 -> 0 | I7: =C7*H7 -> 0 | J7: =D7+F7+H7 -> 0 | K7: =E7+G7+I7 -> 0 | P7: 1 | Q7: =C7*#REF! -> #REF! | R7: =C7*#REF! -> #REF! | S7: =C7*#REF! -> #REF! | T7: =C7*#REF! -> #REF! | U7: =C7*#REF! -> #REF! | V7: =C7*#REF! -> #REF! | W7: =C7*#REF! -> #REF! | X7: =C7*#REF! -> #REF! | Y7: =C7*#REF! -> #REF! | Z7: =C7*#REF! -> #REF! | AA7: =C7*#REF! -> #REF! | AB7: =C7*#REF! -> #REF! | AC7: =C7*#REF! -> #REF! | AD7: =C7*#REF! -> #REF! | AE7: =C7*#REF! -> #REF! | AF7: =C7*#REF! -> #REF! | AG7: =C7*#REF! -> #REF! | AH7: =C7*#REF! -> #REF! | AI7: =C7*#REF! -> #REF! | AJ7: =C7*#REF! -> #REF! | AK7: =C7*#REF! -> #REF! | AL7: =C7*#REF! -> #REF! | AM7: =C7*#REF! -> #REF! | AN7: =C7*#REF! -> #REF! | AO7: =C7*#REF! -> #REF! | AP7: =C7*#REF! -> #REF! | AQ7: =C7*#REF! -> #REF! | AR7: =C7*#REF! -> #REF! | AS7: =C7*#REF! -> #REF! | AT7: =C7*#REF! -> #REF! | AU7: =C7*#REF! -> #REF!
A8: 2. 기계설비공사 | B8: 식 | C8: 1 | D8: ='공종별집계표(기계설비)'!F5 -> 0 | E8: =C8*D8 -> 0 | F8: ='공종별집계표(기계설비)'!H5 -> 0 | G8: =C8*F8 -> 0 | H8: ='공종별집계표(기계설비)'!J5 -> 0 | I8: =C8*H8 -> 0 | J8: =D8+F8+H8 -> 0 | K8: =E8+G8+I8 -> 0
A9: ='공종별집계표(기계설비)'!A62 -> 2-1. 기계설비공사 고재, 철강석, 철합금설 | B9: 식 | C9: 1 | D9: ='공종별집계표(기계설비)'!F62 -> 0 | E9: =C9*D9 -> 0 | F9: ='공종별집계표(기계설비)'!H62 -> 0 | G9: =C9*F9 -> 0 | H9: ='공종별집계표(기계설비)'!I62 -> 0 | J9: =D9+F9+H9 -> 0 | K9: =E9+G9+I9 -> 0
A20: 합 계 | E20: =E5+E8 -> 0 | G20: =G5+G8 -> 0 | I20: =I5+I8 -> 0 | K20: =E20+G20+I20 -> 0 | Q20: =SUM(Q6:Q7) -> #REF! | R20: =SUM(R6:R7) -> #REF! | S20: =SUM(S6:S7) -> #REF! | T20: =SUM(T6:T7) -> #REF! | U20: =SUM(U6:U7) -> #REF! | V20: =SUM(V6:V7) -> #REF! | W20: =SUM(W6:W7) -> #REF! | X20: =SUM(X6:X7) -> #REF! | ... AX20: =SUM(AX6:AX7) -> 0

Sheet 공정별집계표(건축)
A1: 공 사 집 계 표
A2: =원가계산서!A2 -> ■ 공사명 : 병동 등 화장실 환경개선공사
A3: 품 명 | B3: 단위 | C3: 수량 | D3: 재 료 비 | F3: 노 무 비 | H3: 경 비 | J3: 합 계 | L3: 비고
D4: 단 가 | E4: 금 액 | F4: 단 가 | G4: 금 액 | H4: 단 가 | I4: 금 액 | J4: 단 가 | K4: 금 액 | M4: 손료요율 | N4: 손료구분 | O4: 적용구분 | P4: 합계구분 | Q4: 기계경비 | R4: 운반비 | S4: 작업부산물 | T4: 관급 | U4: 외주비 | V4: 장비비 | W4: 폐기물처리비 | X4: 가설비 | Y4: 잡비제외분 | Z4: 사급자재대 | AA4: 관급자재대 | AB4: 사용자항목1 | AC4: 사용자항목2 | AD4: 안전관리비 | AE4: 품질관리비 | AF4: 작업부산물(철거해체) | AG4: 재해예방기술지도비 | AH4: 사용자항목7 | AI4: 석면분담금 | AJ4: 임금채권분담금 | AK4: 사용자항목10 | AL4: 사용자항목11 | AM4: 사용자항목12 | AN4: 사용자항목13 | AO4: 사용자항목14 | AP4: 사용자항목15 | AQ4: 사용자항목16 | AR4: 사용자항목17 | AS4: 사용자항목18 | AT4: 사용자항목19 | AU4: 간접재료비 | AV4: 품목구분 | AW4: 조달코드 | AX4: 구분
A5: 01. 병동화장실 개선공사 | B5: 식 | C5: 1 | D5: =E36 -> 0 | E5: =C5*D5 -> 0 | F5: =G36 -> 0 | G5: =C5*F5 -> 0 | H5: =I36 -> 0 | I5: =C5*H5 -> 0 | J5: =D5+F5+H5 -> 0 | K5: =E5+G5+I5 -> 0 | P5: 1 | Q5: =C5*Q36 -> 0 | R5: =C5*R36 -> 0 | S5: =C5*S36 -> 0 | T5: =C5*T36 -> 0 | U5: =C5*U36 -> 0 | V5: =C5*V36 -> 0 | W5: =C5*W36 -> 0 | X5: =C5*X36 -> 0 | Y5: =C5*Y36 -> 0 | Z5: =C5*Z36 -> 0 | AA5: =C5*AA36 -> 0 | AB5: =C5*AB36 -> 0 | AC5: =C5*AC36 -> 0 | AD5: =C5*AD36 -> 0 | AE5: =C5*AE36 -> 0 | AF5: =C5*AF36 -> 0 | AG5: =C5*AG36 -> 0 | AH5: =C5*AH36 -> 0 | AI5: =C5*AI36 -> 0 | AJ5: =C5*AJ36 -> 0 | AK5: =C5*AK36 -> 0 | AL5: =C5*AL36 -> 0 | AM5: =C5*AM36 -> 0 | AN5: =C5*AN36 -> 0 | AO5: =C5*AO36 -> 0 | AP5: =C5*AP36 -> 0 | AQ5: =C5*AQ36 -> 0 | AR5: =C5*AR36 -> 0 | AS5: =C5*AS36 -> 0 | AT5: =C5*AT36 -> 0 | AU5: =C5*AU36 -> 0
A6: 02. 화장실 개선공사 | B6: 식 | C6: 1 | D6: =E68 -> 0 | E6: =C6*D6 -> 0 | F6: =G68 -> 0 | G6: =C6*F6 -> 0 | H6: =I68 -> 0 | I6: =C6*H6 -> 0 | J6: =D6+F6+H6 -> 0 | K6: =E6+G6+I6 -> 0 | P6: 1 | Q6: =C6*Q68 -> 0 | R6: =C6*R68 -> 0 | S6: =C6*S68 -> 0 | T6: =C6*T68 -> 0 | U6: =C6*U68 -> 0 | V6: =C6*V68 -> 0 | W6: =C6*W68 -> 0 | X6: =C6*X68 -> 0 | Y6: =C6*Y68 -> 0 | Z6: =C6*Z68 -> 0 | AA6: =C6*AA68 -> 0 | AB6: =C6*AB68 -> 0 | AC6: =C6*AC68 -> 0 | AD6: =C6*AD68 -> 0 | AE6: =C6*AE68 -> 0 | AF6: =C6*AF68 -> 0 | AG6: =C6*AG68 -> 0 | AH6: =C6*AH68 -> 0 | AI6: =C6*AI68 -> 0 | AJ6: =C6*AJ68 -> 0 | AK6: =C6*AK68 -> 0 | AL6: =C6*AL68 -> 0 | AM6: =C6*AM68 -> 0 | AN6: =C6*AN68 -> 0 | AO6: =C6*AO68 -> 0 | AP6: =C6*AP68 -> 0 | AQ6: =C6*AQ68 -> 0 | AR6: =C6*AR68 -> 0 | AS6: =C6*AS68 -> 0 | AT6: =C6*AT68 -> 0 | AU6: =C6*AU68 -> 0
A20: 합 계 | E20: =SUMIF(P5:P6, "1", E5:E6) -> 0 | G20: =SUMIF(P5:P6, "1", G5:G6) -> 0 | I20: =SUMIF(P5:P6, "1", I5:I6) -> 0 | K20: =E20+G20+I20 -> 0 | Q20: =SUM(Q5:Q6) -> 0 | R20: =SUM(R5:R6) -> 0 | S20: =SUM(S5:S6) -> 0 | T20: =SUM(T5:T6) -> 0 | U20: =SUM(U5:U6) -> 0 | V20: =SUM(V5:V6) -> 0 | W20: =SUM(W5:W6) -> 0 | X20: =SUM(X5:X6) -> 0 | ... AX20: =SUM(AX5:AX6) -> 0
A21: 01. 병동화장실 개선공사
A22: 0101. 건축공사 | B22: 식 | C22: 1 | D22: =E52 -> 0 | E22: =C22*D22 -> 0 | F22: =G52 -> 0 | G22: =C22*F22 -> 0 | H22: =I52 -> 0 | I22: =C22*H22 -> 0 | J22: =D22+F22+H22 -> 0 | K22: =E22+G22+I22 -> 0 | P22: 1 | Q22: =C22*Q52 -> 0 | R22: =C22*R52 -> 0 | S22: =C22*S52 -> 0 | T22: =C22*T52 -> 0 | U22: =C22*U52 -> 0 | V22: =C22*V52 -> 0 | W22: =C22*W52 -> 0 | X22: =C22*X52 -> 0 | Y22: =C22*Y52 -> 0 | Z22: =C22*Z52 -> 0 | AA22: =C22*AA52 -> 0 | AB22: =C22*AB52 -> 0 | AC22: =C22*AC52 -> 0 | AD22: =C22*AD52 -> 0 | AE22: =C22*AE52 -> 0 | AF22: =C22*AF52 -> 0 | AG22: =C22*AG52 -> 0 | AH22: =C22*AH52 -> 0 | AI22: =C22*AI52 -> 0 | AJ22: =C22*AJ52 -> 0 | AK22: =C22*AK52 -> 0 | AL22: =C22*AL52 -> 0 | AM22: =C22*AM52 -> 0 | AN22: =C22*AN52 -> 0 | AO22: =C22*AO52 -> 0 | AP22: =C22*AP52 -> 0 | AQ22: =C22*AQ52 -> 0 | AR22: =C22*AR52 -> 0 | AS22: =C22*AS52 -> 0 | AT22: =C22*AT52 -> 0 | AU22: =C22*AU52 -> 0
A36: 합 계 | E36: =SUMIF(P22:P22, "1", E22:E22) -> 0 | G36: =SUMIF(P22:P22, "1", G22:G22) -> 0 | I36: =SUMIF(P22:P22, "1", I22:I22) -> 0 | K36: =E36+G36+I36 -> 0 | Q36: =SUM(Q22:Q22) -> 0 | R36: =SUM(R22:R22) -> 0 | S36: =SUM(S22:S22) -> 0 | T36: =SUM(T22:T22) -> 0 | U36: =SUM(U22:U22) -> 0 | V36: =SUM(V22:V22) -> 0 | W36: =SUM(W22:W22) -> 0 | X36: =SUM(X22:X22) -> 0 | ... AX36: =SUM(AX22:AX22) -> 0
A37: 0101. 건축공사
A38: 010101. 가설공사 | B38: 식 | C38: 1 | D38: ='내역서(건축)'!F20 -> 0 | E38: =C38*D38 -> 0 | F38: ='내역서(건축)'!H20 -> 0 | G38: =C38*F38 -> 0 | H38: ='내역서(건축)'!J20 -> 0 | I38: =C38*H38 -> 0 | J38: =D38+F38+H38 -> 0 | K38: =E38+G38+I38 -> 0 | P38: 1 | Q38: =C38*'내역서(건축)'!R20 -> 0 | R38: =C38*'내역서(건축)'!S20 -> 0 | S38: =C38*'내역서(건축)'!T20 -> 0 | T38: =C38*'내역서(건축)'!U20 -> 0 | U38: =C38*'내역서(건축)'!V20 -> 0 | V38: =C38*'내역서(건축)'!W20 -> 0 | W38: =C38*'내역서(건축)'!X20 -> 0 | X38: =C38*'내역서(건축)'!Y20 -> 0 | Y38: =C38*'내역서(건축)'!Z20 -> 0 | Z38: =C38*'내역서(건축)'!AA20 -> 0 | AA38: =C38*'내역서(건축)'!AB20 -> 0 | AB38: =C38*'내역서(건축)'!AC20 -> 0 | AC38: =C38*'내역서(건축)'!AD20 -> 0 | AD38: =C38*'내역서(건축)'!AE20 -> 0 | AE38: =C38*'내역서(건축)'!AF20 -> 0 | AF38: =C38*'내역서(건축)'!AG20 -> 0 | AG38: =C38*'내역서(건축)'!AH20 -> 0 | AH38: =C38*'내역서(건축)'!AI20 -> 0 | AI38: =C38*'내역서(건축)'!AJ20 -> 0 | AJ38: =C38*'내역서(건축)'!AK20 -> 0 | AK38: =C38*'내역서(건축)'!AL20 -> 0 | AL38: =C38*'내역서(건축)'!AM20 -> 0 | AM38: =C38*'내역서(건축)'!AN20 -> 0 | AN38: =C38*'내역서(건축)'!AO20 -> 0 | AO38: =C38*'내역서(건축)'!AP20 -> 0 | AP38: =C38*'내역서(건축)'!AQ20 -> 0 | AQ38: =C38*'내역서(건축)'!AR20 -> 0 | AR38: =C38*'내역서(건축)'!AS20 -> 0 | AS38: =C38*'내역서(건축)'!AT20 -> 0 | AT38: =C38*'내역서(건축)'!AU20 -> 0 | AU38: =C38*'내역서(건축)'!AV20 -> 0
A39: 010102. 철거공사 | B39: 식 | C39: 1 | D39: ='내역서(건축)'!F52 -> 0 | E39: =C39*D39 -> 0 | F39: ='내역서(건축)'!H52 -> 0 | G39: =C39*F39 -> 0 | H39: ='내역서(건축)'!J52 -> 0 | I39: =C39*H39 -> 0 | J39: =D39+F39+H39 -> 0 | K39: =E39+G39+I39 -> 0 | P39: 1 | Q39: =C39*'내역서(건축)'!R52 -> 0 | R39: =C39*'내역서(건축)'!S52 -> 0 | S39: =C39*'내역서(건축)'!T52 -> 0 | T39: =C39*'내역서(건축)'!U52 -> 0 | U39: =C39*'내역서(건축)'!V52 -> 0 | V39: =C39*'내역서(건축)'!W52 -> 0 | W39: =C39*'내역서(건축)'!X52 -> 0 | X39: =C39*'내역서(건축)'!Y52 -> 0 | Y39: =C39*'내역서(건축)'!Z52 -> 0 | Z39: =C39*'내역서(건축)'!AA52 -> 0 | AA39: =C39*'내역서(건축)'!AB52 -> 0 | AB39: =C39*'내역서(건축)'!AC52 -> 0 | AC39: =C39*'내역서(건축)'!AD52 -> 0 | AD39: =C39*'내역서(건축)'!AE52 -> 0 | AE39: =C39*'내역서(건축)'!AF52 -> 0 | AF39: =C39*'내역서(건축)'!AG52 -> 0 | AG39: =C39*'내역서(건축)'!AH52 -> 0 | AH39: =C39*'내역서(건축)'!AI52 -> 0 | AI39: =C39*'내역서(건축)'!AJ52 -> 0 | AJ39: =C39*'내역서(건축)'!AK52 -> 0 | AK39: =C39*'내역서(건축)'!AL52 -> 0 | AL39: =C39*'내역서(건축)'!AM52 -> 0 | AM39: =C39*'내역서(건축)'!AN52 -> 0 | AN39: =C39*'내역서(건축)'!AO52 -> 0 | AO39: =C39*'내역서(건축)'!AP52 -> 0 | AP39: =C39*'내역서(건축)'!AQ52 -> 0 | AQ39: =C39*'내역서(건축)'!AR52 -> 0 | AR39: =C39*'내역서(건축)'!AS52 -> 0 | AS39: =C39*'내역서(건축)'!AT52 -> 0 | AT39: =C39*'내역서(건축)'!AU52 -> 0 | AU39: =C39*'내역서(건축)'!AV52 -> 0
A40: 010103. 작업부산물(철거해체) | B40: 식 | C40: 1 | D40: ='내역서(건축)'!F68 -> 0 | E40: =C40*D40 -> 0 | F40: ='내역서(건축)'!H68 -> 0 | G40: =C40*F40 -> 0 | H40: ='내역서(건축)'!J68 -> 0 | I40: =C40*H40 -> 0 | J40: =D40+F40+H40 -> 0 | K40: =E40+G40+I40 -> 0 | L40: 합계제외 | Q40: =C40*'내역서(건축)'!R68 -> 0 | R40: =C40*'내역서(건축)'!S68 -> 0 | S40: =C40*'내역서(건축)'!T68 -> 0 | T40: =C40*'내역서(건축)'!U68 -> 0 | U40: =C40*'내역서(건축)'!V68 -> 0 | V40: =C40*'내역서(건축)'!W68 -> 0 | W40: =C40*'내역서(건축)'!X68 -> 0 | X40: =C40*'내역서(건축)'!Y68 -> 0 | Y40: =C40*'내역서(건축)'!Z68 -> 0 | Z40: =C40*'내역서(건축)'!AA68 -> 0 | AA40: =C40*'내역서(건축)'!AB68 -> 0 | AB40: =C40*'내역서(건축)'!AC68 -> 0 | AC40: =C40*'내역서(건축)'!AD68 -> 0 | AD40: =C40*'내역서(건축)'!AE68 -> 0 | AE40: =C40*'내역서(건축)'!AF68 -> 0 | AF40: =C40*'내역서(건축)'!AG68 -> 0 | AG40: =C40*'내역서(건축)'!AH68 -> 0 | AH40: =C40*'내역서(건축)'!AI68 -> 0 | AI40: =C40*'내역서(건축)'!AJ68 -> 0 | AJ40: =C40*'내역서(건축)'!AK68 -> 0 | AK40: =C40*'내역서(건축)'!AL68 -> 0 | AL40: =C40*'내역서(건축)'!AM68 -> 0 | AM40: =C40*'내역서(건축)'!AN68 -> 0 | AN40: =C40*'내역서(건축)'!AO68 -> 0 | AO40: =C40*'내역서(건축)'!AP68 -> 0 | AP40: =C40*'내역서(건축)'!AQ68 -> 0 | AQ40: =C40*'내역서(건축)'!AR68 -> 0 | AR40: =C40*'내역서(건축)'!AS68 -> 0 | AS40: =C40*'내역서(건축)'!AT68 -> 0 | AT40: =C40*'내역서(건축)'!AU68 -> 0 | AU40: =C40*'내역서(건축)'!AV68 -> 0
A41: 010104. 방수공사 | B41: 식 | C41: 1 | D41: ='내역서(건축)'!F84 -> 0 | E41: =C41*D41 -> 0 | F41: ='내역서(건축)'!H84 -> 0 | G41: =C41*F41 -> 0 | H41: ='내역서(건축)'!J84 -> 0 | I41: =C41*H41 -> 0 | J41: =D41+F41+H41 -> 0 | K41: =E41+G41+I41 -> 0 | P41: 1 | Q41: =C41*'내역서(건축)'!R84 -> 0 | R41: =C41*'내역서(건축)'!S84 -> 0 | S41: =C41*'내역서(건축)'!T84 -> 0 | T41: =C41*'내역서(건축)'!U84 -> 0 | U41: =C41*'내역서(건축)'!V84 -> 0 | V41: =C41*'내역서(건축)'!W84 -> 0 | W41: =C41*'내역서(건축)'!X84 -> 0 | X41: =C41*'내역서(건축)'!Y84 -> 0 | Y41: =C41*'내역서(건축)'!Z84 -> 0 | Z41: =C41*'내역서(건축)'!AA84 -> 0 | AA41: =C41*'내역서(건축)'!AB84 -> 0 | AB41: =C41*'내역서(건축)'!AC84 -> 0 | AC41: =C41*'내역서(건축)'!AD84 -> 0 | AD41: =C41*'내역서(건축)'!AE84 -> 0 | AE41: =C41*'내역서(건축)'!AF84 -> 0 | AF41: =C41*'내역서(건축)'!AG84 -> 0 | AG41: =C41*'내역서(건축)'!AH84 -> 0 | AH41: =C41*'내역서(건축)'!AI84 -> 0 | AI41: =C41*'내역서(건축)'!AJ84 -> 0 | AJ41: =C41*'내역서(건축)'!AK84 -> 0 | AK41: =C41*'내역서(건축)'!AL84 -> 0 | AL41: =C41*'내역서(건축)'!AM84 -> 0 | AM41: =C41*'내역서(건축)'!AN84 -> 0 | AN41: =C41*'내역서(건축)'!AO84 -> 0 | AO41: =C41*'내역서(건축)'!AP84 -> 0 | AP41: =C41*'내역서(건축)'!AQ84 -> 0 | AQ41: =C41*'내역서(건축)'!AR84 -> 0 | AR41: =C41*'내역서(건축)'!AS84 -> 0 | AS41: =C41*'내역서(건축)'!AT84 -> 0 | AT41: =C41*'내역서(건축)'!AU84 -> 0 | AU41: =C41*'내역서(건축)'!AV84 -> 0
A42: 010105. 미장공사 | B42: 식 | C42: 1 | D42: ='내역서(건축)'!F100 -> 0 | E42: =C42*D42 -> 0 | F42: ='내역서(건축)'!H100 -> 0 | G42: =C42*F42 -> 0 | H42: ='내역서(건축)'!J100 -> 0 | I42: =C42*H42 -> 0 | J42: =D42+F42+H42 -> 0 | K42: =E42+G42+I42 -> 0 | P42: 1 | Q42: =C42*'내역서(건축)'!R100 -> 0 | R42: =C42*'내역서(건축)'!S100 -> 0 | S42: =C42*'내역서(건축)'!T100 -> 0 | T42: =C42*'내역서(건축)'!U100 -> 0 | U42: =C42*'내역서(건축)'!V100 -> 0 | V42: =C42*'내역서(건축)'!W100 -> 0 | W42: =C42*'내역서(건축)'!X100 -> 0 | X42: =C42*'내역서(건축)'!Y100 -> 0 | Y42: =C42*'내역서(건축)'!Z100 -> 0 | Z42: =C42*'내역서(건축)'!AA100 -> 0 | AA42: =C42*'내역서(건축)'!AB100 -> 0 | AB42: =C42*'내역서(건축)'!AC100 -> 0 | AC42: =C42*'내역서(건축)'!AD100 -> 0 | AD42: =C42*'내역서(건축)'!AE100 -> 0 | AE42: =C42*'내역서(건축)'!AF100 -> 0 | AF42: =C42*'내역서(건축)'!AG100 -> 0 | AG42: =C42*'내역서(건축)'!AH100 -> 0 | AH42: =C42*'내역서(건축)'!AI100 -> 0 | AI42: =C42*'내역서(건축)'!AJ100 -> 0 | AJ42: =C42*'내역서(건축)'!AK100 -> 0 | AK42: =C42*'내역서(건축)'!AL100 -> 0 | AL42: =C42*'내역서(건축)'!AM100 -> 0 | AM42: =C42*'내역서(건축)'!AN100 -> 0 | AN42: =C42*'내역서(건축)'!AO100 -> 0 | AO42: =C42*'내역서(건축)'!AP100 -> 0 | AP42: =C42*'내역서(건축)'!AQ100 -> 0 | AQ42: =C42*'내역서(건축)'!AR100 -> 0 | AR42: =C42*'내역서(건축)'!AS100 -> 0 | AS42: =C42*'내역서(건축)'!AT100 -> 0 | AT42: =C42*'내역서(건축)'!AU100 -> 0 | AU42: =C42*'내역서(건축)'!AV100 -> 0
A43: 010106. 타일공사 | B43: 식 | C43: 1 | D43: ='내역서(건축)'!F116 -> 0 | E43: =C43*D43 -> 0 | F43: ='내역서(건축)'!H116 -> 0 | G43: =C43*F43 -> 0 | H43: ='내역서(건축)'!J116 -> 0 | I43: =C43*H43 -> 0 | J43: =D43+F43+H43 -> 0 | K43: =E43+G43+I43 -> 0 | P43: 1 | Q43: =C43*'내역서(건축)'!R116 -> 0 | R43: =C43*'내역서(건축)'!S116 -> 0 | S43: =C43*'내역서(건축)'!T116 -> 0 | T43: =C43*'내역서(건축)'!U116 -> 0 | U43: =C43*'내역서(건축)'!V116 -> 0 | V43: =C43*'내역서(건축)'!W116 -> 0 | W43: =C43*'내역서(건축)'!X116 -> 0 | X43: =C43*'내역서(건축)'!Y116 -> 0 | Y43: =C43*'내역서(건축)'!Z116 -> 0 | Z43: =C43*'내역서(건축)'!AA116 -> 0 | AA43: =C43*'내역서(건축)'!AB116 -> 0 | AB43: =C43*'내역서(건축)'!AC116 -> 0 | AC43: =C43*'내역서(건축)'!AD116 -> 0 | AD43: =C43*'내역서(건축)'!AE116 -> 0 | AE43: =C43*'내역서(건축)'!AF116 -> 0 | AF43: =C43*'내역서(건축)'!AG116 -> 0 | AG43: =C43*'내역서(건축)'!AH116 -> 0 | AH43: =C43*'내역서(건축)'!AI116 -> 0 | AI43: =C43*'내역서(건축)'!AJ116 -> 0 | AJ43: =C43*'내역서(건축)'!AK116 -> 0 | AK43: =C43*'내역서(건축)'!AL116 -> 0 | AL43: =C43*'내역서(건축)'!AM116 -> 0 | AM43: =C43*'내역서(건축)'!AN116 -> 0 | AN43: =C43*'내역서(건축)'!AO116 -> 0 | AO43: =C43*'내역서(건축)'!AP116 -> 0 | AP43: =C43*'내역서(건축)'!AQ116 -> 0 | AQ43: =C43*'내역서(건축)'!AR116 -> 0 | AR43: =C43*'내역서(건축)'!AS116 -> 0 | AS43: =C43*'내역서(건축)'!AT116 -> 0 | AT43: =C43*'내역서(건축)'!AU116 -> 0 | AU43: =C43*'내역서(건축)'!AV116 -> 0
A44: 010107. 창호공사 | B44: 식 | C44: 1 | D44: ='내역서(건축)'!F148 -> 0 | E44: =C44*D44 -> 0 | F44: ='내역서(건축)'!H148 -> 0 | G44: =C44*F44 -> 0 | H44: ='내역서(건축)'!J148 -> 0 | I44: =C44*H44 -> 0 | J44: =D44+F44+H44 -> 0 | K44: =E44+G44+I44 -> 0 | P44: 1 | Q44: =C44*'내역서(건축)'!R148 -> 0 | R44: =C44*'내역서(건축)'!S148 -> 0 | S44: =C44*'내역서(건축)'!T148 -> 0 | T44: =C44*'내역서(건축)'!U148 -> 0 | U44: =C44*'내역서(건축)'!V148 -> 0 | V44: =C44*'내역서(건축)'!W148 -> 0 | W44: =C44*'내역서(건축)'!X148 -> 0 | X44: =C44*'내역서(건축)'!Y148 -> 0 | Y44: =C44*'내역서(건축)'!Z148 -> 0 | Z44: =C44*'내역서(건축)'!AA148 -> 0 | AA44: =C44*'내역서(건축)'!AB148 -> 0 | AB44: =C44*'내역서(건축)'!AC148 -> 0 | AC44: =C44*'내역서(건축)'!AD148 -> 0 | AD44: =C44*'내역서(건축)'!AE148 -> 0 | AE44: =C44*'내역서(건축)'!AF148 -> 0 | AF44: =C44*'내역서(건축)'!AG148 -> 0 | AG44: =C44*'내역서(건축)'!AH148 -> 0 | AH44: =C44*'내역서(건축)'!AI148 -> 0 | AI44: =C44*'내역서(건축)'!AJ148 -> 0 | AJ44: =C44*'내역서(건축)'!AK148 -> 0 | AK44: =C44*'내역서(건축)'!AL148 -> 0 | AL44: =C44*'내역서(건축)'!AM148 -> 0 | AM44: =C44*'내역서(건축)'!AN148 -> 0 | AN44: =C44*'내역서(건축)'!AO148 -> 0 | AO44: =C44*'내역서(건축)'!AP148 -> 0 | AP44: =C44*'내역서(건축)'!AQ148 -> 0 | AQ44: =C44*'내역서(건축)'!AR148 -> 0 | AR44: =C44*'내역서(건축)'!AS148 -> 0 | AS44: =C44*'내역서(건축)'!AT148 -> 0 | AT44: =C44*'내역서(건축)'!AU148 -> 0 | AU44: =C44*'내역서(건축)'!AV148 -> 0
A45: 010108. 수장공사 | B45: 식 | C45: 1 | D45: ='내역서(건축)'!F164 -> 0 | E45: =C45*D45 -> 0 | F45: ='내역서(건축)'!H164 -> 0 | G45: =C45*F45 -> 0 | H45: ='내역서(건축)'!J164 -> 0 | I45: =C45*H45 -> 0 | J45: =D45+F45+H45 -> 0 | K45: =E45+G45+I45 -> 0 | P45: 1 | Q45: =C45*'내역서(건축)'!R164 -> 0 | R45: =C45*'내역서(건축)'!S164 -> 0 | S45: =C45*'내역서(건축)'!T164 -> 0 | T45: =C45*'내역서(건축)'!U164 -> 0 | U45: =C45*'내역서(건축)'!V164 -> 0 | V45: =C45*'내역서(건축)'!W164 -> 0 | W45: =C45*'내역서(건축)'!X164 -> 0 | X45: =C45*'내역서(건축)'!Y164 -> 0 | Y45: =C45*'내역서(건축)'!Z164 -> 0 | Z45: =C45*'내역서(건축)'!AA164 -> 0 | AA45: =C45*'내역서(건축)'!AB164 -> 0 | AB45: =C45*'내역서(건축)'!AC164 -> 0 | AC45: =C45*'내역서(건축)'!AD164 -> 0 | AD45: =C45*'내역서(건축)'!AE164 -> 0 | AE45: =C45*'내역서(건축)'!AF164 -> 0 | AF45: =C45*'내역서(건축)'!AG164 -> 0 | AG45: =C45*'내역서(건축)'!AH164 -> 0 | AH45: =C45*'내역서(건축)'!AI164 -> 0 | AI45: =C45*'내역서(건축)'!AJ164 -> 0 | AJ45: =C45*'내역서(건축)'!AK164 -> 0 | AK45: =C45*'내역서(건축)'!AL164 -> 0 | AL45: =C45*'내역서(건축)'!AM164 -> 0 | AM45: =C45*'내역서(건축)'!AN164 -> 0 | AN45: =C45*'내역서(건축)'!AO164 -> 0 | AO45: =C45*'내역서(건축)'!AP164 -> 0 | AP45: =C45*'내역서(건축)'!AQ164 -> 0 | AQ45: =C45*'내역서(건축)'!AR164 -> 0 | AR45: =C45*'내역서(건축)'!AS164 -> 0 | AS45: =C45*'내역서(건축)'!AT164 -> 0 | AT45: =C45*'내역서(건축)'!AU164 -> 0 | AU45: =C45*'내역서(건축)'!AV164 -> 0
A46: 010109. 금속공사 | B46: 식 | C46: 1 | D46: ='내역서(건축)'!F180 -> 0 | E46: =C46*D46 -> 0 | F46: ='내역서(건축)'!H180 -> 0 | G46: =C46*F46 -> 0 | H46: ='내역서(건축)'!J180 -> 0 | I46: =C46*H46 -> 0 | J46: =D46+F46+H46 -> 0 | K46: =E46+G46+I46 -> 0 | P46: 1 | Q46: =C46*'내역서(건축)'!R180 -> 0 | R46: =C46*'내역서(건축)'!S180 -> 0 | S46: =C46*'내역서(건축)'!T180 -> 0 | T46: =C46*'내역서(건축)'!U180 -> 0 | U46: =C46*'내역서(건축)'!V180 -> 0 | V46: =C46*'내역서(건축)'!W180 -> 0 | W46: =C46*'내역서(건축)'!X180 -> 0 | X46: =C46*'내역서(건축)'!Y180 -> 0 | Y46: =C46*'내역서(건축)'!Z180 -> 0 | Z46: =C46*'내역서(건축)'!AA180 -> 0 | AA46: =C46*'내역서(건축)'!AB180 -> 0 | AB46: =C46*'내역서(건축)'!AC180 -> 0 | AC46: =C46*'내역서(건축)'!AD180 -> 0 | AD46: =C46*'내역서(건축)'!AE180 -> 0 | AE46: =C46*'내역서(건축)'!AF180 -> 0 | AF46: =C46*'내역서(건축)'!AG180 -> 0 | AG46: =C46*'내역서(건축)'!AH180 -> 0 | AH46: =C46*'내역서(건축)'!AI180 -> 0 | AI46: =C46*'내역서(건축)'!AJ180 -> 0 | AJ46: =C46*'내역서(건축)'!AK180 -> 0 | AK46: =C46*'내역서(건축)'!AL180 -> 0 | AL46: =C46*'내역서(건축)'!AM180 -> 0 | AM46: =C46*'내역서(건축)'!AN180 -> 0 | AN46: =C46*'내역서(건축)'!AO180 -> 0 | AO46: =C46*'내역서(건축)'!AP180 -> 0 | AP46: =C46*'내역서(건축)'!AQ180 -> 0 | AQ46: =C46*'내역서(건축)'!AR180 -> 0 | AR46: =C46*'내역서(건축)'!AS180 -> 0 | AS46: =C46*'내역서(건축)'!AT180 -> 0 | AT46: =C46*'내역서(건축)'!AU180 -> 0 | AU46: =C46*'내역서(건축)'!AV180 -> 0
A47: 010110. 도장공사 | B47: 식 | C47: 1 | D47: ='내역서(건축)'!F196 -> 0 | E47: =C47*D47 -> 0 | F47: ='내역서(건축)'!H196 -> 0 | G47: =C47*F47 -> 0 | H47: ='내역서(건축)'!J196 -> 0 | I47: =C47*H47 -> 0 | J47: =D47+F47+H47 -> 0 | K47: =E47+G47+I47 -> 0 | P47: 1 | Q47: =C47*'내역서(건축)'!R196 -> 0 | R47: =C47*'내역서(건축)'!S196 -> 0 | S47: =C47*'내역서(건축)'!T196 -> 0 | T47: =C47*'내역서(건축)'!U196 -> 0 | U47: =C47*'내역서(건축)'!V196 -> 0 | V47: =C47*'내역서(건축)'!W196 -> 0 | W47: =C47*'내역서(건축)'!X196 -> 0 | X47: =C47*'내역서(건축)'!Y196 -> 0 | Y47: =C47*'내역서(건축)'!Z196 -> 0 | Z47: =C47*'내역서(건축)'!AA196 -> 0 | AA47: =C47*'내역서(건축)'!AB196 -> 0 | AB47: =C47*'내역서(건축)'!AC196 -> 0 | AC47: =C47*'내역서(건축)'!AD196 -> 0 | AD47: =C47*'내역서(건축)'!AE196 -> 0 | AE47: =C47*'내역서(건축)'!AF196 -> 0 | AF47: =C47*'내역서(건축)'!AG196 -> 0 | AG47: =C47*'내역서(건축)'!AH196 -> 0 | AH47: =C47*'내역서(건축)'!AI196 -> 0 | AI47: =C47*'내역서(건축)'!AJ196 -> 0 | AJ47: =C47*'내역서(건축)'!AK196 -> 0 | AK47: =C47*'내역서(건축)'!AL196 -> 0 | AL47: =C47*'내역서(건축)'!AM196 -> 0 | AM47: =C47*'내역서(건축)'!AN196 -> 0 | AN47: =C47*'내역서(건축)'!AO196 -> 0 | AO47: =C47*'내역서(건축)'!AP196 -> 0 | AP47: =C47*'내역서(건축)'!AQ196 -> 0 | AQ47: =C47*'내역서(건축)'!AR196 -> 0 | AR47: =C47*'내역서(건축)'!AS196 -> 0 | AS47: =C47*'내역서(건축)'!AT196 -> 0 | AT47: =C47*'내역서(건축)'!AU196 -> 0 | AU47: =C47*'내역서(건축)'!AV196 -> 0
A48: 010111. 품질관리비 | B48: 식 | C48: 1 | D48: ='내역서(건축)'!F228 -> 0 | E48: =C48*D48 -> 0 | F48: ='내역서(건축)'!H228 -> 0 | G48: =C48*F48 -> 0 | H48: ='내역서(건축)'!J228 -> 0 | I48: =C48*H48 -> 0 | J48: =D48+F48+H48 -> 0 | K48: =E48+G48+I48 -> 0 | L48: 합계제외 | Q48: =C48*'내역서(건축)'!R228 -> 0 | R48: =C48*'내역서(건축)'!S228 -> 0 | S48: =C48*'내역서(건축)'!T228 -> 0 | T48: =C48*'내역서(건축)'!U228 -> 0 | U48: =C48*'내역서(건축)'!V228 -> 0 | V48: =C48*'내역서(건축)'!W228 -> 0 | W48: =C48*'내역서(건축)'!X228 -> 0 | X48: =C48*'내역서(건축)'!Y228 -> 0 | Y48: =C48*'내역서(건축)'!Z228 -> 0 | Z48: =C48*'내역서(건축)'!AA228 -> 0 | AA48: =C48*'내역서(건축)'!AB228 -> 0 | AB48: =C48*'내역서(건축)'!AC228 -> 0 | AC48: =C48*'내역서(건축)'!AD228 -> 0 | AD48: =C48*'내역서(건축)'!AE228 -> 0 | AE48: =C48*'내역서(건축)'!AF228 -> 0 | AF48: =C48*'내역서(건축)'!AG228 -> 0 | AG48: =C48*'내역서(건축)'!AH228 -> 0 | AH48: =C48*'내역서(건축)'!AI228 -> 0 | AI48: =C48*'내역서(건축)'!AJ228 -> 0 | AJ48: =C48*'내역서(건축)'!AK228 -> 0 | AK48: =C48*'내역서(건축)'!AL228 -> 0 | AL48: =C48*'내역서(건축)'!AM228 -> 0 | AM48: =C48*'내역서(건축)'!AN228 -> 0 | AN48: =C48*'내역서(건축)'!AO228 -> 0 | AO48: =C48*'내역서(건축)'!AP228 -> 0 | AP48: =C48*'내역서(건축)'!AQ228 -> 0 | AQ48: =C48*'내역서(건축)'!AR228 -> 0 | AR48: =C48*'내역서(건축)'!AS228 -> 0 | AS48: =C48*'내역서(건축)'!AT228 -> 0 | AT48: =C48*'내역서(건축)'!AU228 -> 0 | AU48: =C48*'내역서(건축)'!AV228 -> 0
A52: 합 계 | E52: =SUMIF(P38:P48, "1", E38:E48) -> 0 | G52: =SUMIF(P38:P48, "1", G38:G48) -> 0 | I52: =SUMIF(P38:P48, "1", I38:I48) -> 0 | K52: =E52+G52+I52 -> 0 | Q52: =SUM(Q38:Q48) -> 0 | R52: =SUM(R38:R48) -> 0 | S52: =SUM(S38:S48) -> 0 | T52: =SUM(T38:T48) -> 0 | U52: =SUM(U38:U48) -> 0 | V52: =SUM(V38:V48) -> 0 | W52: =SUM(W38:W48) -> 0 | X52: =SUM(X38:X48) -> 0 | ... AX52: =SUM(AX38:AX48) -> 0
A53: 02. 공용화장실 개선공사
A54: 0201. 건축공사 | B54: 식 | C54: 1 | D54: =E84 -> 0 | E54: =C54*D54 -> 0 | F54: =G84 -> 0 | G54: =C54*F54 -> 0 | H54: =I84 -> 0 | I54: =C54*H54 -> 0 | J54: =D54+F54+H54 -> 0 | K54: =E54+G54+I54 -> 0 | P54: 1 | Q54: =C54*Q84 -> 0 | R54: =C54*R84 -> 0 | S54: =C54*S84 -> 0 | T54: =C54*T84 -> 0 | U54: =C54*U84 -> 0 | V54: =C54*V84 -> 0 | W54: =C54*W84 -> 0 | X54: =C54*X84 -> 0 | Y54: =C54*Y84 -> 0 | Z54: =C54*Z84 -> 0 | AA54: =C54*AA84 -> 0 | AB54: =C54*AB84 -> 0 | AC54: =C54*AC84 -> 0 | AD54: =C54*AD84 -> 0 | AE54: =C54*AE84 -> 0 | AF54: =C54*AF84 -> 0 | AG54: =C54*AG84 -> 0 | AH54: =C54*AH84 -> 0 | AI54: =C54*AI84 -> 0 | AJ54: =C54*AJ84 -> 0 | AK54: =C54*AK84 -> 0 | AL54: =C54*AL84 -> 0 | AM54: =C54*AM84 -> 0 | AN54: =C54*AN84 -> 0 | AO54: =C54*AO84 -> 0 | AP54: =C54*AP84 -> 0 | AQ54: =C54*AQ84 -> 0 | AR54: =C54*AR84 -> 0 | AS54: =C54*AS84 -> 0 | AT54: =C54*AT84 -> 0 | AU54: =C54*AU84 -> 0
A68: 합 계 | E68: =SUMIF(P54:P54, "1", E54:E54) -> 0 | G68: =SUMIF(P54:P54, "1", G54:G54) -> 0 | I68: =SUMIF(P54:P54, "1", I54:I54) -> 0 | K68: =E68+G68+I68 -> 0 | Q68: =SUM(Q54:Q54) -> 0 | R68: =SUM(R54:R54) -> 0 | S68: =SUM(S54:S54) -> 0 | T68: =SUM(T54:T54) -> 0 | U68: =SUM(U54:U54) -> 0 | V68: =SUM(V54:V54) -> 0 | W68: =SUM(W54:W54) -> 0 | X68: =SUM(X54:X54) -> 0 | ... AX68: =SUM(AX54:AX54) -> 0
A69: 0201. 건축공사
A70: 020101. 가설공사 | B70: 식 | C70: 1 | D70: ='내역서(건축)'!F244 -> 0 | E70: =C70*D70 -> 0 | F70: ='내역서(건축)'!H244 -> 0 | G70: =C70*F70 -> 0 | H70: ='내역서(건축)'!J244 -> 0 | I70: =C70*H70 -> 0 | J70: =D70+F70+H70 -> 0 | K70: =E70+G70+I70 -> 0 | P70: 1 | Q70: =C70*'내역서(건축)'!R244 -> 0 | R70: =C70*'내역서(건축)'!S244 -> 0 | S70: =C70*'내역서(건축)'!T244 -> 0 | T70: =C70*'내역서(건축)'!U244 -> 0 | U70: =C70*'내역서(건축)'!V244 -> 0 | V70: =C70*'내역서(건축)'!W244 -> 0 | W70: =C70*'내역서(건축)'!X244 -> 0 | X70: =C70*'내역서(건축)'!Y244 -> 0 | Y70: =C70*'내역서(건축)'!Z244 -> 0 | Z70: =C70*'내역서(건축)'!AA244 -> 0 | AA70: =C70*'내역서(건축)'!AB244 -> 0 | AB70: =C70*'내역서(건축)'!AC244 -> 0 | AC70: =C70*'내역서(건축)'!AD244 -> 0 | AD70: =C70*'내역서(건축)'!AE244 -> 0 | AE70: =C70*'내역서(건축)'!AF244 -> 0 | AF70: =C70*'내역서(건축)'!AG244 -> 0 | AG70: =C70*'내역서(건축)'!AH244 -> 0 | AH70: =C70*'내역서(건축)'!AI244 -> 0 | AI70: =C70*'내역서(건축)'!AJ244 -> 0 | AJ70: =C70*'내역서(건축)'!AK244 -> 0 | AK70: =C70*'내역서(건축)'!AL244 -> 0 | AL70: =C70*'내역서(건축)'!AM244 -> 0 | AM70: =C70*'내역서(건축)'!AN244 -> 0 | AN70: =C70*'내역서(건축)'!AO244 -> 0 | AO70: =C70*'내역서(건축)'!AP244 -> 0 | AP70: =C70*'내역서(건축)'!AQ244 -> 0 | AQ70: =C70*'내역서(건축)'!AR244 -> 0 | AR70: =C70*'내역서(건축)'!AS244 -> 0 | AS70: =C70*'내역서(건축)'!AT244 -> 0 | AT70: =C70*'내역서(건축)'!AU244 -> 0 | AU70: =C70*'내역서(건축)'!AV244 -> 0
A71: 020102. 작업부산물(철거해체) | B71: 식 | C71: 1 | D71: ='내역서(건축)'!F260 -> 0 | E71: =C71*D71 -> 0 | F71: ='내역서(건축)'!H260 -> 0 | G71: =C71*F71 -> 0 | H71: ='내역서(건축)'!J260 -> 0 | I71: =C71*H71 -> 0 | J71: =D71+F71+H71 -> 0 | K71: =E71+G71+I71 -> 0 | L71: 합계제외 | Q71: =C71*'내역서(건축)'!R260 -> 0 | R71: =C71*'내역서(건축)'!S260 -> 0 | S71: =C71*'내역서(건축)'!T260 -> 0 | T71: =C71*'내역서(건축)'!U260 -> 0 | U71: =C71*'내역서(건축)'!V260 -> 0 | V71: =C71*'내역서(건축)'!W260 -> 0 | W71: =C71*'내역서(건축)'!X260 -> 0 | X71: =C71*'내역서(건축)'!Y260 -> 0 | Y71: =C71*'내역서(건축)'!Z260 -> 0 | Z71: =C71*'내역서(건축)'!AA260 -> 0 | AA71: =C71*'내역서(건축)'!AB260 -> 0 | AB71: =C71*'내역서(건축)'!AC260 -> 0 | AC71: =C71*'내역서(건축)'!AD260 -> 0 | AD71: =C71*'내역서(건축)'!AE260 -> 0 | AE71: =C71*'내역서(건축)'!AF260 -> 0 | AF71: =C71*'내역서(건축)'!AG260 -> 0 | AG71: =C71*'내역서(건축)'!AH260 -> 0 | AH71: =C71*'내역서(건축)'!AI260 -> 0 | AI71: =C71*'내역서(건축)'!AJ260 -> 0 | AJ71: =C71*'내역서(건축)'!AK260 -> 0 | AK71: =C71*'내역서(건축)'!AL260 -> 0 | AL71: =C71*'내역서(건축)'!AM260 -> 0 | AM71: =C71*'내역서(건축)'!AN260 -> 0 | AN71: =C71*'내역서(건축)'!AO260 -> 0 | AO71: =C71*'내역서(건축)'!AP260 -> 0 | AP71: =C71*'내역서(건축)'!AQ260 -> 0 | AQ71: =C71*'내역서(건축)'!AR260 -> 0 | AR71: =C71*'내역서(건축)'!AS260 -> 0 | AS71: =C71*'내역서(건축)'!AT260 -> 0 | AT71: =C71*'내역서(건축)'!AU260 -> 0 | AU71: =C71*'내역서(건축)'!AV260 -> 0
A72: 020103. 철거공사 | B72: 식 | C72: 1 | D72: ='내역서(건축)'!F276 -> 0 | E72: =C72*D72 -> 0 | F72: ='내역서(건축)'!H276 -> 0 | G72: =C72*F72 -> 0 | H72: ='내역서(건축)'!J276 -> 0 | I72: =C72*H72 -> 0 | J72: =D72+F72+H72 -> 0 | K72: =E72+G72+I72 -> 0 | P72: 1 | Q72: =C72*'내역서(건축)'!R276 -> 0 | R72: =C72*'내역서(건축)'!S276 -> 0 | S72: =C72*'내역서(건축)'!T276 -> 0 | T72: =C72*'내역서(건축)'!U276 -> 0 | U72: =C72*'내역서(건축)'!V276 -> 0 | V72: =C72*'내역서(건축)'!W276 -> 0 | W72: =C72*'내역서(건축)'!X276 -> 0 | X72: =C72*'내역서(건축)'!Y276 -> 0 | Y72: =C72*'내역서(건축)'!Z276 -> 0 | Z72: =C72*'내역서(건축)'!AA276 -> 0 | AA72: =C72*'내역서(건축)'!AB276 -> 0 | AB72: =C72*'내역서(건축)'!AC276 -> 0 | AC72: =C72*'내역서(건축)'!AD276 -> 0 | AD72: =C72*'내역서(건축)'!AE276 -> 0 | AE72: =C72*'내역서(건축)'!AF276 -> 0 | AF72: =C72*'내역서(건축)'!AG276 -> 0 | AG72: =C72*'내역서(건축)'!AH276 -> 0 | AH72: =C72*'내역서(건축)'!AI276 -> 0 | AI72: =C72*'내역서(건축)'!AJ276 -> 0 | AJ72: =C72*'내역서(건축)'!AK276 -> 0 | AK72: =C72*'내역서(건축)'!AL276 -> 0 | AL72: =C72*'내역서(건축)'!AM276 -> 0 | AM72: =C72*'내역서(건축)'!AN276 -> 0 | AN72: =C72*'내역서(건축)'!AO276 -> 0 | AO72: =C72*'내역서(건축)'!AP276 -> 0 | AP72: =C72*'내역서(건축)'!AQ276 -> 0 | AQ72: =C72*'내역서(건축)'!AR276 -> 0 | AR72: =C72*'내역서(건축)'!AS276 -> 0 | AS72: =C72*'내역서(건축)'!AT276 -> 0 | AT72: =C72*'내역서(건축)'!AU276 -> 0 | AU72: =C72*'내역서(건축)'!AV276 -> 0
A73: 020104. 방수공사 | B73: 식 | C73: 1 | D73: ='내역서(건축)'!F292 -> 0 | E73: =C73*D73 -> 0 | F73: ='내역서(건축)'!H292 -> 0 | G73: =C73*F73 -> 0 | H73: ='내역서(건축)'!J292 -> 0 | I73: =C73*H73 -> 0 | J73: =D73+F73+H73 -> 0 | K73: =E73+G73+I73 -> 0 | P73: 1 | Q73: =C73*'내역서(건축)'!R292 -> 0 | R73: =C73*'내역서(건축)'!S292 -> 0 | S73: =C73*'내역서(건축)'!T292 -> 0 | T73: =C73*'내역서(건축)'!U292 -> 0 | U73: =C73*'내역서(건축)'!V292 -> 0 | V73: =C73*'내역서(건축)'!W292 -> 0 | W73: =C73*'내역서(건축)'!X292 -> 0 | X73: =C73*'내역서(건축)'!Y292 -> 0 | Y73: =C73*'내역서(건축)'!Z292 -> 0 | Z73: =C73*'내역서(건축)'!AA292 -> 0 | AA73: =C73*'내역서(건축)'!AB292 -> 0 | AB73: =C73*'내역서(건축)'!AC292 -> 0 | AC73: =C73*'내역서(건축)'!AD292 -> 0 | AD73: =C73*'내역서(건축)'!AE292 -> 0 | AE73: =C73*'내역서(건축)'!AF292 -> 0 | AF73: =C73*'내역서(건축)'!AG292 -> 0 | AG73: =C73*'내역서(건축)'!AH292 -> 0 | AH73: =C73*'내역서(건축)'!AI292 -> 0 | AI73: =C73*'내역서(건축)'!AJ292 -> 0 | AJ73: =C73*'내역서(건축)'!AK292 -> 0 | AK73: =C73*'내역서(건축)'!AL292 -> 0 | AL73: =C73*'내역서(건축)'!AM292 -> 0 | AM73: =C73*'내역서(건축)'!AN292 -> 0 | AN73: =C73*'내역서(건축)'!AO292 -> 0 | AO73: =C73*'내역서(건축)'!AP292 -> 0 | AP73: =C73*'내역서(건축)'!AQ292 -> 0 | AQ73: =C73*'내역서(건축)'!AR292 -> 0 | AR73: =C73*'내역서(건축)'!AS292 -> 0 | AS73: =C73*'내역서(건축)'!AT292 -> 0 | AT73: =C73*'내역서(건축)'!AU292 -> 0 | AU73: =C73*'내역서(건축)'!AV292 -> 0
A74: 020105. 미장공사 | B74: 식 | C74: 1 | D74: ='내역서(건축)'!F308 -> 0 | E74: =C74*D74 -> 0 | F74: ='내역서(건축)'!H308 -> 0 | G74: =C74*F74 -> 0 | H74: ='내역서(건축)'!J308 -> 0 | I74: =C74*H74 -> 0 | J74: =D74+F74+H74 -> 0 | K74: =E74+G74+I74 -> 0 | P74: 1 | Q74: =C74*'내역서(건축)'!R308 -> 0 | R74: =C74*'내역서(건축)'!S308 -> 0 | S74: =C74*'내역서(건축)'!T308 -> 0 | T74: =C74*'내역서(건축)'!U308 -> 0 | U74: =C74*'내역서(건축)'!V308 -> 0 | V74: =C74*'내역서(건축)'!W308 -> 0 | W74: =C74*'내역서(건축)'!X308 -> 0 | X74: =C74*'내역서(건축)'!Y308 -> 0 | Y74: =C74*'내역서(건축)'!Z308 -> 0 | Z74: =C74*'내역서(건축)'!AA308 -> 0 | AA74: =C74*'내역서(건축)'!AB308 -> 0 | AB74: =C74*'내역서(건축)'!AC308 -> 0 | AC74: =C74*'내역서(건축)'!AD308 -> 0 | AD74: =C74*'내역서(건축)'!AE308 -> 0 | AE74: =C74*'내역서(건축)'!AF308 -> 0 | AF74: =C74*'내역서(건축)'!AG308 -> 0 | AG74: =C74*'내역서(건축)'!AH308 -> 0 | AH74: =C74*'내역서(건축)'!AI308 -> 0 | AI74: =C74*'내역서(건축)'!AJ308 -> 0 | AJ74: =C74*'내역서(건축)'!AK308 -> 0 | AK74: =C74*'내역서(건축)'!AL308 -> 0 | AL74: =C74*'내역서(건축)'!AM308 -> 0 | AM74: =C74*'내역서(건축)'!AN308 -> 0 | AN74: =C74*'내역서(건축)'!AO308 -> 0 | AO74: =C74*'내역서(건축)'!AP308 -> 0 | AP74: =C74*'내역서(건축)'!AQ308 -> 0 | AQ74: =C74*'내역서(건축)'!AR308 -> 0 | AR74: =C74*'내역서(건축)'!AS308 -> 0 | AS74: =C74*'내역서(건축)'!AT308 -> 0 | AT74: =C74*'내역서(건축)'!AU308 -> 0 | AU74: =C74*'내역서(건축)'!AV308 -> 0
A75: 020106. 타일공사 | B75: 식 | C75: 1 | D75: ='내역서(건축)'!F324 -> 0 | E75: =C75*D75 -> 0 | F75: ='내역서(건축)'!H324 -> 0 | G75: =C75*F75 -> 0 | H75: ='내역서(건축)'!J324 -> 0 | I75: =C75*H75 -> 0 | J75: =D75+F75+H75 -> 0 | K75: =E75+G75+I75 -> 0 | P75: 1 | Q75: =C75*'내역서(건축)'!R324 -> 0 | R75: =C75*'내역서(건축)'!S324 -> 0 | S75: =C75*'내역서(건축)'!T324 -> 0 | T75: =C75*'내역서(건축)'!U324 -> 0 | U75: =C75*'내역서(건축)'!V324 -> 0 | V75: =C75*'내역서(건축)'!W324 -> 0 | W75: =C75*'내역서(건축)'!X324 -> 0 | X75: =C75*'내역서(건축)'!Y324 -> 0 | Y75: =C75*'내역서(건축)'!Z324 -> 0 | Z75: =C75*'내역서(건축)'!AA324 -> 0 | AA75: =C75*'내역서(건축)'!AB324 -> 0 | AB75: =C75*'내역서(건축)'!AC324 -> 0 | AC75: =C75*'내역서(건축)'!AD324 -> 0 | AD75: =C75*'내역서(건축)'!AE324 -> 0 | AE75: =C75*'내역서(건축)'!AF324 -> 0 | AF75: =C75*'내역서(건축)'!AG324 -> 0 | AG75: =C75*'내역서(건축)'!AH324 -> 0 | AH75: =C75*'내역서(건축)'!AI324 -> 0 | AI75: =C75*'내역서(건축)'!AJ324 -> 0 | AJ75: =C75*'내역서(건축)'!AK324 -> 0 | AK75: =C75*'내역서(건축)'!AL324 -> 0 | AL75: =C75*'내역서(건축)'!AM324 -> 0 | AM75: =C75*'내역서(건축)'!AN324 -> 0 | AN75: =C75*'내역서(건축)'!AO324 -> 0 | AO75: =C75*'내역서(건축)'!AP324 -> 0 | AP75: =C75*'내역서(건축)'!AQ324 -> 0 | AQ75: =C75*'내역서(건축)'!AR324 -> 0 | AR75: =C75*'내역서(건축)'!AS324 -> 0 | AS75: =C75*'내역서(건축)'!AT324 -> 0 | AT75: =C75*'내역서(건축)'!AU324 -> 0 | AU75: =C75*'내역서(건축)'!AV324 -> 0
A76: 020107. 수장공사 | B76: 식 | C76: 1 | D76: ='내역서(건축)'!F340 -> 0 | E76: =C76*D76 -> 0 | F76: ='내역서(건축)'!H340 -> 0 | G76: =C76*F76 -> 0 | H76: ='내역서(건축)'!J340 -> 0 | I76: =C76*H76 -> 0 | J76: =D76+F76+H76 -> 0 | K76: =E76+G76+I76 -> 0 | P76: 1 | Q76: =C76*'내역서(건축)'!R340 -> 0 | R76: =C76*'내역서(건축)'!S340 -> 0 | S76: =C76*'내역서(건축)'!T340 -> 0 | T76: =C76*'내역서(건축)'!U340 -> 0 | U76: =C76*'내역서(건축)'!V340 -> 0 | V76: =C76*'내역서(건축)'!W340 -> 0 | W76: =C76*'내역서(건축)'!X340 -> 0 | X76: =C76*'내역서(건축)'!Y340 -> 0 | Y76: =C76*'내역서(건축)'!Z340 -> 0 | Z76: =C76*'내역서(건축)'!AA340 -> 0 | AA76: =C76*'내역서(건축)'!AB340 -> 0 | AB76: =C76*'내역서(건축)'!AC340 -> 0 | AC76: =C76*'내역서(건축)'!AD340 -> 0 | AD76: =C76*'내역서(건축)'!AE340 -> 0 | AE76: =C76*'내역서(건축)'!AF340 -> 0 | AF76: =C76*'내역서(건축)'!AG340 -> 0 | AG76: =C76*'내역서(건축)'!AH340 -> 0 | AH76: =C76*'내역서(건축)'!AI340 -> 0 | AI76: =C76*'내역서(건축)'!AJ340 -> 0 | AJ76: =C76*'내역서(건축)'!AK340 -> 0 | AK76: =C76*'내역서(건축)'!AL340 -> 0 | AL76: =C76*'내역서(건축)'!AM340 -> 0 | AM76: =C76*'내역서(건축)'!AN340 -> 0 | AN76: =C76*'내역서(건축)'!AO340 -> 0 | AO76: =C76*'내역서(건축)'!AP340 -> 0 | AP76: =C76*'내역서(건축)'!AQ340 -> 0 | AQ76: =C76*'내역서(건축)'!AR340 -> 0 | AR76: =C76*'내역서(건축)'!AS340 -> 0 | AS76: =C76*'내역서(건축)'!AT340 -> 0 | AT76: =C76*'내역서(건축)'!AU340 -> 0 | AU76: =C76*'내역서(건축)'!AV340 -> 0
A77: 020108. 금속공사 | B77: 식 | C77: 1 | D77: ='내역서(건축)'!F356 -> 0 | E77: =C77*D77 -> 0 | F77: ='내역서(건축)'!H356 -> 0 | G77: =C77*F77 -> 0 | H77: ='내역서(건축)'!J356 -> 0 | I77: =C77*H77 -> 0 | J77: =D77+F77+H77 -> 0 | K77: =E77+G77+I77 -> 0 | P77: 1 | Q77: =C77*'내역서(건축)'!R356 -> 0 | R77: =C77*'내역서(건축)'!S356 -> 0 | S77: =C77*'내역서(건축)'!T356 -> 0 | T77: =C77*'내역서(건축)'!U356 -> 0 | U77: =C77*'내역서(건축)'!V356 -> 0 | V77: =C77*'내역서(건축)'!W356 -> 0 | W77: =C77*'내역서(건축)'!X356 -> 0 | X77: =C77*'내역서(건축)'!Y356 -> 0 | Y77: =C77*'내역서(건축)'!Z356 -> 0 | Z77: =C77*'내역서(건축)'!AA356 -> 0 | AA77: =C77*'내역서(건축)'!AB356 -> 0 | AB77: =C77*'내역서(건축)'!AC356 -> 0 | AC77: =C77*'내역서(건축)'!AD356 -> 0 | AD77: =C77*'내역서(건축)'!AE356 -> 0 | AE77: =C77*'내역서(건축)'!AF356 -> 0 | AF77: =C77*'내역서(건축)'!AG356 -> 0 | AG77: =C77*'내역서(건축)'!AH356 -> 0 | AH77: =C77*'내역서(건축)'!AI356 -> 0 | AI77: =C77*'내역서(건축)'!AJ356 -> 0 | AJ77: =C77*'내역서(건축)'!AK356 -> 0 | AK77: =C77*'내역서(건축)'!AL356 -> 0 | AL77: =C77*'내역서(건축)'!AM356 -> 0 | AM77: =C77*'내역서(건축)'!AN356 -> 0 | AN77: =C77*'내역서(건축)'!AO356 -> 0 | AO77: =C77*'내역서(건축)'!AP356 -> 0 | AP77: =C77*'내역서(건축)'!AQ356 -> 0 | AQ77: =C77*'내역서(건축)'!AR356 -> 0 | AR77: =C77*'내역서(건축)'!AS356 -> 0 | AS77: =C77*'내역서(건축)'!AT356 -> 0 | AT77: =C77*'내역서(건축)'!AU356 -> 0 | AU77: =C77*'내역서(건축)'!AV356 -> 0
A78: 020109. 도장공사 | B78: 식 | C78: 1 | D78: ='내역서(건축)'!F372 -> 0 | E78: =C78*D78 -> 0 | F78: ='내역서(건축)'!H372 -> 0 | G78: =C78*F78 -> 0 | H78: ='내역서(건축)'!J372 -> 0 | I78: =C78*H78 -> 0 | J78: =D78+F78+H78 -> 0 | K78: =E78+G78+I78 -> 0 | P78: 1 | Q78: =C78*'내역서(건축)'!R372 -> 0 | R78: =C78*'내역서(건축)'!S372 -> 0 | S78: =C78*'내역서(건축)'!T372 -> 0 | T78: =C78*'내역서(건축)'!U372 -> 0 | U78: =C78*'내역서(건축)'!V372 -> 0 | V78: =C78*'내역서(건축)'!W372 -> 0 | W78: =C78*'내역서(건축)'!X372 -> 0 | X78: =C78*'내역서(건축)'!Y372 -> 0 | Y78: =C78*'내역서(건축)'!Z372 -> 0 | Z78: =C78*'내역서(건축)'!AA372 -> 0 | AA78: =C78*'내역서(건축)'!AB372 -> 0 | AB78: =C78*'내역서(건축)'!AC372 -> 0 | AC78: =C78*'내역서(건축)'!AD372 -> 0 | AD78: =C78*'내역서(건축)'!AE372 -> 0 | AE78: =C78*'내역서(건축)'!AF372 -> 0 | AF78: =C78*'내역서(건축)'!AG372 -> 0 | AG78: =C78*'내역서(건축)'!AH372 -> 0 | AH78: =C78*'내역서(건축)'!AI372 -> 0 | AI78: =C78*'내역서(건축)'!AJ372 -> 0 | AJ78: =C78*'내역서(건축)'!AK372 -> 0 | AK78: =C78*'내역서(건축)'!AL372 -> 0 | AL78: =C78*'내역서(건축)'!AM372 -> 0 | AM78: =C78*'내역서(건축)'!AN372 -> 0 | AN78: =C78*'내역서(건축)'!AO372 -> 0 | AO78: =C78*'내역서(건축)'!AP372 -> 0 | AP78: =C78*'내역서(건축)'!AQ372 -> 0 | AQ78: =C78*'내역서(건축)'!AR372 -> 0 | AR78: =C78*'내역서(건축)'!AS372 -> 0 | AS78: =C78*'내역서(건축)'!AT372 -> 0 | AT78: =C78*'내역서(건축)'!AU372 -> 0 | AU78: =C78*'내역서(건축)'!AV372 -> 0
A84: 합 계 | E84: =SUMIF(P70:P78, "1", E70:E78) -> 0 | G84: =SUMIF(P70:P78, "1", G70:G78) -> 0 | I84: =SUMIF(P70:P78, "1", I70:I78) -> 0 | K84: =E84+G84+I84 -> 0 | Q84: =SUM(Q70:Q78) -> 0 | R84: =SUM(R70:R78) -> 0 | S84: =SUM(S70:S78) -> 0 | T84: =SUM(T70:T78) -> 0 | U84: =SUM(U70:U78) -> 0 | V84: =SUM(V70:V78) -> 0 | W84: =SUM(W70:W78) -> 0 | X84: =SUM(X70:X78) -> 0 | ... AX84: =SUM(AX70:AX78) -> 0

Sheet 내역서(건축)
A1: 공 사 내 역 서
A2: =원가계산서!A2 -> ■ 공사명 : 병동 등 화장실 환경개선공사
A3: 품 명 | B3: 규 격 | C3: 단위 | D3: 수 량 | E3: 재 료 비 | G3: 노 무 비 | I3: 경 비 | K3: 합 계 | M3: 비고
E4: 단 가 | F4: 금 액 | G4: 단 가 | H4: 금 액 | I4: 단 가 | J4: 금 액 | K4: 단 가 | L4: 금 액 | N4: 손료요율 | O4: 손료구분 | P4: 적용구분 | Q4: 합계구분 | R4: 기계경비 | S4: 운반비 | T4: 작업부산물 | U4: 관급 | V4: 외주비 | W4: 장비비 | X4: 폐기물처리비 | Y4: 가설비 | Z4: 잡비제외분 | AA4: 사급자재대 | AB4: 관급자재대 | AC4: 사용자항목1 | AD4: 사용자항목2 | AE4: 안전관리비 | AF4: 품질관리비 | AG4: 작업부산물(철거해체) | AH4: 재해예방기술지도비 | AI4: 사용자항목7 | AJ4: 석면분담금 | AK4: 임금채권분담금 | AL4: 사용자항목10 | AM4: 사용자항목11 | AN4: 사용자항목12 | AO4: 사용자항목13 | AP4: 사용자항목14 | AQ4: 사용자항목15 | AR4: 사용자항목16 | AS4: 사용자항목17 | AT4: 사용자항목18 | AU4: 사용자항목19 | AV4: 간접재료비 | AW4: 품목구분 | AX4: 조달코드 | AY4: 구분
A5: 010101. 가설공사
A6: 가설 칸막이 설치 | B6: T 45, 래핑칸막이, 자재 포함 | C6: M2 | D6: 280 | F6: =ROUNDDOWN(D6*E6, 0) -> 0 | H6: =ROUNDDOWN(D6*G6, 0) -> 0 | J6: =ROUNDDOWN(D6*I6, 0) -> 0 | K6: =E6+G6+I6 -> 0 | L6: =F6+H6+J6 -> 0 | O6: ="" | P6: 기계경비 | Q6: 1 | R6: =IF(P6="기계경비", J6, 0) -> 0 | S6: =IF(P6="운반비", L6, 0) -> 0 | T6: =IF(P6="작업부산물", F6, 0) -> 0 | U6: =IF(P6="관급", F6, 0) -> 0 | V6: =IF(P6="외주비", J6, 0) -> 0 | W6: =IF(P6="장비비", J6, 0) -> 0 | X6: =IF(P6="폐기물처리비", L6, 0) -> 0 | Y6: =IF(P6="가설비", J6, 0) -> 0 | Z6: =IF(P6="잡비제외분", F6, 0) -> 0 | AA6: =IF(P6="사급자재대", L6, 0) -> 0 | AB6: =IF(P6="관급자재대", L6, 0) -> 0 | AC6: =IF(P6="사용자항목1", L6, 0) -> 0 | AD6: =IF(P6="사용자항목2", L6, 0) -> 0 | AE6: =IF(P6="안전관리비", L6, 0) -> 0 | AF6: =IF(P6="품질관리비", L6, 0) -> 0 | AG6: =IF(P6="작업부산물(철거해체)", L6, 0) -> 0 | AH6: =IF(P6="재해예방기술지도비", L6, 0) -> 0 | AI6: =IF(P6="사용자항목7", L6, 0) -> 0 | AJ6: =IF(P6="석면분담금", L6, 0) -> 0 | AK6: =IF(P6="임금채권분담금", L6, 0) -> 0 | AL6: =IF(P6="사용자항목10", L6, 0) -> 0 | AM6: =IF(P6="사용자항목11", L6, 0) -> 0 | AN6: =IF(P6="사용자항목12", L6, 0) -> 0 | AO6: =IF(P6="사용자항목13", L6, 0) -> 0 | AP6: =IF(P6="사용자항목14", L6, 0) -> 0 | AQ6: =IF(P6="사용자항목15", L6, 0) -> 0 | AR6: =IF(P6="사용자항목16", L6, 0) -> 0 | AS6: =IF(P6="사용자항목17", L6, 0) -> 0 | AT6: =IF(P6="사용자항목18", L6, 0) -> 0 | AU6: =IF(P6="사용자항목19", L6, 0) -> 0 | AY6: PK적산
A7: 가설 칸막이 재설치 | B7: T 45, 래핑칸막이, 자재 별도 | C7: M2 | D7: 560 | F7: =ROUNDDOWN(D7*E7, 0) -> 0 | H7: =ROUNDDOWN(D7*G7, 0) -> 0 | J7: =ROUNDDOWN(D7*I7, 0) -> 0 | K7: =E7+G7+I7 -> 0 | L7: =F7+H7+J7 -> 0 | O7: ="" | P7: 기계경비 | Q7: 1 | R7: =IF(P7="기계경비", J7, 0) -> 0 | S7: =IF(P7="운반비", L7, 0) -> 0 | T7: =IF(P7="작업부산물", F7, 0) -> 0 | U7: =IF(P7="관급", F7, 0) -> 0 | V7: =IF(P7="외주비", J7, 0) -> 0 | W7: =IF(P7="장비비", J7, 0) -> 0 | X7: =IF(P7="폐기물처리비", L7, 0) -> 0 | Y7: =IF(P7="가설비", J7, 0) -> 0 | Z7: =IF(P7="잡비제외분", F7, 0) -> 0 | AA7: =IF(P7="사급자재대", L7, 0) -> 0 | AB7: =IF(P7="관급자재대", L7, 0) -> 0 | AC7: =IF(P7="사용자항목1", L7, 0) -> 0 | AD7: =IF(P7="사용자항목2", L7, 0) -> 0 | AE7: =IF(P7="안전관리비", L7, 0) -> 0 | AF7: =IF(P7="품질관리비", L7, 0) -> 0 | AG7: =IF(P7="작업부산물(철거해체)", L7, 0) -> 0 | AH7: =IF(P7="재해예방기술지도비", L7, 0) -> 0 | AI7: =IF(P7="사용자항목7", L7, 0) -> 0 | AJ7: =IF(P7="석면분담금", L7, 0) -> 0 | AK7: =IF(P7="임금채권분담금", L7, 0) -> 0 | AL7: =IF(P7="사용자항목10", L7, 0) -> 0 | AM7: =IF(P7="사용자항목11", L7, 0) -> 0 | AN7: =IF(P7="사용자항목12", L7, 0) -> 0 | AO7: =IF(P7="사용자항목13", L7, 0) -> 0 | AP7: =IF(P7="사용자항목14", L7, 0) -> 0 | AQ7: =IF(P7="사용자항목15", L7, 0) -> 0 | AR7: =IF(P7="사용자항목16", L7, 0) -> 0 | AS7: =IF(P7="사용자항목17", L7, 0) -> 0 | AT7: =IF(P7="사용자항목18", L7, 0) -> 0 | AU7: =IF(P7="사용자항목19", L7, 0) -> 0 | AY7: PK적산
A8: 가설 칸막이 해체 | B8: T 45, 래핑칸막이, 설치품의 20% | C8: M2 | D8: 840 | F8: =ROUNDDOWN(D8*E8, 0) -> 0 | H8: =ROUNDDOWN(D8*G8, 0) -> 0 | J8: =ROUNDDOWN(D8*I8, 0) -> 0 | K8: =E8+G8+I8 -> 0 | L8: =F8+H8+J8 -> 0 | O8: ="" | P8: 기계경비 | Q8: 1 | R8: =IF(P8="기계경비", J8, 0) -> 0 | S8: =IF(P8="운반비", L8, 0) -> 0 | T8: =IF(P8="작업부산물", F8, 0) -> 0 | U8: =IF(P8="관급", F8, 0) -> 0 | V8: =IF(P8="외주비", J8, 0) -> 0 | W8: =IF(P8="장비비", J8, 0) -> 0 | X8: =IF(P8="폐기물처리비", L8, 0) -> 0 | Y8: =IF(P8="가설비", J8, 0) -> 0 | Z8: =IF(P8="잡비제외분", F8, 0) -> 0 | AA8: =IF(P8="사급자재대", L8, 0) -> 0 | AB8: =IF(P8="관급자재대", L8, 0) -> 0 | AC8: =IF(P8="사용자항목1", L8, 0) -> 0 | AD8: =IF(P8="사용자항목2", L8, 0) -> 0 | AE8: =IF(P8="안전관리비", L8, 0) -> 0 | AF8: =IF(P8="품질관리비", L8, 0) -> 0 | AG8: =IF(P8="작업부산물(철거해체)", L8, 0) -> 0 | AH8: =IF(P8="재해예방기술지도비", L8, 0) -> 0 | AI8: =IF(P8="사용자항목7", L8, 0) -> 0 | AJ8: =IF(P8="석면분담금", L8, 0) -> 0 | AK8: =IF(P8="임금채권분담금", L8, 0) -> 0 | AL8: =IF(P8="사용자항목10", L8, 0) -> 0 | AM8: =IF(P8="사용자항목11", L8, 0) -> 0 | AN8: =IF(P8="사용자항목12", L8, 0) -> 0 | AO8: =IF(P8="사용자항목13", L8, 0) -> 0 | AP8: =IF(P8="사용자항목14", L8, 0) -> 0 | AQ8: =IF(P8="사용자항목15", L8, 0) -> 0 | AR8: =IF(P8="사용자항목16", L8, 0) -> 0 | AS8: =IF(P8="사용자항목17", L8, 0) -> 0 | AT8: =IF(P8="사용자항목18", L8, 0) -> 0 | AU8: =IF(P8="사용자항목19", L8, 0) -> 0 | AY8: PK적산
A9: 가설출입문 설치 | B9: 1800×2100, 자재 별도 | C9: EA | D9: 12 | F9: =ROUNDDOWN(D9*E9, 0) -> 0 | H9: =ROUNDDOWN(D9*G9, 0) -> 0 | J9: =ROUNDDOWN(D9*I9, 0) -> 0 | K9: =E9+G9+I9 -> 0 | L9: =F9+H9+J9 -> 0 | O9: ="" | P9: 기계경비 | Q9: 1 | R9: =IF(P9="기계경비", J9, 0) -> 0 | S9: =IF(P9="운반비", L9, 0) -> 0 | T9: =IF(P9="작업부산물", F9, 0) -> 0 | U9: =IF(P9="관급", F9, 0) -> 0 | V9: =IF(P9="외주비", J9, 0) -> 0 | W9: =IF(P9="장비비", J9, 0) -> 0 | X9: =IF(P9="폐기물처리비", L9, 0) -> 0 | Y9: =IF(P9="가설비", J9, 0) -> 0 | Z9: =IF(P9="잡비제외분", F9, 0) -> 0 | AA9: =IF(P9="사급자재대", L9, 0) -> 0 | AB9: =IF(P9="관급자재대", L9, 0) -> 0 | AC9: =IF(P9="사용자항목1", L9, 0) -> 0 | AD9: =IF(P9="사용자항목2", L9, 0) -> 0 | AE9: =IF(P9="안전관리비", L9, 0) -> 0 | AF9: =IF(P9="품질관리비", L9, 0) -> 0 | AG9: =IF(P9="작업부산물(철거해체)", L9, 0) -> 0 | AH9: =IF(P9="재해예방기술지도비", L9, 0) -> 0 | AI9: =IF(P9="사용자항목7", L9, 0) -> 0 | AJ9: =IF(P9="석면분담금", L9, 0) -> 0 | AK9: =IF(P9="임금채권분담금", L9, 0) -> 0 | AL9: =IF(P9="사용자항목10", L9, 0) -> 0 | AM9: =IF(P9="사용자항목11", L9, 0) -> 0 | AN9: =IF(P9="사용자항목12", L9, 0) -> 0 | AO9: =IF(P9="사용자항목13", L9, 0) -> 0 | AP9: =IF(P9="사용자항목14", L9, 0) -> 0 | AQ9: =IF(P9="사용자항목15", L9, 0) -> 0 | AR9: =IF(P9="사용자항목16", L9, 0) -> 0 | AS9: =IF(P9="사용자항목17", L9, 0) -> 0 | AT9: =IF(P9="사용자항목18", L9, 0) -> 0 | AU9: =IF(P9="사용자항목19", L9, 0) -> 0 | AY9: PK적산
A10: 가설출입문 설치 | B10: 1800×2100, 자재 포함 | C10: EA | D10: 6 | F10: =ROUNDDOWN(D10*E10, 0) -> 0 | H10: =ROUNDDOWN(D10*G10, 0) -> 0 | J10: =ROUNDDOWN(D10*I10, 0) -> 0 | K10: =E10+G10+I10 -> 0 | L10: =F10+H10+J10 -> 0 | O10: ="" | P10: 기계경비 | Q10: 1 | R10: =IF(P10="기계경비", J10, 0) -> 0 | S10: =IF(P10="운반비", L10, 0) -> 0 | T10: =IF(P10="작업부산물", F10, 0) -> 0 | U10: =IF(P10="관급", F10, 0) -> 0 | V10: =IF(P10="외주비", J10, 0) -> 0 | W10: =IF(P10="장비비", J10, 0) -> 0 | X10: =IF(P10="폐기물처리비", L10, 0) -> 0 | Y10: =IF(P10="가설비", J10, 0) -> 0 | Z10: =IF(P10="잡비제외분", F10, 0) -> 0 | AA10: =IF(P10="사급자재대", L10, 0) -> 0 | AB10: =IF(P10="관급자재대", L10, 0) -> 0 | AC10: =IF(P10="사용자항목1", L10, 0) -> 0 | AD10: =IF(P10="사용자항목2", L10, 0) -> 0 | AE10: =IF(P10="안전관리비", L10, 0) -> 0 | AF10: =IF(P10="품질관리비", L10, 0) -> 0 | AG10: =IF(P10="작업부산물(철거해체)", L10, 0) -> 0 | AH10: =IF(P10="재해예방기술지도비", L10, 0) -> 0 | AI10: =IF(P10="사용자항목7", L10, 0) -> 0 | AJ10: =IF(P10="석면분담금", L10, 0) -> 0 | AK10: =IF(P10="임금채권분담금", L10, 0) -> 0 | AL10: =IF(P10="사용자항목10", L10, 0) -> 0 | AM10: =IF(P10="사용자항목11", L10, 0) -> 0 | AN10: =IF(P10="사용자항목12", L10, 0) -> 0 | AO10: =IF(P10="사용자항목13", L10, 0) -> 0 | AP10: =IF(P10="사용자항목14", L10, 0) -> 0 | AQ10: =IF(P10="사용자항목15", L10, 0) -> 0 | AR10: =IF(P10="사용자항목16", L10, 0) -> 0 | AS10: =IF(P10="사용자항목17", L10, 0) -> 0 | AT10: =IF(P10="사용자항목18", L10, 0) -> 0 | AU10: =IF(P10="사용자항목19", L10, 0) -> 0 | AY10: PK적산
A11: 가설출입문 설치 | B11: 900×2100, 자재 별도 | C11: EA | D11: 10 | F11: =ROUNDDOWN(D11*E11, 0) -> 0 | H11: =ROUNDDOWN(D11*G11, 0) -> 0 | J11: =ROUNDDOWN(D11*I11, 0) -> 0 | K11: =E11+G11+I11 -> 0 | L11: =F11+H11+J11 -> 0 | O11: ="" | P11: 기계경비 | Q11: 1 | R11: =IF(P11="기계경비", J11, 0) -> 0 | S11: =IF(P11="운반비", L11, 0) -> 0 | T11: =IF(P11="작업부산물", F11, 0) -> 0 | U11: =IF(P11="관급", F11, 0) -> 0 | V11: =IF(P11="외주비", J11, 0) -> 0 | W11: =IF(P11="장비비", J11, 0) -> 0 | X11: =IF(P11="폐기물처리비", L11, 0) -> 0 | Y11: =IF(P11="가설비", J11, 0) -> 0 | Z11: =IF(P11="잡비제외분", F11, 0) -> 0 | AA11: =IF(P11="사급자재대", L11, 0) -> 0 | AB11: =IF(P11="관급자재대", L11, 0) -> 0 | AC11: =IF(P11="사용자항목1", L11, 0) -> 0 | AD11: =IF(P11="사용자항목2", L11, 0) -> 0 | AE11: =IF(P11="안전관리비", L11, 0) -> 0 | AF11: =IF(P11="품질관리비", L11, 0) -> 0 | AG11: =IF(P11="작업부산물(철거해체)", L11, 0) -> 0 | AH11: =IF(P11="재해예방기술지도비", L11, 0) -> 0 | AI11: =IF(P11="사용자항목7", L11, 0) -> 0 | AJ11: =IF(P11="석면분담금", L11, 0) -> 0 | AK11: =IF(P11="임금채권분담금", L11, 0) -> 0 | AL11: =IF(P11="사용자항목10", L11, 0) -> 0 | AM11: =IF(P11="사용자항목11", L11, 0) -> 0 | AN11: =IF(P11="사용자항목12", L11, 0) -> 0 | AO11: =IF(P11="사용자항목13", L11, 0) -> 0 | AP11: =IF(P11="사용자항목14", L11, 0) -> 0 | AQ11: =IF(P11="사용자항목15", L11, 0) -> 0 | AR11: =IF(P11="사용자항목16", L11, 0) -> 0 | AS11: =IF(P11="사용자항목17", L11, 0) -> 0 | AT11: =IF(P11="사용자항목18", L11, 0) -> 0 | AU11: =IF(P11="사용자항목19", L11, 0) -> 0 | AY11: PK적산
A12: 가설출입문 설치 | B12: 900×2100, 자재 포함 | C12: EA | D12: 4 | F12: =ROUNDDOWN(D12*E12, 0) -> 0 | H12: =ROUNDDOWN(D12*G12, 0) -> 0 | J12: =ROUNDDOWN(D12*I12, 0) -> 0 | K12: =E12+G12+I12 -> 0 | L12: =F12+H12+J12 -> 0 | O12: ="" | P12: 기계경비 | Q12: 1 | R12: =IF(P12="기계경비", J12, 0) -> 0 | S12: =IF(P12="운반비", L12, 0) -> 0 | T12: =IF(P12="작업부산물", F12, 0) -> 0 | U12: =IF(P12="관급", F12, 0) -> 0 | V12: =IF(P12="외주비", J12, 0) -> 0 | W12: =IF(P12="장비비", J12, 0) -> 0 | X12: =IF(P12="폐기물처리비", L12, 0) -> 0 | Y12: =IF(P12="가설비", J12, 0) -> 0 | Z12: =IF(P12="잡비제외분", F12, 0) -> 0 | AA12: =IF(P12="사급자재대", L12, 0) -> 0 | AB12: =IF(P12="관급자재대", L12, 0) -> 0 | AC12: =IF(P12="사용자항목1", L12, 0) -> 0 | AD12: =IF(P12="사용자항목2", L12, 0) -> 0 | AE12: =IF(P12="안전관리비", L12, 0) -> 0 | AF12: =IF(P12="품질관리비", L12, 0) -> 0 | AG12: =IF(P12="작업부산물(철거해체)", L12, 0) -> 0 | AH12: =IF(P12="재해예방기술지도비", L12, 0) -> 0 | AI12: =IF(P12="사용자항목7", L12, 0) -> 0 | AJ12: =IF(P12="석면분담금", L12, 0) -> 0 | AK12: =IF(P12="임금채권분담금", L12, 0) -> 0 | AL12: =IF(P12="사용자항목10", L12, 0) -> 0 | AM12: =IF(P12="사용자항목11", L12, 0) -> 0 | AN12: =IF(P12="사용자항목12", L12, 0) -> 0 | AO12: =IF(P12="사용자항목13", L12, 0) -> 0 | AP12: =IF(P12="사용자항목14", L12, 0) -> 0 | AQ12: =IF(P12="사용자항목15", L12, 0) -> 0 | AR12: =IF(P12="사용자항목16", L12, 0) -> 0 | AS12: =IF(P12="사용자항목17", L12, 0) -> 0 | AT12: =IF(P12="사용자항목18", L12, 0) -> 0 | AU12: =IF(P12="사용자항목19", L12, 0) -> 0 | AY12: PK적산
A13: 보양 | B13: 비닐, 바닥, 벽체, 엘리베이터 | C13: M2 | D13: 3104.16 | F13: =ROUNDDOWN(D13*E13, 0) -> 0 | H13: =ROUNDDOWN(D13*G13, 0) -> 0 | J13: =ROUNDDOWN(D13*I13, 0) -> 0 | K13: =E13+G13+I13 -> 0 | L13: =F13+H13+J13 -> 0 | O13: ="" | P13: 기계경비 | Q13: 1 | R13: =IF(P13="기계경비", J13, 0) -> 0 | S13: =IF(P13="운반비", L13, 0) -> 0 | T13: =IF(P13="작업부산물", F13, 0) -> 0 | U13: =IF(P13="관급", F13, 0) -> 0 | V13: =IF(P13="외주비", J13, 0) -> 0 | W13: =IF(P13="장비비", J13, 0) -> 0 | X13: =IF(P13="폐기물처리비", L13, 0) -> 0 | Y13: =IF(P13="가설비", J13, 0) -> 0 | Z13: =IF(P13="잡비제외분", F13, 0) -> 0 | AA13: =IF(P13="사급자재대", L13, 0) -> 0 | AB13: =IF(P13="관급자재대", L13, 0) -> 0 | AC13: =IF(P13="사용자항목1", L13, 0) -> 0 | AD13: =IF(P13="사용자항목2", L13, 0) -> 0 | AE13: =IF(P13="안전관리비", L13, 0) -> 0 | AF13: =IF(P13="품질관리비", L13, 0) -> 0 | AG13: =IF(P13="작업부산물(철거해체)", L13, 0) -> 0 | AH13: =IF(P13="재해예방기술지도비", L13, 0) -> 0 | AI13: =IF(P13="사용자항목7", L13, 0) -> 0 | AJ13: =IF(P13="석면분담금", L13, 0) -> 0 | AK13: =IF(P13="임금채권분담금", L13, 0) -> 0 | AL13: =IF(P13="사용자항목10", L13, 0) -> 0 | AM13: =IF(P13="사용자항목11", L13, 0) -> 0 | AN13: =IF(P13="사용자항목12", L13, 0) -> 0 | AO13: =IF(P13="사용자항목13", L13, 0) -> 0 | AP13: =IF(P13="사용자항목14", L13, 0) -> 0 | AQ13: =IF(P13="사용자항목15", L13, 0) -> 0 | AR13: =IF(P13="사용자항목16", L13, 0) -> 0 | AS13: =IF(P13="사용자항목17", L13, 0) -> 0 | AT13: =IF(P13="사용자항목18", L13, 0) -> 0 | AU13: =IF(P13="사용자항목19", L13, 0) -> 0 | AY13: PK적산
A14: 이동식 집진기 | B14: RT 1100, 운반비 포함, 1개월 | C14: 대 | D14: 24 | F14: =ROUNDDOWN(D14*E14, 0) -> 0 | H14: =ROUNDDOWN(D14*G14, 0) -> 0 | J14: =ROUNDDOWN(D14*I14, 0) -> 0 | K14: =E14+G14+I14 -> 0 | L14: =F14+H14+J14 -> 0 | O14: ="" | P14: 기계경비 | Q14: 1 | R14: =IF(P14="기계경비", J14, 0) -> 0 | S14: =IF(P14="운반비", L14, 0) -> 0 | T14: =IF(P14="작업부산물", F14, 0) -> 0 | U14: =IF(P14="관급", F14, 0) -> 0 | V14: =IF(P14="외주비", J14, 0) -> 0 | W14: =IF(P14="장비비", J14, 0) -> 0 | X14: =IF(P14="폐기물처리비", L14, 0) -> 0 | Y14: =IF(P14="가설비", J14, 0) -> 0 | Z14: =IF(P14="잡비제외분", F14, 0) -> 0 | AA14: =IF(P14="사급자재대", L14, 0) -> 0 | AB14: =IF(P14="관급자재대", L14, 0) -> 0 | AC14: =IF(P14="사용자항목1", L14, 0) -> 0 | AD14: =IF(P14="사용자항목2", L14, 0) -> 0 | AE14: =IF(P14="안전관리비", L14, 0) -> 0 | AF14: =IF(P14="품질관리비", L14, 0) -> 0 | AG14: =IF(P14="작업부산물(철거해체)", L14, 0) -> 0 | AH14: =IF(P14="재해예방기술지도비", L14, 0) -> 0 | AI14: =IF(P14="사용자항목7", L14, 0) -> 0 | AJ14: =IF(P14="석면분담금", L14, 0) -> 0 | AK14: =IF(P14="임금채권분담금", L14, 0) -> 0 | AL14: =IF(P14="사용자항목10", L14, 0) -> 0 | AM14: =IF(P14="사용자항목11", L14, 0) -> 0 | AN14: =IF(P14="사용자항목12", L14, 0) -> 0 | AO14: =IF(P14="사용자항목13", L14, 0) -> 0 | AP14: =IF(P14="사용자항목14", L14, 0) -> 0 | AQ14: =IF(P14="사용자항목15", L14, 0) -> 0 | AR14: =IF(P14="사용자항목16", L14, 0) -> 0 | AS14: =IF(P14="사용자항목17", L14, 0) -> 0 | AT14: =IF(P14="사용자항목18", L14, 0) -> 0 | AU14: =IF(P14="사용자항목19", L14, 0) -> 0 | AY14: PK적산
A15: 조립말비계 | B15: 6개월,1단(2m) | C15: 대 | D15: 6 | F15: =ROUNDDOWN(D15*E15, 0) -> 0 | H15: =ROUNDDOWN(D15*G15, 0) -> 0 | J15: =ROUNDDOWN(D15*I15, 0) -> 0 | K15: =E15+G15+I15 -> 0 | L15: =F15+H15+J15 -> 0 | O15: ="" | P15: 기계경비 | Q15: 1 | R15: =IF(P15="기계경비", J15, 0) -> 0 | S15: =IF(P15="운반비", L15, 0) -> 0 | T15: =IF(P15="작업부산물", F15, 0) -> 0 | U15: =IF(P15="관급", F15, 0) -> 0 | V15: =IF(P15="외주비", J15, 0) -> 0 | W15: =IF(P15="장비비", J15, 0) -> 0 | X15: =IF(P15="폐기물처리비", L15, 0) -> 0 | Y15: =IF(P15="가설비", J15, 0) -> 0 | Z15: =IF(P15="잡비제외분", F15, 0) -> 0 | AA15: =IF(P15="사급자재대", L15, 0) -> 0 | AB15: =IF(P15="관급자재대", L15, 0) -> 0 | AC15: =IF(P15="사용자항목1", L15, 0) -> 0 | AD15: =IF(P15="사용자항목2", L15, 0) -> 0 | AE15: =IF(P15="안전관리비", L15, 0) -> 0 | AF15: =IF(P15="품질관리비", L15, 0) -> 0 | AG15: =IF(P15="작업부산물(철거해체)", L15, 0) -> 0 | AH15: =IF(P15="재해예방기술지도비", L15, 0) -> 0 | AI15: =IF(P15="사용자항목7", L15, 0) -> 0 | AJ15: =IF(P15="석면분담금", L15, 0) -> 0 | AK15: =IF(P15="임금채권분담금", L15, 0) -> 0 | AL15: =IF(P15="사용자항목10", L15, 0) -> 0 | AM15: =IF(P15="사용자항목11", L15, 0) -> 0 | AN15: =IF(P15="사용자항목12", L15, 0) -> 0 | AO15: =IF(P15="사용자항목13", L15, 0) -> 0 | AP15: =IF(P15="사용자항목14", L15, 0) -> 0 | AQ15: =IF(P15="사용자항목15", L15, 0) -> 0 | AR15: =IF(P15="사용자항목16", L15, 0) -> 0 | AS15: =IF(P15="사용자항목17", L15, 0) -> 0 | AT15: =IF(P15="사용자항목18", L15, 0) -> 0 | AU15: =IF(P15="사용자항목19", L15, 0) -> 0
A16: 준공청소 | C16: M2 | D16: 298.72 | F16: =ROUNDDOWN(D16*E16, 0) -> 0 | H16: =ROUNDDOWN(D16*G16, 0) -> 0 | J16: =ROUNDDOWN(D16*I16, 0) -> 0 | K16: =E16+G16+I16 -> 0 | L16: =F16+H16+J16 -> 0 | O16: ="" | P16: 기계경비 | Q16: 1 | R16: =IF(P16="기계경비", J16, 0) -> 0 | S16: =IF(P16="운반비", L16, 0) -> 0 | T16: =IF(P16="작업부산물", F16, 0) -> 0 | U16: =IF(P16="관급", F16, 0) -> 0 | V16: =IF(P16="외주비", J16, 0) -> 0 | W16: =IF(P16="장비비", J16, 0) -> 0 | X16: =IF(P16="폐기물처리비", L16, 0) -> 0 | Y16: =IF(P16="가설비", J16, 0) -> 0 | Z16: =IF(P16="잡비제외분", F16, 0) -> 0 | AA16: =IF(P16="사급자재대", L16, 0) -> 0 | AB16: =IF(P16="관급자재대", L16, 0) -> 0 | AC16: =IF(P16="사용자항목1", L16, 0) -> 0 | AD16: =IF(P16="사용자항목2", L16, 0) -> 0 | AE16: =IF(P16="안전관리비", L16, 0) -> 0 | AF16: =IF(P16="품질관리비", L16, 0) -> 0 | AG16: =IF(P16="작업부산물(철거해체)", L16, 0) -> 0 | AH16: =IF(P16="재해예방기술지도비", L16, 0) -> 0 | AI16: =IF(P16="사용자항목7", L16, 0) -> 0 | AJ16: =IF(P16="석면분담금", L16, 0) -> 0 | AK16: =IF(P16="임금채권분담금", L16, 0) -> 0 | AL16: =IF(P16="사용자항목10", L16, 0) -> 0 | AM16: =IF(P16="사용자항목11", L16, 0) -> 0 | AN16: =IF(P16="사용자항목12", L16, 0) -> 0 | AO16: =IF(P16="사용자항목13", L16, 0) -> 0 | AP16: =IF(P16="사용자항목14", L16, 0) -> 0 | AQ16: =IF(P16="사용자항목15", L16, 0) -> 0 | AR16: =IF(P16="사용자항목16", L16, 0) -> 0 | AS16: =IF(P16="사용자항목17", L16, 0) -> 0 | AT16: =IF(P16="사용자항목18", L16, 0) -> 0 | AU16: =IF(P16="사용자항목19", L16, 0) -> 0
A17: 건축물현장정리 | B17: 개보수 | C17: M2 | D17: 298.72 | F17: =ROUNDDOWN(D17*E17, 0) -> 0 | H17: =ROUNDDOWN(D17*G17, 0) -> 0 | J17: =ROUNDDOWN(D17*I17, 0) -> 0 | K17: =E17+G17+I17 -> 0 | L17: =F17+H17+J17 -> 0 | O17: ="" | P17: 기계경비 | Q17: 1 | R17: =IF(P17="기계경비", J17, 0) -> 0 | S17: =IF(P17="운반비", L17, 0) -> 0 | T17: =IF(P17="작업부산물", F17, 0) -> 0 | U17: =IF(P17="관급", F17, 0) -> 0 | V17: =IF(P17="외주비", J17, 0) -> 0 | W17: =IF(P17="장비비", J17, 0) -> 0 | X17: =IF(P17="폐기물처리비", L17, 0) -> 0 | Y17: =IF(P17="가설비", J17, 0) -> 0 | Z17: =IF(P17="잡비제외분", F17, 0) -> 0 | AA17: =IF(P17="사급자재대", L17, 0) -> 0 | AB17: =IF(P17="관급자재대", L17, 0) -> 0 | AC17: =IF(P17="사용자항목1", L17, 0) -> 0 | AD17: =IF(P17="사용자항목2", L17, 0) -> 0 | AE17: =IF(P17="안전관리비", L17, 0) -> 0 | AF17: =IF(P17="품질관리비", L17, 0) -> 0 | AG17: =IF(P17="작업부산물(철거해체)", L17, 0) -> 0 | AH17: =IF(P17="재해예방기술지도비", L17, 0) -> 0 | AI17: =IF(P17="사용자항목7", L17, 0) -> 0 | AJ17: =IF(P17="석면분담금", L17, 0) -> 0 | AK17: =IF(P17="임금채권분담금", L17, 0) -> 0 | AL17: =IF(P17="사용자항목10", L17, 0) -> 0 | AM17: =IF(P17="사용자항목11", L17, 0) -> 0 | AN17: =IF(P17="사용자항목12", L17, 0) -> 0 | AO17: =IF(P17="사용자항목13", L17, 0) -> 0 | AP17: =IF(P17="사용자항목14", L17, 0) -> 0 | AQ17: =IF(P17="사용자항목15", L17, 0) -> 0 | AR17: =IF(P17="사용자항목16", L17, 0) -> 0 | AS17: =IF(P17="사용자항목17", L17, 0) -> 0 | AT17: =IF(P17="사용자항목18", L17, 0) -> 0 | AU17: =IF(P17="사용자항목19", L17, 0) -> 0
A18: 가설출입문 철거 | B18: 1.0∼3.0㎡이하, 설치품의 20% | C18: 개소 | D18: 24 | F18: =ROUNDDOWN(D18*E18, 0) -> 0 | H18: =ROUNDDOWN(D18*G18, 0) -> 0 | J18: =ROUNDDOWN(D18*I18, 0) -> 0 | K18: =E18+G18+I18 -> 0 | L18: =F18+H18+J18 -> 0 | O18: ="" | P18: 기계경비 | Q18: 1 | R18: =IF(P18="기계경비", J18, 0) -> 0 | S18: =IF(P18="운반비", L18, 0) -> 0 | T18: =IF(P18="작업부산물", F18, 0) -> 0 | U18: =IF(P18="관급", F18, 0) -> 0 | V18: =IF(P18="외주비", J18, 0) -> 0 | W18: =IF(P18="장비비", J18, 0) -> 0 | X18: =IF(P18="폐기물처리비", L18, 0) -> 0 | Y18: =IF(P18="가설비", J18, 0) -> 0 | Z18: =IF(P18="잡비제외분", F18, 0) -> 0 | AA18: =IF(P18="사급자재대", L18, 0) -> 0 | AB18: =IF(P18="관급자재대", L18, 0) -> 0 | AC18: =IF(P18="사용자항목1", L18, 0) -> 0 | AD18: =IF(P18="사용자항목2", L18, 0) -> 0 | AE18: =IF(P18="안전관리비", L18, 0) -> 0 | AF18: =IF(P18="품질관리비", L18, 0) -> 0 | AG18: =IF(P18="작업부산물(철거해체)", L18, 0) -> 0 | AH18: =IF(P18="재해예방기술지도비", L18, 0) -> 0 | AI18: =IF(P18="사용자항목7", L18, 0) -> 0 | AJ18: =IF(P18="석면분담금", L18, 0) -> 0 | AK18: =IF(P18="임금채권분담금", L18, 0) -> 0 | AL18: =IF(P18="사용자항목10", L18, 0) -> 0 | AM18: =IF(P18="사용자항목11", L18, 0) -> 0 | AN18: =IF(P18="사용자항목12", L18, 0) -> 0 | AO18: =IF(P18="사용자항목13", L18, 0) -> 0 | AP18: =IF(P18="사용자항목14", L18, 0) -> 0 | AQ18: =IF(P18="사용자항목15", L18, 0) -> 0 | AR18: =IF(P18="사용자항목16", L18, 0) -> 0 | AS18: =IF(P18="사용자항목17", L18, 0) -> 0 | AT18: =IF(P18="사용자항목18", L18, 0) -> 0 | AU18: =IF(P18="사용자항목19", L18, 0) -> 0 | AY18: PK적산
A20: 합 계 | F20: =ROUNDDOWN(SUMIF(Q6:Q19, "1", F6:F19), 0) -> 0 | H20: =ROUNDDOWN(SUMIF(Q6:Q19, "1", H6:H19), 0) -> 0 | J20: =ROUNDDOWN(SUMIF(Q6:Q19, "1", J6:J19), 0) -> 0 | L20: =F20+H20+J20 -> 0 | R20: =ROUNDDOWN(SUM(R6:R18), 0) -> 0 | S20: =ROUNDDOWN(SUM(S6:S18), 0) -> 0 | T20: =ROUNDDOWN(SUM(T6:T18), 0) -> 0 | U20: =ROUNDDOWN(SUM(U6:U18), 0) -> 0 | V20: =ROUNDDOWN(SUM(V6:V18), 0) -> 0 | W20: =ROUNDDOWN(SUM(W6:W18), 0) -> 0 | X20: =ROUNDDOWN(SUM(X6:X18), 0) -> 0 | Y20: =ROUNDDOWN(SUM(Y6:Y18), 0) -> 0 | ... AY20: =ROUNDDOWN(SUM(AY6:AY18), 0) -> 0
A21: 010102. 철거공사
A22: 강재창호 철거 | B22: 6.0∼8.0㎡이하, 설치품의 20% | C22: 개소 | D22: 6 | F22: =ROUNDDOWN(D22*E22, 0) -> 0 | H22: =ROUNDDOWN(D22*G22, 0) -> 0 | J22: =ROUNDDOWN(D22*I22, 0) -> 0 | K22: =E22+G22+I22 -> 0 | L22: =F22+H22+J22 -> 0 | O22: ="" | P22: 기계경비 | Q22: 1 | R22: =IF(P22="기계경비", J22, 0) -> 0 | S22: =IF(P22="운반비", L22, 0) -> 0 | T22: =IF(P22="작업부산물", F22, 0) -> 0 | U22: =IF(P22="관급", F22, 0) -> 0 | V22: =IF(P22="외주비", J22, 0) -> 0 | W22: =IF(P22="장비비", J22, 0) -> 0 | X22: =IF(P22="폐기물처리비", L22, 0) -> 0 | Y22: =IF(P22="가설비", J22, 0) -> 0 | Z22: =IF(P22="잡비제외분", F22, 0) -> 0 | AA22: =IF(P22="사급자재대", L22, 0) -> 0 | AB22: =IF(P22="관급자재대", L22, 0) -> 0 | AC22: =IF(P22="사용자항목1", L22, 0) -> 0 | AD22: =IF(P22="사용자항목2", L22, 0) -> 0 | AE22: =IF(P22="안전관리비", L22, 0) -> 0 | AF22: =IF(P22="품질관리비", L22, 0) -> 0 | AG22: =IF(P22="작업부산물(철거해체)", L22, 0) -> 0 | AH22: =IF(P22="재해예방기술지도비", L22, 0) -> 0 | AI22: =IF(P22="사용자항목7", L22, 0) -> 0 | AJ22: =IF(P22="석면분담금", L22, 0) -> 0 | AK22: =IF(P22="임금채권분담금", L22, 0) -> 0 | AL22: =IF(P22="사용자항목10", L22, 0) -> 0 | AM22: =IF(P22="사용자항목11", L22, 0) -> 0 | AN22: =IF(P22="사용자항목12", L22, 0) -> 0 | AO22: =IF(P22="사용자항목13", L22, 0) -> 0 | AP22: =IF(P22="사용자항목14", L22, 0) -> 0 | AQ22: =IF(P22="사용자항목15", L22, 0) -> 0 | AR22: =IF(P22="사용자항목16", L22, 0) -> 0 | AS22: =IF(P22="사용자항목17", L22, 0) -> 0 | AT22: =IF(P22="사용자항목18", L22, 0) -> 0 | AU22: =IF(P22="사용자항목19", L22, 0) -> 0 | AY22: PK적산
A23: 거울 철거 | B23: 1.0 ㎡ 미만 | C23: 개 | D23: 86 | F23: =ROUNDDOWN(D23*E23, 0) -> 0 | H23: =ROUNDDOWN(D23*G23, 0) -> 0 | J23: =ROUNDDOWN(D23*I23, 0) -> 0 | K23: =E23+G23+I23 -> 0 | L23: =F23+H23+J23 -> 0 | O23: ="" | P23: 기계경비 | Q23: 1 | R23: =IF(P23="기계경비", J23, 0) -> 0 | S23: =IF(P23="운반비", L23, 0) -> 0 | T23: =IF(P23="작업부산물", F23, 0) -> 0 | U23: =IF(P23="관급", F23, 0) -> 0 | V23: =IF(P23="외주비", J23, 0) -> 0 | W23: =IF(P23="장비비", J23, 0) -> 0 | X23: =IF(P23="폐기물처리비", L23, 0) -> 0 | Y23: =IF(P23="가설비", J23, 0) -> 0 | Z23: =IF(P23="잡비제외분", F23, 0) -> 0 | AA23: =IF(P23="사급자재대", L23, 0) -> 0 | AB23: =IF(P23="관급자재대", L23, 0) -> 0 | AC23: =IF(P23="사용자항목1", L23, 0) -> 0 | AD23: =IF(P23="사용자항목2", L23, 0) -> 0 | AE23: =IF(P23="안전관리비", L23, 0) -> 0 | AF23: =IF(P23="품질관리비", L23, 0) -> 0 | AG23: =IF(P23="작업부산물(철거해체)", L23, 0) -> 0 | AH23: =IF(P23="재해예방기술지도비", L23, 0) -> 0 | AI23: =IF(P23="사용자항목7", L23, 0) -> 0 | AJ23: =IF(P23="석면분담금", L23, 0) -> 0 | AK23: =IF(P23="임금채권분담금", L23, 0) -> 0 | AL23: =IF(P23="사용자항목10", L23, 0) -> 0 | AM23: =IF(P23="사용자항목11", L23, 0) -> 0 | AN23: =IF(P23="사용자항목12", L23, 0) -> 0 | AO23: =IF(P23="사용자항목13", L23, 0) -> 0 | AP23: =IF(P23="사용자항목14", L23, 0) -> 0 | AQ23: =IF(P23="사용자항목15", L23, 0) -> 0 | AR23: =IF(P23="사용자항목16", L23, 0) -> 0 | AS23: =IF(P23="사용자항목17", L23, 0) -> 0 | AT23: =IF(P23="사용자항목18", L23, 0) -> 0 | AU23: =IF(P23="사용자항목19", L23, 0) -> 0 | AY23: PK적산
A24: 건축물 구조체별 철거 | B24: SMC천장 | C24: M2 | D24: 298.72 | F24: =ROUNDDOWN(D24*E24, 0) -> 0 | H24: =ROUNDDOWN(D24*G24, 0) -> 0 | J24: =ROUNDDOWN(D24*I24, 0) -> 0 | K24: =E24+G24+I24 -> 0 | L24: =F24+H24+J24 -> 0 | O24: ="" | P24: 기계경비 | Q24: 1 | R24: =IF(P24="기계경비", J24, 0) -> 0 | S24: =IF(P24="운반비", L24, 0) -> 0 | T24: =IF(P24="작업부산물", F24, 0) -> 0 | U24: =IF(P24="관급", F24, 0) -> 0 | V24: =IF(P24="외주비", J24, 0) -> 0 | W24: =IF(P24="장비비", J24, 0) -> 0 | X24: =IF(P24="폐기물처리비", L24, 0) -> 0 | Y24: =IF(P24="가설비", J24, 0) -> 0 | Z24: =IF(P24="잡비제외분", F24, 0) -> 0 | AA24: =IF(P24="사급자재대", L24, 0) -> 0 | AB24: =IF(P24="관급자재대", L24, 0) -> 0 | AC24: =IF(P24="사용자항목1", L24, 0) -> 0 | AD24: =IF(P24="사용자항목2", L24, 0) -> 0 | AE24: =IF(P24="안전관리비", L24, 0) -> 0 | AF24: =IF(P24="품질관리비", L24, 0) -> 0 | AG24: =IF(P24="작업부산물(철거해체)", L24, 0) -> 0 | AH24: =IF(P24="재해예방기술지도비", L24, 0) -> 0 | AI24: =IF(P24="사용자항목7", L24, 0) -> 0 | AJ24: =IF(P24="석면분담금", L24, 0) -> 0 | AK24: =IF(P24="임금채권분담금", L24, 0) -> 0 | AL24: =IF(P24="사용자항목10", L24, 0) -> 0 | AM24: =IF(P24="사용자항목11", L24, 0) -> 0 | AN24: =IF(P24="사용자항목12", L24, 0) -> 0 | AO24: =IF(P24="사용자항목13", L24, 0) -> 0 | AP24: =IF(P24="사용자항목14", L24, 0) -> 0 | AQ24: =IF(P24="사용자항목15", L24, 0) -> 0 | AR24: =IF(P24="사용자항목16", L24, 0) -> 0 | AS24: =IF(P24="사용자항목17", L24, 0) -> 0 | AT24: =IF(P24="사용자항목18", L24, 0) -> 0 | AU24: =IF(P24="사용자항목19", L24, 0) -> 0 | AY24: PK적산
A25: 경량천장철골틀 해체 | C25: M2 | D25: 298.72 | F25: =ROUNDDOWN(D25*E25, 0) -> 0 | H25: =ROUNDDOWN(D25*G25, 0) -> 0 | J25: =ROUNDDOWN(D25*I25, 0) -> 0 | K25: =E25+G25+I25 -> 0 | L25: =F25+H25+J25 -> 0 | O25: ="" | P25: 기계경비 | Q25: 1 | R25: =IF(P25="기계경비", J25, 0) -> 0 | S25: =IF(P25="운반비", L25, 0) -> 0 | T25: =IF(P25="작업부산물", F25, 0) -> 0 | U25: =IF(P25="관급", F25, 0) -> 0 | V25: =IF(P25="외주비", J25, 0) -> 0 | W25: =IF(P25="장비비", J25, 0) -> 0 | X25: =IF(P25="폐기물처리비", L25, 0) -> 0 | Y25: =IF(P25="가설비", J25, 0) -> 0 | Z25: =IF(P25="잡비제외분", F25, 0) -> 0 | AA25: =IF(P25="사급자재대", L25, 0) -> 0 | AB25: =IF(P25="관급자재대", L25, 0) -> 0 | AC25: =IF(P25="사용자항목1", L25, 0) -> 0 | AD25: =IF(P25="사용자항목2", L25, 0) -> 0 | AE25: =IF(P25="안전관리비", L25, 0) -> 0 | AF25: =IF(P25="품질관리비", L25, 0) -> 0 | AG25: =IF(P25="작업부산물(철거해체)", L25, 0) -> 0 | AH25: =IF(P25="재해예방기술지도비", L25, 0) -> 0 | AI25: =IF(P25="사용자항목7", L25, 0) -> 0 | AJ25: =IF(P25="석면분담금", L25, 0) -> 0 | AK25: =IF(P25="임금채권분담금", L25, 0) -> 0 | AL25: =IF(P25="사용자항목10", L25, 0) -> 0 | AM25: =IF(P25="사용자항목11", L25, 0) -> 0 | AN25: =IF(P25="사용자항목12", L25, 0) -> 0 | AO25: =IF(P25="사용자항목13", L25, 0) -> 0 | AP25: =IF(P25="사용자항목14", L25, 0) -> 0 | AQ25: =IF(P25="사용자항목15", L25, 0) -> 0 | AR25: =IF(P25="사용자항목16", L25, 0) -> 0 | AS25: =IF(P25="사용자항목17", L25, 0) -> 0 | AT25: =IF(P25="사용자항목18", L25, 0) -> 0 | AU25: =IF(P25="사용자항목19", L25, 0) -> 0
A26: 목재창호 철거 | B26: 1.0∼3.0㎡이하, 설치품의 20% | C26: 개소 | D26: 80 | F26: =ROUNDDOWN(D26*E26, 0) -> 0 | H26: =ROUNDDOWN(D26*G26, 0) -> 0 | J26: =ROUNDDOWN(D26*I26, 0) -> 0 | K26: =E26+G26+I26 -> 0 | L26: =F26+H26+J26 -> 0 | O26: ="" | P26: 기계경비 | Q26: 1 | R26: =IF(P26="기계경비", J26, 0) -> 0 | S26: =IF(P26="운반비", L26, 0) -> 0 | T26: =IF(P26="작업부산물", F26, 0) -> 0 | U26: =IF(P26="관급", F26, 0) -> 0 | V26: =IF(P26="외주비", J26, 0) -> 0 | W26: =IF(P26="장비비", J26, 0) -> 0 | X26: =IF(P26="폐기물처리비", L26, 0) -> 0 | Y26: =IF(P26="가설비", J26, 0) -> 0 | Z26: =IF(P26="잡비제외분", F26, 0) -> 0 | AA26: =IF(P26="사급자재대", L26, 0) -> 0 | AB26: =IF(P26="관급자재대", L26, 0) -> 0 | AC26: =IF(P26="사용자항목1", L26, 0) -> 0 | AD26: =IF(P26="사용자항목2", L26, 0) -> 0 | AE26: =IF(P26="안전관리비", L26, 0) -> 0 | AF26: =IF(P26="품질관리비", L26, 0) -> 0 | AG26: =IF(P26="작업부산물(철거해체)", L26, 0) -> 0 | AH26: =IF(P26="재해예방기술지도비", L26, 0) -> 0 | AI26: =IF(P26="사용자항목7", L26, 0) -> 0 | AJ26: =IF(P26="석면분담금", L26, 0) -> 0 | AK26: =IF(P26="임금채권분담금", L26, 0) -> 0 | AL26: =IF(P26="사용자항목10", L26, 0) -> 0 | AM26: =IF(P26="사용자항목11", L26, 0) -> 0 | AN26: =IF(P26="사용자항목12", L26, 0) -> 0 | AO26: =IF(P26="사용자항목13", L26, 0) -> 0 | AP26: =IF(P26="사용자항목14", L26, 0) -> 0 | AQ26: =IF(P26="사용자항목15", L26, 0) -> 0 | AR26: =IF(P26="사용자항목16", L26, 0) -> 0 | AS26: =IF(P26="사용자항목17", L26, 0) -> 0 | AT26: =IF(P26="사용자항목18", L26, 0) -> 0 | AU26: =IF(P26="사용자항목19", L26, 0) -> 0 | AY26: PK적산
A27: 몰탈 철거 | B27: 벽체 | C27: M2 | D27: 1392.91 | F27: =ROUNDDOWN(D27*E27, 0) -> 0 | H27: =ROUNDDOWN(D27*G27, 0) -> 0 | J27: =ROUNDDOWN(D27*I27, 0) -> 0 | K27: =E27+G27+I27 -> 0 | L27: =F27+H27+J27 -> 0 | O27: ="" | P27: 기계경비 | Q27: 1 | R27: =IF(P27="기계경비", J27, 0) -> 0 | S27: =IF(P27="운반비", L27, 0) -> 0 | T27: =IF(P27="작업부산물", F27, 0) -> 0 | U27: =IF(P27="관급", F27, 0) -> 0 | V27: =IF(P27="외주비", J27, 0) -> 0 | W27: =IF(P27="장비비", J27, 0) -> 0 | X27: =IF(P27="폐기물처리비", L27, 0) -> 0 | Y27: =IF(P27="가설비", J27, 0) -> 0 | Z27: =IF(P27="잡비제외분", F27, 0) -> 0 | AA27: =IF(P27="사급자재대", L27, 0) -> 0 | AB27: =IF(P27="관급자재대", L27, 0) -> 0 | AC27: =IF(P27="사용자항목1", L27, 0) -> 0 | AD27: =IF(P27="사용자항목2", L27, 0) -> 0 | AE27: =IF(P27="안전관리비", L27, 0) -> 0 | AF27: =IF(P27="품질관리비", L27, 0) -> 0 | AG27: =IF(P27="작업부산물(철거해체)", L27, 0) -> 0 | AH27: =IF(P27="재해예방기술지도비", L27, 0) -> 0 | AI27: =IF(P27="사용자항목7", L27, 0) -> 0 | AJ27: =IF(P27="석면분담금", L27, 0) -> 0 | AK27: =IF(P27="임금채권분담금", L27, 0) -> 0 | AL27: =IF(P27="사용자항목10", L27, 0) -> 0 | AM27: =IF(P27="사용자항목11", L27, 0) -> 0 | AN27: =IF(P27="사용자항목12", L27, 0) -> 0 | AO27: =IF(P27="사용자항목13", L27, 0) -> 0 | AP27: =IF(P27="사용자항목14", L27, 0) -> 0 | AQ27: =IF(P27="사용자항목15", L27, 0) -> 0 | AR27: =IF(P27="사용자항목16", L27, 0) -> 0 | AS27: =IF(P27="사용자항목17", L27, 0) -> 0 | AT27: =IF(P27="사용자항목18", L27, 0) -> 0 | AU27: =IF(P27="사용자항목19", L27, 0) -> 0 | AY27: PK적산
A28: 몰탈철거 | B28: 인력,바닥 | C28: M2 | D28: 298.72 | F28: =ROUNDDOWN(D28*E28, 0) -> 0 | H28: =ROUNDDOWN(D28*G28, 0) -> 0 | J28: =ROUNDDOWN(D28*I28, 0) -> 0 | K28: =E28+G28+I28 -> 0 | L28: =F28+H28+J28 -> 0 | O28: ="" | P28: 기계경비 | Q28: 1 | R28: =IF(P28="기계경비", J28, 0) -> 0 | S28: =IF(P28="운반비", L28, 0) -> 0 | T28: =IF(P28="작업부산물", F28, 0) -> 0 | U28: =IF(P28="관급", F28, 0) -> 0 | V28: =IF(P28="외주비", J28, 0) -> 0 | W28: =IF(P28="장비비", J28, 0) -> 0 | X28: =IF(P28="폐기물처리비", L28, 0) -> 0 | Y28: =IF(P28="가설비", J28, 0) -> 0 | Z28: =IF(P28="잡비제외분", F28, 0) -> 0 | AA28: =IF(P28="사급자재대", L28, 0) -> 0 | AB28: =IF(P28="관급자재대", L28, 0) -> 0 | AC28: =IF(P28="사용자항목1", L28, 0) -> 0 | AD28: =IF(P28="사용자항목2", L28, 0) -> 0 | AE28: =IF(P28="안전관리비", L28, 0) -> 0 | AF28: =IF(P28="품질관리비", L28, 0) -> 0 | AG28: =IF(P28="작업부산물(철거해체)", L28, 0) -> 0 | AH28: =IF(P28="재해예방기술지도비", L28, 0) -> 0 | AI28: =IF(P28="사용자항목7", L28, 0) -> 0 | AJ28: =IF(P28="석면분담금", L28, 0) -> 0 | AK28: =IF(P28="임금채권분담금", L28, 0) -> 0 | AL28: =IF(P28="사용자항목10", L28, 0) -> 0 | AM28: =IF(P28="사용자항목11", L28, 0) -> 0 | AN28: =IF(P28="사용자항목12", L28, 0) -> 0 | AO28: =IF(P28="사용자항목13", L28, 0) -> 0 | AP28: =IF(P28="사용자항목14", L28, 0) -> 0 | AQ28: =IF(P28="사용자항목15", L28, 0) -> 0 | AR28: =IF(P28="사용자항목16", L28, 0) -> 0 | AS28: =IF(P28="사용자항목17", L28, 0) -> 0 | AT28: =IF(P28="사용자항목18", L28, 0) -> 0 | AU28: =IF(P28="사용자항목19", L28, 0) -> 0
A29: 범퍼 및 핸드레일 철거 | B29: φ38, 목재손스침 설치품의 20% | C29: M | D29: 12.6 | F29: =ROUNDDOWN(D29*E29, 0) -> 0 | H29: =ROUNDDOWN(D29*G29, 0) -> 0 | J29: =ROUNDDOWN(D29*I29, 0) -> 0 | K29: =E29+G29+I29 -> 0 | L29: =F29+H29+J29 -> 0 | O29: ="" | P29: 기계경비 | Q29: 1 | R29: =IF(P29="기계경비", J29, 0) -> 0 | S29: =IF(P29="운반비", L29, 0) -> 0 | T29: =IF(P29="작업부산물", F29, 0) -> 0 | U29: =IF(P29="관급", F29, 0) -> 0 | V29: =IF(P29="외주비", J29, 0) -> 0 | W29: =IF(P29="장비비", J29, 0) -> 0 | X29: =IF(P29="폐기물처리비", L29, 0) -> 0 | Y29: =IF(P29="가설비", J29, 0) -> 0 | Z29: =IF(P29="잡비제외분", F29, 0) -> 0 | AA29: =IF(P29="사급자재대", L29, 0) -> 0 | AB29: =IF(P29="관급자재대", L29, 0) -> 0 | AC29: =IF(P29="사용자항목1", L29, 0) -> 0 | AD29: =IF(P29="사용자항목2", L29, 0) -> 0 | AE29: =IF(P29="안전관리비", L29, 0) -> 0 | AF29: =IF(P29="품질관리비", L29, 0) -> 0 | AG29: =IF(P29="작업부산물(철거해체)", L29, 0) -> 0 | AH29: =IF(P29="재해예방기술지도비", L29, 0) -> 0 | AI29: =IF(P29="사용자항목7", L29, 0) -> 0 | AJ29: =IF(P29="석면분담금", L29, 0) -> 0 | AK29: =IF(P29="임금채권분담금", L29, 0) -> 0 | AL29: =IF(P29="사용자항목10", L29, 0) -> 0 | AM29: =IF(P29="사용자항목11", L29, 0) -> 0 | AN29: =IF(P29="사용자항목12", L29, 0) -> 0 | AO29: =IF(P29="사용자항목13", L29, 0) -> 0 | AP29: =IF(P29="사용자항목14", L29, 0) -> 0 | AQ29: =IF(P29="사용자항목15", L29, 0) -> 0 | AR29: =IF(P29="사용자항목16", L29, 0) -> 0 | AS29: =IF(P29="사용자항목17", L29, 0) -> 0 | AT29: =IF(P29="사용자항목18", L29, 0) -> 0 | AU29: =IF(P29="사용자항목19", L29, 0) -> 0 | AY29: PK적산
A30: 욕실금구류 철거 | B30: 장애인손잡이, BAR형, 설치품의 20% | C30: 개 | D30: 101 | F30: =ROUNDDOWN(D30*E30, 0) -> 0 | H30: =ROUNDDOWN(D30*G30, 0) -> 0 | J30: =ROUNDDOWN(D30*I30, 0) -> 0 | K30: =E30+G30+I30 -> 0 | L30: =F30+H30+J30 -> 0 | O30: ="" | P30: 기계경비 | Q30: 1 | R30: =IF(P30="기계경비", J30, 0) -> 0 | S30: =IF(P30="운반비", L30, 0) -> 0 | T30: =IF(P30="작업부산물", F30, 0) -> 0 | U30: =IF(P30="관급", F30, 0) -> 0 | V30: =IF(P30="외주비", J30, 0) -> 0 | W30: =IF(P30="장비비", J30, 0) -> 0 | X30: =IF(P30="폐기물처리비", L30, 0) -> 0 | Y30: =IF(P30="가설비", J30, 0) -> 0 | Z30: =IF(P30="잡비제외분", F30, 0) -> 0 | AA30: =IF(P30="사급자재대", L30, 0) -> 0 | AB30: =IF(P30="관급자재대", L30, 0) -> 0 | AC30: =IF(P30="사용자항목1", L30, 0) -> 0 | AD30: =IF(P30="사용자항목2", L30, 0) -> 0 | AE30: =IF(P30="안전관리비", L30, 0) -> 0 | AF30: =IF(P30="품질관리비", L30, 0) -> 0 | AG30: =IF(P30="작업부산물(철거해체)", L30, 0) -> 0 | AH30: =IF(P30="재해예방기술지도비", L30, 0) -> 0 | AI30: =IF(P30="사용자항목7", L30, 0) -> 0 | AJ30: =IF(P30="석면분담금", L30, 0) -> 0 | AK30: =IF(P30="임금채권분담금", L30, 0) -> 0 | AL30: =IF(P30="사용자항목10", L30, 0) -> 0 | AM30: =IF(P30="사용자항목11", L30, 0) -> 0 | AN30: =IF(P30="사용자항목12", L30, 0) -> 0 | AO30: =IF(P30="사용자항목13", L30, 0) -> 0 | AP30: =IF(P30="사용자항목14", L30, 0) -> 0 | AQ30: =IF(P30="사용자항목15", L30, 0) -> 0 | AR30: =IF(P30="사용자항목16", L30, 0) -> 0 | AS30: =IF(P30="사용자항목17", L30, 0) -> 0 | AT30: =IF(P30="사용자항목18", L30, 0) -> 0 | AU30: =IF(P30="사용자항목19", L30, 0) -> 0 | AY30: PK적산
A31: 재료분리대 철거 | B31: W 40, SUS | C31: M | D31: 7.8 | F31: =ROUNDDOWN(D31*E31, 0) -> 0 | H31: =ROUNDDOWN(D31*G31, 0) -> 0 | J31: =ROUNDDOWN(D31*I31, 0) -> 0 | K31: =E31+G31+I31 -> 0 | L31: =F31+H31+J31 -> 0 | O31: ="" | P31: 기계경비 | Q31: 1 | R31: =IF(P31="기계경비", J31, 0) -> 0 | S31: =IF(P31="운반비", L31, 0) -> 0 | T31: =IF(P31="작업부산물", F31, 0) -> 0 | U31: =IF(P31="관급", F31, 0) -> 0 | V31: =IF(P31="외주비", J31, 0) -> 0 | W31: =IF(P31="장비비", J31, 0) -> 0 | X31: =IF(P31="폐기물처리비", L31, 0) -> 0 | Y31: =IF(P31="가설비", J31, 0) -> 0 | Z31: =IF(P31="잡비제외분", F31, 0) -> 0 | AA31: =IF(P31="사급자재대", L31, 0) -> 0 | AB31: =IF(P31="관급자재대", L31, 0) -> 0 | AC31: =IF(P31="사용자항목1", L31, 0) -> 0 | AD31: =IF(P31="사용자항목2", L31, 0) -> 0 | AE31: =IF(P31="안전관리비", L31, 0) -> 0 | AF31: =IF(P31="품질관리비", L31, 0) -> 0 | AG31: =IF(P31="작업부산물(철거해체)", L31, 0) -> 0 | AH31: =IF(P31="재해예방기술지도비", L31, 0) -> 0 | AI31: =IF(P31="사용자항목7", L31, 0) -> 0 | AJ31: =IF(P31="석면분담금", L31, 0) -> 0 | AK31: =IF(P31="임금채권분담금", L31, 0) -> 0 | AL31: =IF(P31="사용자항목10", L31, 0) -> 0 | AM31: =IF(P31="사용자항목11", L31, 0) -> 0 | AN31: =IF(P31="사용자항목12", L31, 0) -> 0 | AO31: =IF(P31="사용자항목13", L31, 0) -> 0 | AP31: =IF(P31="사용자항목14", L31, 0) -> 0 | AQ31: =IF(P31="사용자항목15", L31, 0) -> 0 | AR31: =IF(P31="사용자항목16", L31, 0) -> 0 | AS31: =IF(P31="사용자항목17", L31, 0) -> 0 | AT31: =IF(P31="사용자항목18", L31, 0) -> 0 | AU31: =IF(P31="사용자항목19", L31, 0) -> 0 | AY31: PK적산
A32: 점자표지판 철거 | B32: 120×45 | C32: 개 | D32: 6 | F32: =ROUNDDOWN(D32*E32, 0) -> 0 | H32: =ROUNDDOWN(D32*G32, 0) -> 0 | J32: =ROUNDDOWN(D32*I32, 0) -> 0 | K32: =E32+G32+I32 -> 0 | L32: =F32+H32+J32 -> 0 | O32: ="" | P32: 기계경비 | Q32: 1 | R32: =IF(P32="기계경비", J32, 0) -> 0 | S32: =IF(P32="운반비", L32, 0) -> 0 | T32: =IF(P32="작업부산물", F32, 0) -> 0 | U32: =IF(P32="관급", F32, 0) -> 0 | V32: =IF(P32="외주비", J32, 0) -> 0 | W32: =IF(P32="장비비", J32, 0) -> 0 | X32: =IF(P32="폐기물처리비", L32, 0) -> 0 | Y32: =IF(P32="가설비", J32, 0) -> 0 | Z32: =IF(P32="잡비제외분", F32, 0) -> 0 | AA32: =IF(P32="사급자재대", L32, 0) -> 0 | AB32: =IF(P32="관급자재대", L32, 0) -> 0 | AC32: =IF(P32="사용자항목1", L32, 0) -> 0 | AD32: =IF(P32="사용자항목2", L32, 0) -> 0 | AE32: =IF(P32="안전관리비", L32, 0) -> 0 | AF32: =IF(P32="품질관리비", L32, 0) -> 0 | AG32: =IF(P32="작업부산물(철거해체)", L32, 0) -> 0 | AH32: =IF(P32="재해예방기술지도비", L32, 0) -> 0 | AI32: =IF(P32="사용자항목7", L32, 0) -> 0 | AJ32: =IF(P32="석면분담금", L32, 0) -> 0 | AK32: =IF(P32="임금채권분담금", L32, 0) -> 0 | AL32: =IF(P32="사용자항목10", L32, 0) -> 0 | AM32: =IF(P32="사용자항목11", L32, 0) -> 0 | AN32: =IF(P32="사용자항목12", L32, 0) -> 0 | AO32: =IF(P32="사용자항목13", L32, 0) -> 0 | AP32: =IF(P32="사용자항목14", L32, 0) -> 0 | AQ32: =IF(P32="사용자항목15", L32, 0) -> 0 | AR32: =IF(P32="사용자항목16", L32, 0) -> 0 | AS32: =IF(P32="사용자항목17", L32, 0) -> 0 | AT32: =IF(P32="사용자항목18", L32, 0) -> 0 | AU32: =IF(P32="사용자항목19", L32, 0) -> 0 | AY32: PK적산
A33: 타일 철거 | B33: 바닥 | C33: M2 | D33: 298.72 | F33: =ROUNDDOWN(D33*E33, 0) -> 0 | H33: =ROUNDDOWN(D33*G33, 0) -> 0 | J33: =ROUNDDOWN(D33*I33, 0) -> 0 | K33: =E33+G33+I33 -> 0 | L33: =F33+H33+J33 -> 0 | O33: ="" | P33: 기계경비 | Q33: 1 | R33: =IF(P33="기계경비", J33, 0) -> 0 | S33: =IF(P33="운반비", L33, 0) -> 0 | T33: =IF(P33="작업부산물", F33, 0) -> 0 | U33: =IF(P33="관급", F33, 0) -> 0 | V33: =IF(P33="외주비", J33, 0) -> 0 | W33: =IF(P33="장비비", J33, 0) -> 0 | X33: =IF(P33="폐기물처리비", L33, 0) -> 0 | Y33: =IF(P33="가설비", J33, 0) -> 0 | Z33: =IF(P33="잡비제외분", F33, 0) -> 0 | AA33: =IF(P33="사급자재대", L33, 0) -> 0 | AB33: =IF(P33="관급자재대", L33, 0) -> 0 | AC33: =IF(P33="사용자항목1", L33, 0) -> 0 | AD33: =IF(P33="사용자항목2", L33, 0) -> 0 | AE33: =IF(P33="안전관리비", L33, 0) -> 0 | AF33: =IF(P33="품질관리비", L33, 0) -> 0 | AG33: =IF(P33="작업부산물(철거해체)", L33, 0) -> 0 | AH33: =IF(P33="재해예방기술지도비", L33, 0) -> 0 | AI33: =IF(P33="사용자항목7", L33, 0) -> 0 | AJ33: =IF(P33="석면분담금", L33, 0) -> 0 | AK33: =IF(P33="임금채권분담금", L33, 0) -> 0 | AL33: =IF(P33="사용자항목10", L33, 0) -> 0 | AM33: =IF(P33="사용자항목11", L33, 0) -> 0 | AN33: =IF(P33="사용자항목12", L33, 0) -> 0 | AO33: =IF(P33="사용자항목13", L33, 0) -> 0 | AP33: =IF(P33="사용자항목14", L33, 0) -> 0 | AQ33: =IF(P33="사용자항목15", L33, 0) -> 0 | AR33: =IF(P33="사용자항목16", L33, 0) -> 0 | AS33: =IF(P33="사용자항목17", L33, 0) -> 0 | AT33: =IF(P33="사용자항목18", L33, 0) -> 0 | AU33: =IF(P33="사용자항목19", L33, 0) -> 0 | AY33: 실내건축
A34: 타일 철거 | B34: 벽체 | C34: M2 | D34: 1392.91 | F34: =ROUNDDOWN(D34*E34, 0) -> 0 | H34: =ROUNDDOWN(D34*G34, 0) -> 0 | J34: =ROUNDDOWN(D34*I34, 0) -> 0 | K34: =E34+G34+I34 -> 0 | L34: =F34+H34+J34 -> 0 | O34: ="" | P34: 기계경비 | Q34: 1 | R34: =IF(P34="기계경비", J34, 0) -> 0 | S34: =IF(P34="운반비", L34, 0) -> 0 | T34: =IF(P34="작업부산물", F34, 0) -> 0 | U34: =IF(P34="관급", F34, 0) -> 0 | V34: =IF(P34="외주비", J34, 0) -> 0 | W34: =IF(P34="장비비", J34, 0) -> 0 | X34: =IF(P34="폐기물처리비", L34, 0) -> 0 | Y34: =IF(P34="가설비", J34, 0) -> 0 | Z34: =IF(P34="잡비제외분", F34, 0) -> 0 | AA34: =IF(P34="사급자재대", L34, 0) -> 0 | AB34: =IF(P34="관급자재대", L34, 0) -> 0 | AC34: =IF(P34="사용자항목1", L34, 0) -> 0 | AD34: =IF(P34="사용자항목2", L34, 0) -> 0 | AE34: =IF(P34="안전관리비", L34, 0) -> 0 | AF34: =IF(P34="품질관리비", L34, 0) -> 0 | AG34: =IF(P34="작업부산물(철거해체)", L34, 0) -> 0 | AH34: =IF(P34="재해예방기술지도비", L34, 0) -> 0 | AI34: =IF(P34="사용자항목7", L34, 0) -> 0 | AJ34: =IF(P34="석면분담금", L34, 0) -> 0 | AK34: =IF(P34="임금채권분담금", L34, 0) -> 0 | AL34: =IF(P34="사용자항목10", L34, 0) -> 0 | AM34: =IF(P34="사용자항목11", L34, 0) -> 0 | AN34: =IF(P34="사용자항목12", L34, 0) -> 0 | AO34: =IF(P34="사용자항목13", L34, 0) -> 0 | AP34: =IF(P34="사용자항목14", L34, 0) -> 0 | AQ34: =IF(P34="사용자항목15", L34, 0) -> 0 | AR34: =IF(P34="사용자항목16", L34, 0) -> 0 | AS34: =IF(P34="사용자항목17", L34, 0) -> 0 | AT34: =IF(P34="사용자항목18", L34, 0) -> 0 | AU34: =IF(P34="사용자항목19", L34, 0) -> 0 | AY34: 실내건축
A35: 화강석재료분리대 철거 | B35: 물갈기, W175*30mm, 설치품의 20% | C35: M | D35: 56.8 | F35: =ROUNDDOWN(D35*E35, 0) -> 0 | H35: =ROUNDDOWN(D35*G35, 0) -> 0 | J35: =ROUNDDOWN(D35*I35, 0) -> 0 | K35: =E35+G35+I35 -> 0 | L35: =F35+H35+J35 -> 0 | O35: ="" | P35: 기계경비 | Q35: 1 | R35: =IF(P35="기계경비", J35, 0) -> 0 | S35: =IF(P35="운반비", L35, 0) -> 0 | T35: =IF(P35="작업부산물", F35, 0) -> 0 | U35: =IF(P35="관급", F35, 0) -> 0 | V35: =IF(P35="외주비", J35, 0) -> 0 | W35: =IF(P35="장비비", J35, 0) -> 0 | X35: =IF(P35="폐기물처리비", L35, 0) -> 0 | Y35: =IF(P35="가설비", J35, 0) -> 0 | Z35: =IF(P35="잡비제외분", F35, 0) -> 0 | AA35: =IF(P35="사급자재대", L35, 0) -> 0 | AB35: =IF(P35="관급자재대", L35, 0) -> 0 | AC35: =IF(P35="사용자항목1", L35, 0) -> 0 | AD35: =IF(P35="사용자항목2", L35, 0) -> 0 | AE35: =IF(P35="안전관리비", L35, 0) -> 0 | AF35: =IF(P35="품질관리비", L35, 0) -> 0 | AG35: =IF(P35="작업부산물(철거해체)", L35, 0) -> 0 | AH35: =IF(P35="재해예방기술지도비", L35, 0) -> 0 | AI35: =IF(P35="사용자항목7", L35, 0) -> 0 | AJ35: =IF(P35="석면분담금", L35, 0) -> 0 | AK35: =IF(P35="임금채권분담금", L35, 0) -> 0 | AL35: =IF(P35="사용자항목10", L35, 0) -> 0 | AM35: =IF(P35="사용자항목11", L35, 0) -> 0 | AN35: =IF(P35="사용자항목12", L35, 0) -> 0 | AO35: =IF(P35="사용자항목13", L35, 0) -> 0 | AP35: =IF(P35="사용자항목14", L35, 0) -> 0 | AQ35: =IF(P35="사용자항목15", L35, 0) -> 0 | AR35: =IF(P35="사용자항목16", L35, 0) -> 0 | AS35: =IF(P35="사용자항목17", L35, 0) -> 0 | AT35: =IF(P35="사용자항목18", L35, 0) -> 0 | AU35: =IF(P35="사용자항목19", L35, 0) -> 0 | AY35: PK적산
A36: 화강석재료분리대 철거 | B36: 물갈기, W275*30mm, 설치품의 20% | C36: M | D36: 7.7 | F36: =ROUNDDOWN(D36*E36, 0) -> 0 | H36: =ROUNDDOWN(D36*G36, 0) -> 0 | J36: =ROUNDDOWN(D36*I36, 0) -> 0 | K36: =E36+G36+I36 -> 0 | L36: =F36+H36+J36 -> 0 | O36: ="" | P36: 기계경비 | Q36: 1 | R36: =IF(P36="기계경비", J36, 0) -> 0 | S36: =IF(P36="운반비", L36, 0) -> 0 | T36: =IF(P36="작업부산물", F36, 0) -> 0 | U36: =IF(P36="관급", F36, 0) -> 0 | V36: =IF(P36="외주비", J36, 0) -> 0 | W36: =IF(P36="장비비", J36, 0) -> 0 | X36: =IF(P36="폐기물처리비", L36, 0) -> 0 | Y36: =IF(P36="가설비", J36, 0) -> 0 | Z36: =IF(P36="잡비제외분", F36, 0) -> 0 | AA36: =IF(P36="사급자재대", L36, 0) -> 0 | AB36: =IF(P36="관급자재대", L36, 0) -> 0 | AC36: =IF(P36="사용자항목1", L36, 0) -> 0 | AD36: =IF(P36="사용자항목2", L36, 0) -> 0 | AE36: =IF(P36="안전관리비", L36, 0) -> 0 | AF36: =IF(P36="품질관리비", L36, 0) -> 0 | AG36: =IF(P36="작업부산물(철거해체)", L36, 0) -> 0 | AH36: =IF(P36="재해예방기술지도비", L36, 0) -> 0 | AI36: =IF(P36="사용자항목7", L36, 0) -> 0 | AJ36: =IF(P36="석면분담금", L36, 0) -> 0 | AK36: =IF(P36="임금채권분담금", L36, 0) -> 0 | AL36: =IF(P36="사용자항목10", L36, 0) -> 0 | AM36: =IF(P36="사용자항목11", L36, 0) -> 0 | AN36: =IF(P36="사용자항목12", L36, 0) -> 0 | AO36: =IF(P36="사용자항목13", L36, 0) -> 0 | AP36: =IF(P36="사용자항목14", L36, 0) -> 0 | AQ36: =IF(P36="사용자항목15", L36, 0) -> 0 | AR36: =IF(P36="사용자항목16", L36, 0) -> 0 | AS36: =IF(P36="사용자항목17", L36, 0) -> 0 | AT36: =IF(P36="사용자항목18", L36, 0) -> 0 | AU36: =IF(P36="사용자항목19", L36, 0) -> 0 | AY36: PK적산
A37: 건설폐기물수집운반비(상차비) | B37: 24톤 덤프트럭, 건설폐재류 | C37: TON | D37: 245.33 | F37: =ROUNDDOWN(D37*E37, 0) -> 0 | H37: =ROUNDDOWN(D37*G37, 0) -> 0 | J37: =ROUNDDOWN(D37*I37, 0) -> 0 | K37: =E37+G37+I37 -> 0 | L37: =F37+H37+J37 -> 0 | O37: ="03" -> 03 | P37: 기계경비 | Q37: 1 | R37: =IF(P37="기계경비", J37, 0) -> 0 | S37: =IF(P37="운반비", L37, 0) -> 0 | T37: =IF(P37="작업부산물", F37, 0) -> 0 | U37: =IF(P37="관급", F37, 0) -> 0 | V37: =IF(P37="외주비", J37, 0) -> 0 | W37: =IF(P37="장비비", J37, 0) -> 0 | X37: =IF(P37="폐기물처리비", L37, 0) -> 0 | Y37: =IF(P37="가설비", J37, 0) -> 0 | Z37: =IF(P37="잡비제외분", F37, 0) -> 0 | AA37: =IF(P37="사급자재대", L37, 0) -> 0 | AB37: =IF(P37="관급자재대", L37, 0) -> 0 | AC37: =IF(P37="사용자항목1", L37, 0) -> 0 | AD37: =IF(P37="사용자항목2", L37, 0) -> 0 | AE37: =IF(P37="안전관리비", L37, 0) -> 0 | AF37: =IF(P37="품질관리비", L37, 0) -> 0 | AG37: =IF(P37="작업부산물(철거해체)", L37, 0) -> 0 | AH37: =IF(P37="재해예방기술지도비", L37, 0) -> 0 | AI37: =IF(P37="사용자항목7", L37, 0) -> 0 | AJ37: =IF(P37="석면분담금", L37, 0) -> 0 | AK37: =IF(P37="임금채권분담금", L37, 0) -> 0 | AL37: =IF(P37="사용자항목10", L37, 0) -> 0 | AM37: =IF(P37="사용자항목11", L37, 0) -> 0 | AN37: =IF(P37="사용자항목12", L37, 0) -> 0 | AO37: =IF(P37="사용자항목13", L37, 0) -> 0 | AP37: =IF(P37="사용자항목14", L37, 0) -> 0 | AQ37: =IF(P37="사용자항목15", L37, 0) -> 0 | AR37: =IF(P37="사용자항목16", L37, 0) -> 0 | AS37: =IF(P37="사용자항목17", L37, 0) -> 0 | AT37: =IF(P37="사용자항목18", L37, 0) -> 0 | AU37: =IF(P37="사용자항목19", L37, 0) -> 0
A52: 합 계 | F52: =ROUNDDOWN(SUMIF(Q22:Q51, "1", F22:F51), 0) -> 0 | H52: =ROUNDDOWN(SUMIF(Q22:Q51, "1", H22:H51), 0) -> 0 | J52: =ROUNDDOWN(SUMIF(Q22:Q51, "1", J22:J51), 0) -> 0 | L52: =F52+H52+J52 -> 0 | R52: =ROUNDDOWN(SUM(R22:R37), 0) -> 0 | S52: =ROUNDDOWN(SUM(S22:S37), 0) -> 0 | T52: =ROUNDDOWN(SUM(T22:T37), 0) -> 0 | U52: =ROUNDDOWN(SUM(U22:U37), 0) -> 0 | V52: =ROUNDDOWN(SUM(V22:V37), 0) -> 0 | W52: =ROUNDDOWN(SUM(W22:W37), 0) -> 0 | X52: =ROUNDDOWN(SUM(X22:X37), 0) -> 0 | Y52: =ROUNDDOWN(SUM(Y22:Y37), 0) -> 0 | ... AY52: =ROUNDDOWN(SUM(AY22:AY37), 0) -> 0
A53: 010103. 작업부산물(철거해체)
A54: 철강설 | B54: 철강설, 고철, 작업설부산물 | C54: kg | D54: 947.95 | F54: =ROUNDDOWN(D54*E54, 0) -> 0 | G54: 0 | H54: =ROUNDDOWN(D54*G54, 0) -> 0 | I54: 0 | J54: =ROUNDDOWN(D54*I54, 0) -> 0 | K54: =E54+G54+I54 -> 0 | L54: =F54+H54+J54 -> 0 | O54: ="01" -> 01 | P54: 작업부산물(철거해체) | Q54: 1 | R54: =IF(P54="기계경비", J54, 0) -> 0 | S54: =IF(P54="운반비", L54, 0) -> 0 | T54: =IF(P54="작업부산물", F54, 0) -> 0 | U54: =IF(P54="관급", F54, 0) -> 0 | V54: =IF(P54="외주비", J54, 0) -> 0 | W54: =IF(P54="장비비", J54, 0) -> 0 | X54: =IF(P54="폐기물처리비", L54, 0) -> 0 | Y54: =IF(P54="가설비", J54, 0) -> 0 | Z54: =IF(P54="잡비제외분", F54, 0) -> 0 | AA54: =IF(P54="사급자재대", L54, 0) -> 0 | AB54: =IF(P54="관급자재대", L54, 0) -> 0 | AC54: =IF(P54="사용자항목1", L54, 0) -> 0 | AD54: =IF(P54="사용자항목2", L54, 0) -> 0 | AE54: =IF(P54="안전관리비", L54, 0) -> 0 | AF54: =IF(P54="품질관리비", L54, 0) -> 0 | AG54: =IF(P54="작업부산물(철거해체)", L54, 0) -> 0 | AH54: =IF(P54="재해예방기술지도비", L54, 0) -> 0 | AI54: =IF(P54="사용자항목7", L54, 0) -> 0 | AJ54: =IF(P54="석면분담금", L54, 0) -> 0 | AK54: =IF(P54="임금채권분담금", L54, 0) -> 0 | AL54: =IF(P54="사용자항목10", L54, 0) -> 0 | AM54: =IF(P54="사용자항목11", L54, 0) -> 0 | AN54: =IF(P54="사용자항목12", L54, 0) -> 0 | AO54: =IF(P54="사용자항목13", L54, 0) -> 0 | AP54: =IF(P54="사용자항목14", L54, 0) -> 0 | AQ54: =IF(P54="사용자항목15", L54, 0) -> 0 | AR54: =IF(P54="사용자항목16", L54, 0) -> 0 | AS54: =IF(P54="사용자항목17", L54, 0) -> 0 | AT54: =IF(P54="사용자항목18", L54, 0) -> 0 | AU54: =IF(P54="사용자항목19", L54, 0) -> 0
A55: 철합금설 | B55: 철합금설, 스텐레스.작업설부산물 | C55: kg | D55: 565.94 | F55: =ROUNDDOWN(D55*E55, 0) -> 0 | G55: 0 | H55: =ROUNDDOWN(D55*G55, 0) -> 0 | I55: 0 | J55: =ROUNDDOWN(D55*I55, 0) -> 0 | K55: =E55+G55+I55 -> 0 | L55: =F55+H55+J55 -> 0 | O55: ="01" -> 01 | P55: 작업부산물(철거해체) | Q55: 1 | R55: =IF(P55="기계경비", J55, 0) -> 0 | S55: =IF(P55="운반비", L55, 0) -> 0 | T55: =IF(P55="작업부산물", F55, 0) -> 0 | U55: =IF(P55="관급", F55, 0) -> 0 | V55: =IF(P55="외주비", J55, 0) -> 0 | W55: =IF(P55="장비비", J55, 0) -> 0 | X55: =IF(P55="폐기물처리비", L55, 0) -> 0 | Y55: =IF(P55="가설비", J55, 0) -> 0 | Z55: =IF(P55="잡비제외분", F55, 0) -> 0 | AA55: =IF(P55="사급자재대", L55, 0) -> 0 | AB55: =IF(P55="관급자재대", L55, 0) -> 0 | AC55: =IF(P55="사용자항목1", L55, 0) -> 0 | AD55: =IF(P55="사용자항목2", L55, 0) -> 0 | AE55: =IF(P55="안전관리비", L55, 0) -> 0 | AF55: =IF(P55="품질관리비", L55, 0) -> 0 | AG55: =IF(P55="작업부산물(철거해체)", L55, 0) -> 0 | AH55: =IF(P55="재해예방기술지도비", L55, 0) -> 0 | AI55: =IF(P55="사용자항목7", L55, 0) -> 0 | AJ55: =IF(P55="석면분담금", L55, 0) -> 0 | AK55: =IF(P55="임금채권분담금", L55, 0) -> 0 | AL55: =IF(P55="사용자항목10", L55, 0) -> 0 | AM55: =IF(P55="사용자항목11", L55, 0) -> 0 | AN55: =IF(P55="사용자항목12", L55, 0) -> 0 | AO55: =IF(P55="사용자항목13", L55, 0) -> 0 | AP55: =IF(P55="사용자항목14", L55, 0) -> 0 | AQ55: =IF(P55="사용자항목15", L55, 0) -> 0 | AR55: =IF(P55="사용자항목16", L55, 0) -> 0 | AS55: =IF(P55="사용자항목17", L55, 0) -> 0 | AT55: =IF(P55="사용자항목18", L55, 0) -> 0 | AU55: =IF(P55="사용자항목19", L55, 0) -> 0
A68: 합 계 | F68: =ROUNDDOWN(SUMIF(Q54:Q67, "1", F54:F67), 0) -> 0 | H68: =ROUNDDOWN(SUMIF(Q54:Q67, "1", H54:H67), 0) -> 0 | J68: =ROUNDDOWN(SUMIF(Q54:Q67, "1", J54:J67), 0) -> 0 | L68: =F68+H68+J68 -> 0 | R68: =ROUNDDOWN(SUM(R54:R55), 0) -> 0 | S68: =ROUNDDOWN(SUM(S54:S55), 0) -> 0 | T68: =ROUNDDOWN(SUM(T54:T55), 0) -> 0 | U68: =ROUNDDOWN(SUM(U54:U55), 0) -> 0 | V68: =ROUNDDOWN(SUM(V54:V55), 0) -> 0 | W68: =ROUNDDOWN(SUM(W54:W55), 0) -> 0 | X68: =ROUNDDOWN(SUM(X54:X55), 0) -> 0 | Y68: =ROUNDDOWN(SUM(Y54:Y55), 0) -> 0 | ... AY68: =ROUNDDOWN(SUM(AY54:AY55), 0) -> 0
A69: 010104. 방수공사
A70: 수밀코킹(10mm각) | B70: 방화실리콘 | C70: M | D70: 136.4 | F70: =ROUNDDOWN(D70*E70, 0) -> 0 | H70: =ROUNDDOWN(D70*G70, 0) -> 0 | J70: =ROUNDDOWN(D70*I70, 0) -> 0 | K70: =E70+G70+I70 -> 0 | L70: =F70+H70+J70 -> 0 | O70: ="" | P70: 기계경비 | Q70: 1 | R70: =IF(P70="기계경비", J70, 0) -> 0 | S70: =IF(P70="운반비", L70, 0) -> 0 | T70: =IF(P70="작업부산물", F70, 0) -> 0 | U70: =IF(P70="관급", F70, 0) -> 0 | V70: =IF(P70="외주비", J70, 0) -> 0 | W70: =IF(P70="장비비", J70, 0) -> 0 | X70: =IF(P70="폐기물처리비", L70, 0) -> 0 | Y70: =IF(P70="가설비", J70, 0) -> 0 | Z70: =IF(P70="잡비제외분", F70, 0) -> 0 | AA70: =IF(P70="사급자재대", L70, 0) -> 0 | AB70: =IF(P70="관급자재대", L70, 0) -> 0 | AC70: =IF(P70="사용자항목1", L70, 0) -> 0 | AD70: =IF(P70="사용자항목2", L70, 0) -> 0 | AE70: =IF(P70="안전관리비", L70, 0) -> 0 | AF70: =IF(P70="품질관리비", L70, 0) -> 0 | AG70: =IF(P70="작업부산물(철거해체)", L70, 0) -> 0 | AH70: =IF(P70="재해예방기술지도비", L70, 0) -> 0 | AI70: =IF(P70="사용자항목7", L70, 0) -> 0 | AJ70: =IF(P70="석면분담금", L70, 0) -> 0 | AK70: =IF(P70="임금채권분담금", L70, 0) -> 0 | AL70: =IF(P70="사용자항목10", L70, 0) -> 0 | AM70: =IF(P70="사용자항목11", L70, 0) -> 0 | AN70: =IF(P70="사용자항목12", L70, 0) -> 0 | AO70: =IF(P70="사용자항목13", L70, 0) -> 0 | AP70: =IF(P70="사용자항목14", L70, 0) -> 0 | AQ70: =IF(P70="사용자항목15", L70, 0) -> 0 | AR70: =IF(P70="사용자항목16", L70, 0) -> 0 | AS70: =IF(P70="사용자항목17", L70, 0) -> 0 | AT70: =IF(P70="사용자항목18", L70, 0) -> 0 | AU70: =IF(P70="사용자항목19", L70, 0) -> 0 | AY70: PK적산
A71: 아스팔트 도막방수 | B71: 2회, 바닥 | C71: M2 | D71: 298.72 | F71: =ROUNDDOWN(D71*E71, 0) -> 0 | H71: =ROUNDDOWN(D71*G71, 0) -> 0 | J71: =ROUNDDOWN(D71*I71, 0) -> 0 | K71: =E71+G71+I71 -> 0 | L71: =F71+H71+J71 -> 0 | O71: ="" | P71: 기계경비 | Q71: 1 | R71: =IF(P71="기계경비", J71, 0) -> 0 | S71: =IF(P71="운반비", L71, 0) -> 0 | T71: =IF(P71="작업부산물", F71, 0) -> 0 | U71: =IF(P71="관급", F71, 0) -> 0 | V71: =IF(P71="외주비", J71, 0) -> 0 | W71: =IF(P71="장비비", J71, 0) -> 0 | X71: =IF(P71="폐기물처리비", L71, 0) -> 0 | Y71: =IF(P71="가설비", J71, 0) -> 0 | Z71: =IF(P71="잡비제외분", F71, 0) -> 0 | AA71: =IF(P71="사급자재대", L71, 0) -> 0 | AB71: =IF(P71="관급자재대", L71, 0) -> 0 | AC71: =IF(P71="사용자항목1", L71, 0) -> 0 | AD71: =IF(P71="사용자항목2", L71, 0) -> 0 | AE71: =IF(P71="안전관리비", L71, 0) -> 0 | AF71: =IF(P71="품질관리비", L71, 0) -> 0 | AG71: =IF(P71="작업부산물(철거해체)", L71, 0) -> 0 | AH71: =IF(P71="재해예방기술지도비", L71, 0) -> 0 | AI71: =IF(P71="사용자항목7", L71, 0) -> 0 | AJ71: =IF(P71="석면분담금", L71, 0) -> 0 | AK71: =IF(P71="임금채권분담금", L71, 0) -> 0 | AL71: =IF(P71="사용자항목10", L71, 0) -> 0 | AM71: =IF(P71="사용자항목11", L71, 0) -> 0 | AN71: =IF(P71="사용자항목12", L71, 0) -> 0 | AO71: =IF(P71="사용자항목13", L71, 0) -> 0 | AP71: =IF(P71="사용자항목14", L71, 0) -> 0 | AQ71: =IF(P71="사용자항목15", L71, 0) -> 0 | AR71: =IF(P71="사용자항목16", L71, 0) -> 0 | AS71: =IF(P71="사용자항목17", L71, 0) -> 0 | AT71: =IF(P71="사용자항목18", L71, 0) -> 0 | AU71: =IF(P71="사용자항목19", L71, 0) -> 0 | AY71: PK적산
A72: 아스팔트 도막방수 | B72: 2회, 벽체 | C72: M2 | D72: 946.45 | F72: =ROUNDDOWN(D72*E72, 0) -> 0 | H72: =ROUNDDOWN(D72*G72, 0) -> 0 | J72: =ROUNDDOWN(D72*I72, 0) -> 0 | K72: =E72+G72+I72 -> 0 | L72: =F72+H72+J72 -> 0 | O72: ="" | P72: 기계경비 | Q72: 1 | R72: =IF(P72="기계경비", J72, 0) -> 0 | S72: =IF(P72="운반비", L72, 0) -> 0 | T72: =IF(P72="작업부산물", F72, 0) -> 0 | U72: =IF(P72="관급", F72, 0) -> 0 | V72: =IF(P72="외주비", J72, 0) -> 0 | W72: =IF(P72="장비비", J72, 0) -> 0 | X72: =IF(P72="폐기물처리비", L72, 0) -> 0 | Y72: =IF(P72="가설비", J72, 0) -> 0 | Z72: =IF(P72="잡비제외분", F72, 0) -> 0 | AA72: =IF(P72="사급자재대", L72, 0) -> 0 | AB72: =IF(P72="관급자재대", L72, 0) -> 0 | AC72: =IF(P72="사용자항목1", L72, 0) -> 0 | AD72: =IF(P72="사용자항목2", L72, 0) -> 0 | AE72: =IF(P72="안전관리비", L72, 0) -> 0 | AF72: =IF(P72="품질관리비", L72, 0) -> 0 | AG72: =IF(P72="작업부산물(철거해체)", L72, 0) -> 0 | AH72: =IF(P72="재해예방기술지도비", L72, 0) -> 0 | AI72: =IF(P72="사용자항목7", L72, 0) -> 0 | AJ72: =IF(P72="석면분담금", L72, 0) -> 0 | AK72: =IF(P72="임금채권분담금", L72, 0) -> 0 | AL72: =IF(P72="사용자항목10", L72, 0) -> 0 | AM72: =IF(P72="사용자항목11", L72, 0) -> 0 | AN72: =IF(P72="사용자항목12", L72, 0) -> 0 | AO72: =IF(P72="사용자항목13", L72, 0) -> 0 | AP72: =IF(P72="사용자항목14", L72, 0) -> 0 | AQ72: =IF(P72="사용자항목15", L72, 0) -> 0 | AR72: =IF(P72="사용자항목16", L72, 0) -> 0 | AS72: =IF(P72="사용자항목17", L72, 0) -> 0 | AT72: =IF(P72="사용자항목18", L72, 0) -> 0 | AU72: =IF(P72="사용자항목19", L72, 0) -> 0 | AY72: PK적산
A84: 합 계 | F84: =ROUNDDOWN(SUMIF(Q70:Q83, "1", F70:F83), 0) -> 0 | H84: =ROUNDDOWN(SUMIF(Q70:Q83, "1", H70:H83), 0) -> 0 | J84: =ROUNDDOWN(SUMIF(Q70:Q83, "1", J70:J83), 0) -> 0 | L84: =F84+H84+J84 -> 0 | R84: =ROUNDDOWN(SUM(R70:R72), 0) -> 0 | S84: =ROUNDDOWN(SUM(S70:S72), 0) -> 0 | T84: =ROUNDDOWN(SUM(T70:T72), 0) -> 0 | U84: =ROUNDDOWN(SUM(U70:U72), 0) -> 0 | V84: =ROUNDDOWN(SUM(V70:V72), 0) -> 0 | W84: =ROUNDDOWN(SUM(W70:W72), 0) -> 0 | X84: =ROUNDDOWN(SUM(X70:X72), 0) -> 0 | Y84: =ROUNDDOWN(SUM(Y70:Y72), 0) -> 0 | ... AY84: =ROUNDDOWN(SUM(AY70:AY72), 0) -> 0
A85: 010105. 미장공사
A86: 모르타르 바름 | B86: 벽체, T=18 | C86: M2 | D86: 1392.91 | F86: =ROUNDDOWN(D86*E86, 0) -> 0 | H86: =ROUNDDOWN(D86*G86, 0) -> 0 | J86: =ROUNDDOWN(D86*I86, 0) -> 0 | K86: =E86+G86+I86 -> 0 | L86: =F86+H86+J86 -> 0 | O86: ="" | P86: 기계경비 | Q86: 1 | R86: =IF(P86="기계경비", J86, 0) -> 0 | S86: =IF(P86="운반비", L86, 0) -> 0 | T86: =IF(P86="작업부산물", F86, 0) -> 0 | U86: =IF(P86="관급", F86, 0) -> 0 | V86: =IF(P86="외주비", J86, 0) -> 0 | W86: =IF(P86="장비비", J86, 0) -> 0 | X86: =IF(P86="폐기물처리비", L86, 0) -> 0 | Y86: =IF(P86="가설비", J86, 0) -> 0 | Z86: =IF(P86="잡비제외분", F86, 0) -> 0 | AA86: =IF(P86="사급자재대", L86, 0) -> 0 | AB86: =IF(P86="관급자재대", L86, 0) -> 0 | AC86: =IF(P86="사용자항목1", L86, 0) -> 0 | AD86: =IF(P86="사용자항목2", L86, 0) -> 0 | AE86: =IF(P86="안전관리비", L86, 0) -> 0 | AF86: =IF(P86="품질관리비", L86, 0) -> 0 | AG86: =IF(P86="작업부산물(철거해체)", L86, 0) -> 0 | AH86: =IF(P86="재해예방기술지도비", L86, 0) -> 0 | AI86: =IF(P86="사용자항목7", L86, 0) -> 0 | AJ86: =IF(P86="석면분담금", L86, 0) -> 0 | AK86: =IF(P86="임금채권분담금", L86, 0) -> 0 | AL86: =IF(P86="사용자항목10", L86, 0) -> 0 | AM86: =IF(P86="사용자항목11", L86, 0) -> 0 | AN86: =IF(P86="사용자항목12", L86, 0) -> 0 | AO86: =IF(P86="사용자항목13", L86, 0) -> 0 | AP86: =IF(P86="사용자항목14", L86, 0) -> 0 | AQ86: =IF(P86="사용자항목15", L86, 0) -> 0 | AR86: =IF(P86="사용자항목16", L86, 0) -> 0 | AS86: =IF(P86="사용자항목17", L86, 0) -> 0 | AT86: =IF(P86="사용자항목18", L86, 0) -> 0 | AU86: =IF(P86="사용자항목19", L86, 0) -> 0 | AY86: 실내건축
A87: 방수모르타르 바름 | B87: 바닥, T=20 | C87: M2 | D87: 298.72 | F87: =ROUNDDOWN(D87*E87, 0) -> 0 | H87: =ROUNDDOWN(D87*G87, 0) -> 0 | J87: =ROUNDDOWN(D87*I87, 0) -> 0 | K87: =E87+G87+I87 -> 0 | L87: =F87+H87+J87 -> 0 | O87: ="" | P87: 기계경비 | Q87: 1 | R87: =IF(P87="기계경비", J87, 0) -> 0 | S87: =IF(P87="운반비", L87, 0) -> 0 | T87: =IF(P87="작업부산물", F87, 0) -> 0 | U87: =IF(P87="관급", F87, 0) -> 0 | V87: =IF(P87="외주비", J87, 0) -> 0 | W87: =IF(P87="장비비", J87, 0) -> 0 | X87: =IF(P87="폐기물처리비", L87, 0) -> 0 | Y87: =IF(P87="가설비", J87, 0) -> 0 | Z87: =IF(P87="잡비제외분", F87, 0) -> 0 | AA87: =IF(P87="사급자재대", L87, 0) -> 0 | AB87: =IF(P87="관급자재대", L87, 0) -> 0 | AC87: =IF(P87="사용자항목1", L87, 0) -> 0 | AD87: =IF(P87="사용자항목2", L87, 0) -> 0 | AE87: =IF(P87="안전관리비", L87, 0) -> 0 | AF87: =IF(P87="품질관리비", L87, 0) -> 0 | AG87: =IF(P87="작업부산물(철거해체)", L87, 0) -> 0 | AH87: =IF(P87="재해예방기술지도비", L87, 0) -> 0 | AI87: =IF(P87="사용자항목7", L87, 0) -> 0 | AJ87: =IF(P87="석면분담금", L87, 0) -> 0 | AK87: =IF(P87="임금채권분담금", L87, 0) -> 0 | AL87: =IF(P87="사용자항목10", L87, 0) -> 0 | AM87: =IF(P87="사용자항목11", L87, 0) -> 0 | AN87: =IF(P87="사용자항목12", L87, 0) -> 0 | AO87: =IF(P87="사용자항목13", L87, 0) -> 0 | AP87: =IF(P87="사용자항목14", L87, 0) -> 0 | AQ87: =IF(P87="사용자항목15", L87, 0) -> 0 | AR87: =IF(P87="사용자항목16", L87, 0) -> 0 | AS87: =IF(P87="사용자항목17", L87, 0) -> 0 | AT87: =IF(P87="사용자항목18", L87, 0) -> 0 | AU87: =IF(P87="사용자항목19", L87, 0) -> 0 | AY87: PK적산
A88: 방수모르타르 바름 | B88: 20mm, 벽돌, 콘크리트 | C88: M2 | D88: 1392.91 | F88: =ROUNDDOWN(D88*E88, 0) -> 0 | H88: =ROUNDDOWN(D88*G88, 0) -> 0 | J88: =ROUNDDOWN(D88*I88, 0) -> 0 | K88: =E88+G88+I88 -> 0 | L88: =F88+H88+J88 -> 0 | O88: ="" | P88: 기계경비 | Q88: 1 | R88: =IF(P88="기계경비", J88, 0) -> 0 | S88: =IF(P88="운반비", L88, 0) -> 0 | T88: =IF(P88="작업부산물", F88, 0) -> 0 | U88: =IF(P88="관급", F88, 0) -> 0 | V88: =IF(P88="외주비", J88, 0) -> 0 | W88: =IF(P88="장비비", J88, 0) -> 0 | X88: =IF(P88="폐기물처리비", L88, 0) -> 0 | Y88: =IF(P88="가설비", J88, 0) -> 0 | Z88: =IF(P88="잡비제외분", F88, 0) -> 0 | AA88: =IF(P88="사급자재대", L88, 0) -> 0 | AB88: =IF(P88="관급자재대", L88, 0) -> 0 | AC88: =IF(P88="사용자항목1", L88, 0) -> 0 | AD88: =IF(P88="사용자항목2", L88, 0) -> 0 | AE88: =IF(P88="안전관리비", L88, 0) -> 0 | AF88: =IF(P88="품질관리비", L88, 0) -> 0 | AG88: =IF(P88="작업부산물(철거해체)", L88, 0) -> 0 | AH88: =IF(P88="재해예방기술지도비", L88, 0) -> 0 | AI88: =IF(P88="사용자항목7", L88, 0) -> 0 | AJ88: =IF(P88="석면분담금", L88, 0) -> 0 | AK88: =IF(P88="임금채권분담금", L88, 0) -> 0 | AL88: =IF(P88="사용자항목10", L88, 0) -> 0 | AM88: =IF(P88="사용자항목11", L88, 0) -> 0 | AN88: =IF(P88="사용자항목12", L88, 0) -> 0 | AO88: =IF(P88="사용자항목13", L88, 0) -> 0 | AP88: =IF(P88="사용자항목14", L88, 0) -> 0 | AQ88: =IF(P88="사용자항목15", L88, 0) -> 0 | AR88: =IF(P88="사용자항목16", L88, 0) -> 0 | AS88: =IF(P88="사용자항목17", L88, 0) -> 0 | AT88: =IF(P88="사용자항목18", L88, 0) -> 0 | AU88: =IF(P88="사용자항목19", L88, 0) -> 0 | AY88: PK적산
A100: 합 계 | F100: =ROUNDDOWN(SUMIF(Q86:Q99, "1", F86:F99), 0) -> 0 | H100: =ROUNDDOWN(SUMIF(Q86:Q99, "1", H86:H99), 0) -> 0 | J100: =ROUNDDOWN(SUMIF(Q86:Q99, "1", J86:J99), 0) -> 0 | L100: =F100+H100+J100 -> 0 | R100: =ROUNDDOWN(SUM(R86:R88), 0) -> 0 | S100: =ROUNDDOWN(SUM(S86:S88), 0) -> 0 | T100: =ROUNDDOWN(SUM(T86:T88), 0) -> 0 | U100: =ROUNDDOWN(SUM(U86:U88), 0) -> 0 | V100: =ROUNDDOWN(SUM(V86:V88), 0) -> 0 | W100: =ROUNDDOWN(SUM(W86:W88), 0) -> 0 | X100: =ROUNDDOWN(SUM(X86:X88), 0) -> 0 | Y100: =ROUNDDOWN(SUM(Y86:Y88), 0) -> 0 | ... AY100: =ROUNDDOWN(SUM(AY86:AY88), 0) -> 0
A101: 010106. 타일공사
A102: 재료분리대 | B102: SUS, 20mm, ㄷ-type | C102: m | D102: 72.3 | F102: =ROUNDDOWN(D102*E102, 0) -> 0 | H102: =ROUNDDOWN(D102*G102, 0) -> 0 | J102: =ROUNDDOWN(D102*I102, 0) -> 0 | K102: =E102+G102+I102 -> 0 | L102: =F102+H102+J102 -> 0 | O102: ="01" -> 01 | P102: 기계경비 | Q102: 1 | R102: =IF(P102="기계경비", J102, 0) -> 0 | S102: =IF(P102="운반비", L102, 0) -> 0 | T102: =IF(P102="작업부산물", F102, 0) -> 0 | U102: =IF(P102="관급", F102, 0) -> 0 | V102: =IF(P102="외주비", J102, 0) -> 0 | W102: =IF(P102="장비비", J102, 0) -> 0 | X102: =IF(P102="폐기물처리비", L102, 0) -> 0 | Y102: =IF(P102="가설비", J102, 0) -> 0 | Z102: =IF(P102="잡비제외분", F102, 0) -> 0 | AA102: =IF(P102="사급자재대", L102, 0) -> 0 | AB102: =IF(P102="관급자재대", L102, 0) -> 0 | AC102: =IF(P102="사용자항목1", L102, 0) -> 0 | AD102: =IF(P102="사용자항목2", L102, 0) -> 0 | AE102: =IF(P102="안전관리비", L102, 0) -> 0 | AF102: =IF(P102="품질관리비", L102, 0) -> 0 | AG102: =IF(P102="작업부산물(철거해체)", L102, 0) -> 0 | AH102: =IF(P102="재해예방기술지도비", L102, 0) -> 0 | AI102: =IF(P102="사용자항목7", L102, 0) -> 0 | AJ102: =IF(P102="석면분담금", L102, 0) -> 0 | AK102: =IF(P102="임금채권분담금", L102, 0) -> 0 | AL102: =IF(P102="사용자항목10", L102, 0) -> 0 | AM102: =IF(P102="사용자항목11", L102, 0) -> 0 | AN102: =IF(P102="사용자항목12", L102, 0) -> 0 | AO102: =IF(P102="사용자항목13", L102, 0) -> 0 | AP102: =IF(P102="사용자항목14", L102, 0) -> 0 | AQ102: =IF(P102="사용자항목15", L102, 0) -> 0 | AR102: =IF(P102="사용자항목16", L102, 0) -> 0 | AS102: =IF(P102="사용자항목17", L102, 0) -> 0 | AT102: =IF(P102="사용자항목18", L102, 0) -> 0 | AU102: =IF(P102="사용자항목19", L102, 0) -> 0 | AY102: PK적산
A103: 자기질타일(바탕23+압착5) | B103: T 7, 포세린타일(논슬립), 바닥, 300*300 | C103: M2 | D103: 298.72 | F103: =ROUNDDOWN(D103*E103, 0) -> 0 | H103: =ROUNDDOWN(D103*G103, 0) -> 0 | J103: =ROUNDDOWN(D103*I103, 0) -> 0 | K103: =E103+G103+I103 -> 0 | L103: =F103+H103+J103 -> 0 | O103: ="" | P103: 기계경비 | Q103: 1 | R103: =IF(P103="기계경비", J103, 0) -> 0 | S103: =IF(P103="운반비", L103, 0) -> 0 | T103: =IF(P103="작업부산물", F103, 0) -> 0 | U103: =IF(P103="관급", F103, 0) -> 0 | V103: =IF(P103="외주비", J103, 0) -> 0 | W103: =IF(P103="장비비", J103, 0) -> 0 | X103: =IF(P103="폐기물처리비", L103, 0) -> 0 | Y103: =IF(P103="가설비", J103, 0) -> 0 | Z103: =IF(P103="잡비제외분", F103, 0) -> 0 | AA103: =IF(P103="사급자재대", L103, 0) -> 0 | AB103: =IF(P103="관급자재대", L103, 0) -> 0 | AC103: =IF(P103="사용자항목1", L103, 0) -> 0 | AD103: =IF(P103="사용자항목2", L103, 0) -> 0 | AE103: =IF(P103="안전관리비", L103, 0) -> 0 | AF103: =IF(P103="품질관리비", L103, 0) -> 0 | AG103: =IF(P103="작업부산물(철거해체)", L103, 0) -> 0 | AH103: =IF(P103="재해예방기술지도비", L103, 0) -> 0 | AI103: =IF(P103="사용자항목7", L103, 0) -> 0 | AJ103: =IF(P103="석면분담금", L103, 0) -> 0 | AK103: =IF(P103="임금채권분담금", L103, 0) -> 0 | AL103: =IF(P103="사용자항목10", L103, 0) -> 0 | AM103: =IF(P103="사용자항목11", L103, 0) -> 0 | AN103: =IF(P103="사용자항목12", L103, 0) -> 0 | AO103: =IF(P103="사용자항목13", L103, 0) -> 0 | AP103: =IF(P103="사용자항목14", L103, 0) -> 0 | AQ103: =IF(P103="사용자항목15", L103, 0) -> 0 | AR103: =IF(P103="사용자항목16", L103, 0) -> 0 | AS103: =IF(P103="사용자항목17", L103, 0) -> 0 | AT103: =IF(P103="사용자항목18", L103, 0) -> 0 | AU103: =IF(P103="사용자항목19", L103, 0) -> 0 | AY103: PK적산
A104: 자기질타일접착붙임 | B104: T 7, 포세린타일, 600*300 | C104: M2 | D104: 1392.91 | F104: =ROUNDDOWN(D104*E104, 0) -> 0 | H104: =ROUNDDOWN(D104*G104, 0) -> 0 | J104: =ROUNDDOWN(D104*I104, 0) -> 0 | K104: =E104+G104+I104 -> 0 | L104: =F104+H104+J104 -> 0 | O104: ="" | P104: 기계경비 | Q104: 1 | R104: =IF(P104="기계경비", J104, 0) -> 0 | S104: =IF(P104="운반비", L104, 0) -> 0 | T104: =IF(P104="작업부산물", F104, 0) -> 0 | U104: =IF(P104="관급", F104, 0) -> 0 | V104: =IF(P104="외주비", J104, 0) -> 0 | W104: =IF(P104="장비비", J104, 0) -> 0 | X104: =IF(P104="폐기물처리비", L104, 0) -> 0 | Y104: =IF(P104="가설비", J104, 0) -> 0 | Z104: =IF(P104="잡비제외분", F104, 0) -> 0 | AA104: =IF(P104="사급자재대", L104, 0) -> 0 | AB104: =IF(P104="관급자재대", L104, 0) -> 0 | AC104: =IF(P104="사용자항목1", L104, 0) -> 0 | AD104: =IF(P104="사용자항목2", L104, 0) -> 0 | AE104: =IF(P104="안전관리비", L104, 0) -> 0 | AF104: =IF(P104="품질관리비", L104, 0) -> 0 | AG104: =IF(P104="작업부산물(철거해체)", L104, 0) -> 0 | AH104: =IF(P104="재해예방기술지도비", L104, 0) -> 0 | AI104: =IF(P104="사용자항목7", L104, 0) -> 0 | AJ104: =IF(P104="석면분담금", L104, 0) -> 0 | AK104: =IF(P104="임금채권분담금", L104, 0) -> 0 | AL104: =IF(P104="사용자항목10", L104, 0) -> 0 | AM104: =IF(P104="사용자항목11", L104, 0) -> 0 | AN104: =IF(P104="사용자항목12", L104, 0) -> 0 | AO104: =IF(P104="사용자항목13", L104, 0) -> 0 | AP104: =IF(P104="사용자항목14", L104, 0) -> 0 | AQ104: =IF(P104="사용자항목15", L104, 0) -> 0 | AR104: =IF(P104="사용자항목16", L104, 0) -> 0 | AS104: =IF(P104="사용자항목17", L104, 0) -> 0 | AT104: =IF(P104="사용자항목18", L104, 0) -> 0 | AU104: =IF(P104="사용자항목19", L104, 0) -> 0 | AY104: PK적산
A116: 합 계 | F116: =ROUNDDOWN(SUMIF(Q102:Q115, "1", F102:F115), 0) -> 0 | H116: =ROUNDDOWN(SUMIF(Q102:Q115, "1", H102:H115), 0) -> 0 | J116: =ROUNDDOWN(SUMIF(Q102:Q115, "1", J102:J115), 0) -> 0 | L116: =F116+H116+J116 -> 0 | R116: =ROUNDDOWN(SUM(R102:R104), 0) -> 0 | S116: =ROUNDDOWN(SUM(S102:S104), 0) -> 0 | T116: =ROUNDDOWN(SUM(T102:T104), 0) -> 0 | U116: =ROUNDDOWN(SUM(U102:U104), 0) -> 0 | V116: =ROUNDDOWN(SUM(V102:V104), 0) -> 0 | W116: =ROUNDDOWN(SUM(W102:W104), 0) -> 0 | X116: =ROUNDDOWN(SUM(X102:X104), 0) -> 0 | Y116: =ROUNDDOWN(SUM(Y102:Y104), 0) -> 0 | ... AY116: =ROUNDDOWN(SUM(AY102:AY104), 0) -> 0
A117: 010107. 창호공사
A118: PD7 A1 | B118: 800*2500 | C118: 개소 | D118: 12 | F118: =ROUNDDOWN(D118*E118, 0) -> 0 | H118: =ROUNDDOWN(D118*G118, 0) -> 0 | J118: =ROUNDDOWN(D118*I118, 0) -> 0 | K118: =E118+G118+I118 -> 0 | L118: =F118+H118+J118 -> 0 | O118: ="" | P118: 기계경비 | Q118: 1 | R118: =IF(P118="기계경비", J118, 0) -> 0 | S118: =IF(P118="운반비", L118, 0) -> 0 | T118: =IF(P118="작업부산물", F118, 0) -> 0 | U118: =IF(P118="관급", F118, 0) -> 0 | V118: =IF(P118="외주비", J118, 0) -> 0 | W118: =IF(P118="장비비", J118, 0) -> 0 | X118: =IF(P118="폐기물처리비", L118, 0) -> 0 | Y118: =IF(P118="가설비", J118, 0) -> 0 | Z118: =IF(P118="잡비제외분", F118, 0) -> 0 | AA118: =IF(P118="사급자재대", L118, 0) -> 0 | AB118: =IF(P118="관급자재대", L118, 0) -> 0 | AC118: =IF(P118="사용자항목1", L118, 0) -> 0 | AD118: =IF(P118="사용자항목2", L118, 0) -> 0 | AE118: =IF(P118="안전관리비", L118, 0) -> 0 | AF118: =IF(P118="품질관리비", L118, 0) -> 0 | AG118: =IF(P118="작업부산물(철거해체)", L118, 0) -> 0 | AH118: =IF(P118="재해예방기술지도비", L118, 0) -> 0 | AI118: =IF(P118="사용자항목7", L118, 0) -> 0 | AJ118: =IF(P118="석면분담금", L118, 0) -> 0 | AK118: =IF(P118="임금채권분담금", L118, 0) -> 0 | AL118: =IF(P118="사용자항목10", L118, 0) -> 0 | AM118: =IF(P118="사용자항목11", L118, 0) -> 0 | AN118: =IF(P118="사용자항목12", L118, 0) -> 0 | AO118: =IF(P118="사용자항목13", L118, 0) -> 0 | AP118: =IF(P118="사용자항목14", L118, 0) -> 0 | AQ118: =IF(P118="사용자항목15", L118, 0) -> 0 | AR118: =IF(P118="사용자항목16", L118, 0) -> 0 | AS118: =IF(P118="사용자항목17", L118, 0) -> 0 | AT118: =IF(P118="사용자항목18", L118, 0) -> 0 | AU118: =IF(P118="사용자항목19", L118, 0) -> 0
A119: PD8 A2 | B119: 800*2500 | C119: 개소 | D119: 12 | F119: =ROUNDDOWN(D119*E119, 0) -> 0 | H119: =ROUNDDOWN(D119*G119, 0) -> 0 | J119: =ROUNDDOWN(D119*I119, 0) -> 0 | K119: =E119+G119+I119 -> 0 | L119: =F119+H119+J119 -> 0 | O119: ="" | P119: 기계경비 | Q119: 1 | R119: =IF(P119="기계경비", J119, 0) -> 0 | S119: =IF(P119="운반비", L119, 0) -> 0 | T119: =IF(P119="작업부산물", F119, 0) -> 0 | U119: =IF(P119="관급", F119, 0) -> 0 | V119: =IF(P119="외주비", J119, 0) -> 0 | W119: =IF(P119="장비비", J119, 0) -> 0 | X119: =IF(P119="폐기물처리비", L119, 0) -> 0 | Y119: =IF(P119="가설비", J119, 0) -> 0 | Z119: =IF(P119="잡비제외분", F119, 0) -> 0 | AA119: =IF(P119="사급자재대", L119, 0) -> 0 | AB119: =IF(P119="관급자재대", L119, 0) -> 0 | AC119: =IF(P119="사용자항목1", L119, 0) -> 0 | AD119: =IF(P119="사용자항목2", L119, 0) -> 0 | AE119: =IF(P119="안전관리비", L119, 0) -> 0 | AF119: =IF(P119="품질관리비", L119, 0) -> 0 | AG119: =IF(P119="작업부산물(철거해체)", L119, 0) -> 0 | AH119: =IF(P119="재해예방기술지도비", L119, 0) -> 0 | AI119: =IF(P119="사용자항목7", L119, 0) -> 0 | AJ119: =IF(P119="석면분담금", L119, 0) -> 0 | AK119: =IF(P119="임금채권분담금", L119, 0) -> 0 | AL119: =IF(P119="사용자항목10", L119, 0) -> 0 | AM119: =IF(P119="사용자항목11", L119, 0) -> 0 | AN119: =IF(P119="사용자항목12", L119, 0) -> 0 | AO119: =IF(P119="사용자항목13", L119, 0) -> 0 | AP119: =IF(P119="사용자항목14", L119, 0) -> 0 | AQ119: =IF(P119="사용자항목15", L119, 0) -> 0 | AR119: =IF(P119="사용자항목16", L119, 0) -> 0 | AS119: =IF(P119="사용자항목17", L119, 0) -> 0 | AT119: =IF(P119="사용자항목18", L119, 0) -> 0 | AU119: =IF(P119="사용자항목19", L119, 0) -> 0
A120: PD8 A3 | B120: 800*2500 | C120: 개소 | D120: 9 | F120: =ROUNDDOWN(D120*E120, 0) -> 0 | H120: =ROUNDDOWN(D120*G120, 0) -> 0 | J120: =ROUNDDOWN(D120*I120, 0) -> 0 | K120: =E120+G120+I120 -> 0 | L120: =F120+H120+J120 -> 0 | O120: ="" | P120: 기계경비 | Q120: 1 | R120: =IF(P120="기계경비", J120, 0) -> 0 | S120: =IF(P120="운반비", L120, 0) -> 0 | T120: =IF(P120="작업부산물", F120, 0) -> 0 | U120: =IF(P120="관급", F120, 0) -> 0 | V120: =IF(P120="외주비", J120, 0) -> 0 | W120: =IF(P120="장비비", J120, 0) -> 0 | X120: =IF(P120="폐기물처리비", L120, 0) -> 0 | Y120: =IF(P120="가설비", J120, 0) -> 0 | Z120: =IF(P120="잡비제외분", F120, 0) -> 0 | AA120: =IF(P120="사급자재대", L120, 0) -> 0 | AB120: =IF(P120="관급자재대", L120, 0) -> 0 | AC120: =IF(P120="사용자항목1", L120, 0) -> 0 | AD120: =IF(P120="사용자항목2", L120, 0) -> 0 | AE120: =IF(P120="안전관리비", L120, 0) -> 0 | AF120: =IF(P120="품질관리비", L120, 0) -> 0 | AG120: =IF(P120="작업부산물(철거해체)", L120, 0) -> 0 | AH120: =IF(P120="재해예방기술지도비", L120, 0) -> 0 | AI120: =IF(P120="사용자항목7", L120, 0) -> 0 | AJ120: =IF(P120="석면분담금", L120, 0) -> 0 | AK120: =IF(P120="임금채권분담금", L120, 0) -> 0 | AL120: =IF(P120="사용자항목10", L120, 0) -> 0 | AM120: =IF(P120="사용자항목11", L120, 0) -> 0 | AN120: =IF(P120="사용자항목12", L120, 0) -> 0 | AO120: =IF(P120="사용자항목13", L120, 0) -> 0 | AP120: =IF(P120="사용자항목14", L120, 0) -> 0 | AQ120: =IF(P120="사용자항목15", L120, 0) -> 0 | AR120: =IF(P120="사용자항목16", L120, 0) -> 0 | AS120: =IF(P120="사용자항목17", L120, 0) -> 0 | AT120: =IF(P120="사용자항목18", L120, 0) -> 0 | AU120: =IF(P120="사용자항목19", L120, 0) -> 0
A121: PD7 A4 | B121: 800*2500 | C121: 개소 | D121: 10 | F121: =ROUNDDOWN(D121*E121, 0) -> 0 | H121: =ROUNDDOWN(D121*G121, 0) -> 0 | J121: =ROUNDDOWN(D121*I121, 0) -> 0 | K121: =E121+G121+I121 -> 0 | L121: =F121+H121+J121 -> 0 | O121: ="" | P121: 기계경비 | Q121: 1 | R121: =IF(P121="기계경비", J121, 0) -> 0 | S121: =IF(P121="운반비", L121, 0) -> 0 | T121: =IF(P121="작업부산물", F121, 0) -> 0 | U121: =IF(P121="관급", F121, 0) -> 0 | V121: =IF(P121="외주비", J121, 0) -> 0 | W121: =IF(P121="장비비", J121, 0) -> 0 | X121: =IF(P121="폐기물처리비", L121, 0) -> 0 | Y121: =IF(P121="가설비", J121, 0) -> 0 | Z121: =IF(P121="잡비제외분", F121, 0) -> 0 | AA121: =IF(P121="사급자재대", L121, 0) -> 0 | AB121: =IF(P121="관급자재대", L121, 0) -> 0 | AC121: =IF(P121="사용자항목1", L121, 0) -> 0 | AD121: =IF(P121="사용자항목2", L121, 0) -> 0 | AE121: =IF(P121="안전관리비", L121, 0) -> 0 | AF121: =IF(P121="품질관리비", L121, 0) -> 0 | AG121: =IF(P121="작업부산물(철거해체)", L121, 0) -> 0 | AH121: =IF(P121="재해예방기술지도비", L121, 0) -> 0 | AI121: =IF(P121="사용자항목7", L121, 0) -> 0 | AJ121: =IF(P121="석면분담금", L121, 0) -> 0 | AK121: =IF(P121="임금채권분담금", L121, 0) -> 0 | AL121: =IF(P121="사용자항목10", L121, 0) -> 0 | AM121: =IF(P121="사용자항목11", L121, 0) -> 0 | AN121: =IF(P121="사용자항목12", L121, 0) -> 0 | AO121: =IF(P121="사용자항목13", L121, 0) -> 0 | AP121: =IF(P121="사용자항목14", L121, 0) -> 0 | AQ121: =IF(P121="사용자항목15", L121, 0) -> 0 | AR121: =IF(P121="사용자항목16", L121, 0) -> 0 | AS121: =IF(P121="사용자항목17", L121, 0) -> 0 | AT121: =IF(P121="사용자항목18", L121, 0) -> 0 | AU121: =IF(P121="사용자항목19", L121, 0) -> 0
A122: PD7 A5 | B122: 800*2500 | C122: 개소 | D122: 2 | F122: =ROUNDDOWN(D122*E122, 0) -> 0 | H122: =ROUNDDOWN(D122*G122, 0) -> 0 | J122: =ROUNDDOWN(D122*I122, 0) -> 0 | K122: =E122+G122+I122 -> 0 | L122: =F122+H122+J122 -> 0 | O122: ="" | P122: 기계경비 | Q122: 1 | R122: =IF(P122="기계경비", J122, 0) -> 0 | S122: =IF(P122="운반비", L122, 0) -> 0 | T122: =IF(P122="작업부산물", F122, 0) -> 0 | U122: =IF(P122="관급", F122, 0) -> 0 | V122: =IF(P122="외주비", J122, 0) -> 0 | W122: =IF(P122="장비비", J122, 0) -> 0 | X122: =IF(P122="폐기물처리비", L122, 0) -> 0 | Y122: =IF(P122="가설비", J122, 0) -> 0 | Z122: =IF(P122="잡비제외분", F122, 0) -> 0 | AA122: =IF(P122="사급자재대", L122, 0) -> 0 | AB122: =IF(P122="관급자재대", L122, 0) -> 0 | AC122: =IF(P122="사용자항목1", L122, 0) -> 0 | AD122: =IF(P122="사용자항목2", L122, 0) -> 0 | AE122: =IF(P122="안전관리비", L122, 0) -> 0 | AF122: =IF(P122="품질관리비", L122, 0) -> 0 | AG122: =IF(P122="작업부산물(철거해체)", L122, 0) -> 0 | AH122: =IF(P122="재해예방기술지도비", L122, 0) -> 0 | AI122: =IF(P122="사용자항목7", L122, 0) -> 0 | AJ122: =IF(P122="석면분담금", L122, 0) -> 0 | AK122: =IF(P122="임금채권분담금", L122, 0) -> 0 | AL122: =IF(P122="사용자항목10", L122, 0) -> 0 | AM122: =IF(P122="사용자항목11", L122, 0) -> 0 | AN122: =IF(P122="사용자항목12", L122, 0) -> 0 | AO122: =IF(P122="사용자항목13", L122, 0) -> 0 | AP122: =IF(P122="사용자항목14", L122, 0) -> 0 | AQ122: =IF(P122="사용자항목15", L122, 0) -> 0 | AR122: =IF(P122="사용자항목16", L122, 0) -> 0 | AS122: =IF(P122="사용자항목17", L122, 0) -> 0 | AT122: =IF(P122="사용자항목18", L122, 0) -> 0 | AU122: =IF(P122="사용자항목19", L122, 0) -> 0
A123: PD8 A6 | B123: 800*2500 | C123: 개소 | D123: 2 | F123: =ROUNDDOWN(D123*E123, 0) -> 0 | H123: =ROUNDDOWN(D123*G123, 0) -> 0 | J123: =ROUNDDOWN(D123*I123, 0) -> 0 | K123: =E123+G123+I123 -> 0 | L123: =F123+H123+J123 -> 0 | O123: ="" | P123: 기계경비 | Q123: 1 | R123: =IF(P123="기계경비", J123, 0) -> 0 | S123: =IF(P123="운반비", L123, 0) -> 0 | T123: =IF(P123="작업부산물", F123, 0) -> 0 | U123: =IF(P123="관급", F123, 0) -> 0 | V123: =IF(P123="외주비", J123, 0) -> 0 | W123: =IF(P123="장비비", J123, 0) -> 0 | X123: =IF(P123="폐기물처리비", L123, 0) -> 0 | Y123: =IF(P123="가설비", J123, 0) -> 0 | Z123: =IF(P123="잡비제외분", F123, 0) -> 0 | AA123: =IF(P123="사급자재대", L123, 0) -> 0 | AB123: =IF(P123="관급자재대", L123, 0) -> 0 | AC123: =IF(P123="사용자항목1", L123, 0) -> 0 | AD123: =IF(P123="사용자항목2", L123, 0) -> 0 | AE123: =IF(P123="안전관리비", L123, 0) -> 0 | AF123: =IF(P123="품질관리비", L123, 0) -> 0 | AG123: =IF(P123="작업부산물(철거해체)", L123, 0) -> 0 | AH123: =IF(P123="재해예방기술지도비", L123, 0) -> 0 | AI123: =IF(P123="사용자항목7", L123, 0) -> 0 | AJ123: =IF(P123="석면분담금", L123, 0) -> 0 | AK123: =IF(P123="임금채권분담금", L123, 0) -> 0 | AL123: =IF(P123="사용자항목10", L123, 0) -> 0 | AM123: =IF(P123="사용자항목11", L123, 0) -> 0 | AN123: =IF(P123="사용자항목12", L123, 0) -> 0 | AO123: =IF(P123="사용자항목13", L123, 0) -> 0 | AP123: =IF(P123="사용자항목14", L123, 0) -> 0 | AQ123: =IF(P123="사용자항목15", L123, 0) -> 0 | AR123: =IF(P123="사용자항목16", L123, 0) -> 0 | AS123: =IF(P123="사용자항목17", L123, 0) -> 0 | AT123: =IF(P123="사용자항목18", L123, 0) -> 0 | AU123: =IF(P123="사용자항목19", L123, 0) -> 0
A124: ASD3 B1 | B124: 2700*2500 | C124: 개소 | D124: 3 | F124: =ROUNDDOWN(D124*E124, 0) -> 0 | H124: =ROUNDDOWN(D124*G124, 0) -> 0 | J124: =ROUNDDOWN(D124*I124, 0) -> 0 | K124: =E124+G124+I124 -> 0 | L124: =F124+H124+J124 -> 0 | O124: ="" | P124: 기계경비 | Q124: 1 | R124: =IF(P124="기계경비", J124, 0) -> 0 | S124: =IF(P124="운반비", L124, 0) -> 0 | T124: =IF(P124="작업부산물", F124, 0) -> 0 | U124: =IF(P124="관급", F124, 0) -> 0 | V124: =IF(P124="외주비", J124, 0) -> 0 | W124: =IF(P124="장비비", J124, 0) -> 0 | X124: =IF(P124="폐기물처리비", L124, 0) -> 0 | Y124: =IF(P124="가설비", J124, 0) -> 0 | Z124: =IF(P124="잡비제외분", F124, 0) -> 0 | AA124: =IF(P124="사급자재대", L124, 0) -> 0 | AB124: =IF(P124="관급자재대", L124, 0) -> 0 | AC124: =IF(P124="사용자항목1", L124, 0) -> 0 | AD124: =IF(P124="사용자항목2", L124, 0) -> 0 | AE124: =IF(P124="안전관리비", L124, 0) -> 0 | AF124: =IF(P124="품질관리비", L124, 0) -> 0 | AG124: =IF(P124="작업부산물(철거해체)", L124, 0) -> 0 | AH124: =IF(P124="재해예방기술지도비", L124, 0) -> 0 | AI124: =IF(P124="사용자항목7", L124, 0) -> 0 | AJ124: =IF(P124="석면분담금", L124, 0) -> 0 | AK124: =IF(P124="임금채권분담금", L124, 0) -> 0 | AL124: =IF(P124="사용자항목10", L124, 0) -> 0 | AM124: =IF(P124="사용자항목11", L124, 0) -> 0 | AN124: =IF(P124="사용자항목12", L124, 0) -> 0 | AO124: =IF(P124="사용자항목13", L124, 0) -> 0 | AP124: =IF(P124="사용자항목14", L124, 0) -> 0 | AQ124: =IF(P124="사용자항목15", L124, 0) -> 0 | AR124: =IF(P124="사용자항목16", L124, 0) -> 0 | AS124: =IF(P124="사용자항목17", L124, 0) -> 0 | AT124: =IF(P124="사용자항목18", L124, 0) -> 0 | AU124: =IF(P124="사용자항목19", L124, 0) -> 0
A125: ASD4 B2 | B125: 2700*2500 | C125: 개소 | D125: 3 | F125: =ROUNDDOWN(D125*E125, 0) -> 0 | H125: =ROUNDDOWN(D125*G125, 0) -> 0 | J125: =ROUNDDOWN(D125*I125, 0) -> 0 | K125: =E125+G125+I125 -> 0 | L125: =F125+H125+J125 -> 0 | O125: ="" | P125: 기계경비 | Q125: 1 | R125: =IF(P125="기계경비", J125, 0) -> 0 | S125: =IF(P125="운반비", L125, 0) -> 0 | T125: =IF(P125="작업부산물", F125, 0) -> 0 | U125: =IF(P125="관급", F125, 0) -> 0 | V125: =IF(P125="외주비", J125, 0) -> 0 | W125: =IF(P125="장비비", J125, 0) -> 0 | X125: =IF(P125="폐기물처리비", L125, 0) -> 0 | Y125: =IF(P125="가설비", J125, 0) -> 0 | Z125: =IF(P125="잡비제외분", F125, 0) -> 0 | AA125: =IF(P125="사급자재대", L125, 0) -> 0 | AB125: =IF(P125="관급자재대", L125, 0) -> 0 | AC125: =IF(P125="사용자항목1", L125, 0) -> 0 | AD125: =IF(P125="사용자항목2", L125, 0) -> 0 | AE125: =IF(P125="안전관리비", L125, 0) -> 0 | AF125: =IF(P125="품질관리비", L125, 0) -> 0 | AG125: =IF(P125="작업부산물(철거해체)", L125, 0) -> 0 | AH125: =IF(P125="재해예방기술지도비", L125, 0) -> 0 | AI125: =IF(P125="사용자항목7", L125, 0) -> 0 | AJ125: =IF(P125="석면분담금", L125, 0) -> 0 | AK125: =IF(P125="임금채권분담금", L125, 0) -> 0 | AL125: =IF(P125="사용자항목10", L125, 0) -> 0 | AM125: =IF(P125="사용자항목11", L125, 0) -> 0 | AN125: =IF(P125="사용자항목12", L125, 0) -> 0 | AO125: =IF(P125="사용자항목13", L125, 0) -> 0 | AP125: =IF(P125="사용자항목14", L125, 0) -> 0 | AQ125: =IF(P125="사용자항목15", L125, 0) -> 0 | AR125: =IF(P125="사용자항목16", L125, 0) -> 0 | AS125: =IF(P125="사용자항목17", L125, 0) -> 0 | AT125: =IF(P125="사용자항목18", L125, 0) -> 0 | AU125: =IF(P125="사용자항목19", L125, 0) -> 0
A126: PD8 C1 | B126: 800*2500 | C126: 개소 | D126: 3 | F126: =ROUNDDOWN(D126*E126, 0) -> 0 | H126: =ROUNDDOWN(D126*G126, 0) -> 0 | J126: =ROUNDDOWN(D126*I126, 0) -> 0 | K126: =E126+G126+I126 -> 0 | L126: =F126+H126+J126 -> 0 | O126: ="" | P126: 기계경비 | Q126: 1 | R126: =IF(P126="기계경비", J126, 0) -> 0 | S126: =IF(P126="운반비", L126, 0) -> 0 | T126: =IF(P126="작업부산물", F126, 0) -> 0 | U126: =IF(P126="관급", F126, 0) -> 0 | V126: =IF(P126="외주비", J126, 0) -> 0 | W126: =IF(P126="장비비", J126, 0) -> 0 | X126: =IF(P126="폐기물처리비", L126, 0) -> 0 | Y126: =IF(P126="가설비", J126, 0) -> 0 | Z126: =IF(P126="잡비제외분", F126, 0) -> 0 | AA126: =IF(P126="사급자재대", L126, 0) -> 0 | AB126: =IF(P126="관급자재대", L126, 0) -> 0 | AC126: =IF(P126="사용자항목1", L126, 0) -> 0 | AD126: =IF(P126="사용자항목2", L126, 0) -> 0 | AE126: =IF(P126="안전관리비", L126, 0) -> 0 | AF126: =IF(P126="품질관리비", L126, 0) -> 0 | AG126: =IF(P126="작업부산물(철거해체)", L126, 0) -> 0 | AH126: =IF(P126="재해예방기술지도비", L126, 0) -> 0 | AI126: =IF(P126="사용자항목7", L126, 0) -> 0 | AJ126: =IF(P126="석면분담금", L126, 0) -> 0 | AK126: =IF(P126="임금채권분담금", L126, 0) -> 0 | AL126: =IF(P126="사용자항목10", L126, 0) -> 0 | AM126: =IF(P126="사용자항목11", L126, 0) -> 0 | AN126: =IF(P126="사용자항목12", L126, 0) -> 0 | AO126: =IF(P126="사용자항목13", L126, 0) -> 0 | AP126: =IF(P126="사용자항목14", L126, 0) -> 0 | AQ126: =IF(P126="사용자항목15", L126, 0) -> 0 | AR126: =IF(P126="사용자항목16", L126, 0) -> 0 | AS126: =IF(P126="사용자항목17", L126, 0) -> 0 | AT126: =IF(P126="사용자항목18", L126, 0) -> 0 | AU126: =IF(P126="사용자항목19", L126, 0) -> 0
A127: PD7 C2 | B127: 800*2500 | C127: 개소 | D127: 6 | F127: =ROUNDDOWN(D127*E127, 0) -> 0 | H127: =ROUNDDOWN(D127*G127, 0) -> 0 | J127: =ROUNDDOWN(D127*I127, 0) -> 0 | K127: =E127+G127+I127 -> 0 | L127: =F127+H127+J127 -> 0 | O127: ="" | P127: 기계경비 | Q127: 1 | R127: =IF(P127="기계경비", J127, 0) -> 0 | S127: =IF(P127="운반비", L127, 0) -> 0 | T127: =IF(P127="작업부산물", F127, 0) -> 0 | U127: =IF(P127="관급", F127, 0) -> 0 | V127: =IF(P127="외주비", J127, 0) -> 0 | W127: =IF(P127="장비비", J127, 0) -> 0 | X127: =IF(P127="폐기물처리비", L127, 0) -> 0 | Y127: =IF(P127="가설비", J127, 0) -> 0 | Z127: =IF(P127="잡비제외분", F127, 0) -> 0 | AA127: =IF(P127="사급자재대", L127, 0) -> 0 | AB127: =IF(P127="관급자재대", L127, 0) -> 0 | AC127: =IF(P127="사용자항목1", L127, 0) -> 0 | AD127: =IF(P127="사용자항목2", L127, 0) -> 0 | AE127: =IF(P127="안전관리비", L127, 0) -> 0 | AF127: =IF(P127="품질관리비", L127, 0) -> 0 | AG127: =IF(P127="작업부산물(철거해체)", L127, 0) -> 0 | AH127: =IF(P127="재해예방기술지도비", L127, 0) -> 0 | AI127: =IF(P127="사용자항목7", L127, 0) -> 0 | AJ127: =IF(P127="석면분담금", L127, 0) -> 0 | AK127: =IF(P127="임금채권분담금", L127, 0) -> 0 | AL127: =IF(P127="사용자항목10", L127, 0) -> 0 | AM127: =IF(P127="사용자항목11", L127, 0) -> 0 | AN127: =IF(P127="사용자항목12", L127, 0) -> 0 | AO127: =IF(P127="사용자항목13", L127, 0) -> 0 | AP127: =IF(P127="사용자항목14", L127, 0) -> 0 | AQ127: =IF(P127="사용자항목15", L127, 0) -> 0 | AR127: =IF(P127="사용자항목16", L127, 0) -> 0 | AS127: =IF(P127="사용자항목17", L127, 0) -> 0 | AT127: =IF(P127="사용자항목18", L127, 0) -> 0 | AU127: =IF(P127="사용자항목19", L127, 0) -> 0
A128: PD8 C3 | B128: 800*2500 | C128: 개소 | D128: 6 | F128: =ROUNDDOWN(D128*E128, 0) -> 0 | H128: =ROUNDDOWN(D128*G128, 0) -> 0 | J128: =ROUNDDOWN(D128*I128, 0) -> 0 | K128: =E128+G128+I128 -> 0 | L128: =F128+H128+J128 -> 0 | O128: ="" | P128: 기계경비 | Q128: 1 | R128: =IF(P128="기계경비", J128, 0) -> 0 | S128: =IF(P128="운반비", L128, 0) -> 0 | T128: =IF(P128="작업부산물", F128, 0) -> 0 | U128: =IF(P128="관급", F128, 0) -> 0 | V128: =IF(P128="외주비", J128, 0) -> 0 | W128: =IF(P128="장비비", J128, 0) -> 0 | X128: =IF(P128="폐기물처리비", L128, 0) -> 0 | Y128: =IF(P128="가설비", J128, 0) -> 0 | Z128: =IF(P128="잡비제외분", F128, 0) -> 0 | AA128: =IF(P128="사급자재대", L128, 0) -> 0 | AB128: =IF(P128="관급자재대", L128, 0) -> 0 | AC128: =IF(P128="사용자항목1", L128, 0) -> 0 | AD128: =IF(P128="사용자항목2", L128, 0) -> 0 | AE128: =IF(P128="안전관리비", L128, 0) -> 0 | AF128: =IF(P128="품질관리비", L128, 0) -> 0 | AG128: =IF(P128="작업부산물(철거해체)", L128, 0) -> 0 | AH128: =IF(P128="재해예방기술지도비", L128, 0) -> 0 | AI128: =IF(P128="사용자항목7", L128, 0) -> 0 | AJ128: =IF(P128="석면분담금", L128, 0) -> 0 | AK128: =IF(P128="임금채권분담금", L128, 0) -> 0 | AL128: =IF(P128="사용자항목10", L128, 0) -> 0 | AM128: =IF(P128="사용자항목11", L128, 0) -> 0 | AN128: =IF(P128="사용자항목12", L128, 0) -> 0 | AO128: =IF(P128="사용자항목13", L128, 0) -> 0 | AP128: =IF(P128="사용자항목14", L128, 0) -> 0 | AQ128: =IF(P128="사용자항목15", L128, 0) -> 0 | AR128: =IF(P128="사용자항목16", L128, 0) -> 0 | AS128: =IF(P128="사용자항목17", L128, 0) -> 0 | AT128: =IF(P128="사용자항목18", L128, 0) -> 0 | AU128: =IF(P128="사용자항목19", L128, 0) -> 0
A129: PD7 C4 | B129: 800*2500 | C129: 개소 | D129: 3 | F129: =ROUNDDOWN(D129*E129, 0) -> 0 | H129: =ROUNDDOWN(D129*G129, 0) -> 0 | J129: =ROUNDDOWN(D129*I129, 0) -> 0 | K129: =E129+G129+I129 -> 0 | L129: =F129+H129+J129 -> 0 | O129: ="" | P129: 기계경비 | Q129: 1 | R129: =IF(P129="기계경비", J129, 0) -> 0 | S129: =IF(P129="운반비", L129, 0) -> 0 | T129: =IF(P129="작업부산물", F129, 0) -> 0 | U129: =IF(P129="관급", F129, 0) -> 0 | V129: =IF(P129="외주비", J129, 0) -> 0 | W129: =IF(P129="장비비", J129, 0) -> 0 | X129: =IF(P129="폐기물처리비", L129, 0) -> 0 | Y129: =IF(P129="가설비", J129, 0) -> 0 | Z129: =IF(P129="잡비제외분", F129, 0) -> 0 | AA129: =IF(P129="사급자재대", L129, 0) -> 0 | AB129: =IF(P129="관급자재대", L129, 0) -> 0 | AC129: =IF(P129="사용자항목1", L129, 0) -> 0 | AD129: =IF(P129="사용자항목2", L129, 0) -> 0 | AE129: =IF(P129="안전관리비", L129, 0) -> 0 | AF129: =IF(P129="품질관리비", L129, 0) -> 0 | AG129: =IF(P129="작업부산물(철거해체)", L129, 0) -> 0 | AH129: =IF(P129="재해예방기술지도비", L129, 0) -> 0 | AI129: =IF(P129="사용자항목7", L129, 0) -> 0 | AJ129: =IF(P129="석면분담금", L129, 0) -> 0 | AK129: =IF(P129="임금채권분담금", L129, 0) -> 0 | AL129: =IF(P129="사용자항목10", L129, 0) -> 0 | AM129: =IF(P129="사용자항목11", L129, 0) -> 0 | AN129: =IF(P129="사용자항목12", L129, 0) -> 0 | AO129: =IF(P129="사용자항목13", L129, 0) -> 0 | AP129: =IF(P129="사용자항목14", L129, 0) -> 0 | AQ129: =IF(P129="사용자항목15", L129, 0) -> 0 | AR129: =IF(P129="사용자항목16", L129, 0) -> 0 | AS129: =IF(P129="사용자항목17", L129, 0) -> 0 | AT129: =IF(P129="사용자항목18", L129, 0) -> 0 | AU129: =IF(P129="사용자항목19", L129, 0) -> 0
... A137: PD9 G | B137: 800*2500 | C137: 개소 | D137: 1 | F137: =ROUNDDOWN(D137*E137, 0) -> 0 | H137: =ROUNDDOWN(D137*G137, 0) -> 0 | J137: =ROUNDDOWN(D137*I137, 0) -> 0 | K137: =E137+G137+I137 -> 0 | L137: =F137+H137+J137 -> 0 | O137: ="" | P137: 기계경비 | Q137: 1 | R137: =IF(P137="기계경비", J137, 0) -> 0 | S137: =IF(P137="운반비", L137, 0) -> 0 | T137: =IF(P137="작업부산물", F137, 0) -> 0 | U137: =IF(P137="관급", F137, 0) -> 0 | V137: =IF(P137="외주비", J137, 0) -> 0 | W137: =IF(P137="장비비", J137, 0) -> 0 | X137: =IF(P137="폐기물처리비", L137, 0) -> 0 | Y137: =IF(P137="가설비", J137, 0) -> 0 | Z137: =IF(P137="잡비제외분", F137, 0) -> 0 | AA137: =IF(P137="사급자재대", L137, 0) -> 0 | AB137: =IF(P137="관급자재대", L137, 0) -> 0 | AC137: =IF(P137="사용자항목1", L137, 0) -> 0 | AD137: =IF(P137="사용자항목2", L137, 0) -> 0 | AE137: =IF(P137="안전관리비", L137, 0) -> 0 | AF137: =IF(P137="품질관리비", L137, 0) -> 0 | AG137: =IF(P137="작업부산물(철거해체)", L137, 0) -> 0 | AH137: =IF(P137="재해예방기술지도비", L137, 0) -> 0 | AI137: =IF(P137="사용자항목7", L137, 0) -> 0 | AJ137: =IF(P137="석면분담금", L137, 0) -> 0 | AK137: =IF(P137="임금채권분담금", L137, 0) -> 0 | AL137: =IF(P137="사용자항목10", L137, 0) -> 0 | AM137: =IF(P137="사용자항목11", L137, 0) -> 0 | AN137: =IF(P137="사용자항목12", L137, 0) -> 0 | AO137: =IF(P137="사용자항목13", L137, 0) -> 0 | AP137: =IF(P137="사용자항목14", L137, 0) -> 0 | AQ137: =IF(P137="사용자항목15", L137, 0) -> 0 | AR137: =IF(P137="사용자항목16", L137, 0) -> 0 | AS137: =IF(P137="사용자항목17", L137, 0) -> 0 | AT137: =IF(P137="사용자항목18", L137, 0) -> 0 | AU137: =IF(P137="사용자항목19", L137, 0) -> 0
A148: 합 계 | F148: =ROUNDDOWN(SUMIF(Q118:Q147, "1", F118:F147), 0) -> 0 | H148: =ROUNDDOWN(SUMIF(Q118:Q147, "1", H118:H147), 0) -> 0 | J148: =ROUNDDOWN(SUMIF(Q118:Q147, "1", J118:J147), 0) -> 0 | L148: =F148+H148+J148 -> 0 | R148: =ROUNDDOWN(SUM(R118:R137), 0) -> 0 | S148: =ROUNDDOWN(SUM(S118:S137), 0) -> 0 | T148: =ROUNDDOWN(SUM(T118:T137), 0) -> 0 | U148: =ROUNDDOWN(SUM(U118:U137), 0) -> 0 | V148: =ROUNDDOWN(SUM(V118:V137), 0) -> 0 | W148: =ROUNDDOWN(SUM(W118:W137), 0) -> 0 | X148: =ROUNDDOWN(SUM(X118:X137), 0) -> 0 | Y148: =ROUNDDOWN(SUM(Y118:Y137), 0) -> 0 | ... AY148: =ROUNDDOWN(SUM(AY118:AY137), 0) -> 0
A149: 010108. 수장공사
A150: 비닐시트 깔기/부분접합 | B150: T 2.0, IQ-OPTIMA | C150: M2 | D150: 25.03 | F150: =ROUNDDOWN(D150*E150, 0) -> 0 | H150: =ROUNDDOWN(D150*G150, 0) -> 0 | J150: =ROUNDDOWN(D150*I150, 0) -> 0 | K150: =E150+G150+I150 -> 0 | L150: =F150+H150+J150 -> 0 | O150: ="" | P150: 기계경비 | Q150: 1 | R150: =IF(P150="기계경비", J150, 0) -> 0 | S150: =IF(P150="운반비", L150, 0) -> 0 | T150: =IF(P150="작업부산물", F150, 0) -> 0 | U150: =IF(P150="관급", F150, 0) -> 0 | V150: =IF(P150="외주비", J150, 0) -> 0 | W150: =IF(P150="장비비", J150, 0) -> 0 | X150: =IF(P150="폐기물처리비", L150, 0) -> 0 | Y150: =IF(P150="가설비", J150, 0) -> 0 | Z150: =IF(P150="잡비제외분", F150, 0) -> 0 | AA150: =IF(P150="사급자재대", L150, 0) -> 0 | AB150: =IF(P150="관급자재대", L150, 0) -> 0 | AC150: =IF(P150="사용자항목1", L150, 0) -> 0 | AD150: =IF(P150="사용자항목2", L150, 0) -> 0 | AE150: =IF(P150="안전관리비", L150, 0) -> 0 | AF150: =IF(P150="품질관리비", L150, 0) -> 0 | AG150: =IF(P150="작업부산물(철거해체)", L150, 0) -> 0 | AH150: =IF(P150="재해예방기술지도비", L150, 0) -> 0 | AI150: =IF(P150="사용자항목7", L150, 0) -> 0 | AJ150: =IF(P150="석면분담금", L150, 0) -> 0 | AK150: =IF(P150="임금채권분담금", L150, 0) -> 0 | AL150: =IF(P150="사용자항목10", L150, 0) -> 0 | AM150: =IF(P150="사용자항목11", L150, 0) -> 0 | AN150: =IF(P150="사용자항목12", L150, 0) -> 0 | AO150: =IF(P150="사용자항목13", L150, 0) -> 0 | AP150: =IF(P150="사용자항목14", L150, 0) -> 0 | AQ150: =IF(P150="사용자항목15", L150, 0) -> 0 | AR150: =IF(P150="사용자항목16", L150, 0) -> 0 | AS150: =IF(P150="사용자항목17", L150, 0) -> 0 | AT150: =IF(P150="사용자항목18", L150, 0) -> 0 | AU150: =IF(P150="사용자항목19", L150, 0) -> 0 | AY150: PK적산
A164: 합 계 | F164: =ROUNDDOWN(SUMIF(Q150:Q163, "1", F150:F163), 0) -> 0 | H164: =ROUNDDOWN(SUMIF(Q150:Q163, "1", H150:H163), 0) -> 0 | J164: =ROUNDDOWN(SUMIF(Q150:Q163, "1", J150:J163), 0) -> 0 | L164: =F164+H164+J164 -> 0 | R164: =ROUNDDOWN(SUM(R150:R150), 0) -> 0 | S164: =ROUNDDOWN(SUM(S150:S150), 0) -> 0 | T164: =ROUNDDOWN(SUM(T150:T150), 0) -> 0 | U164: =ROUNDDOWN(SUM(U150:U150), 0) -> 0 | V164: =ROUNDDOWN(SUM(V150:V150), 0) -> 0 | W164: =ROUNDDOWN(SUM(W150:W150), 0) -> 0 | X164: =ROUNDDOWN(SUM(X150:X150), 0) -> 0 | Y164: =ROUNDDOWN(SUM(Y150:Y150), 0) -> 0 | ... AY164: =ROUNDDOWN(SUM(AY150:AY150), 0) -> 0
A165: 010109. 금속공사
A166: 경량철골천장틀(내진행거) | B166: CLIP-BAR, 1m미만, 600×600, 인서트 | C166: M2 | D166: 298.72 | F166: =ROUNDDOWN(D166*E166, 0) -> 0 | H166: =ROUNDDOWN(D166*G166, 0) -> 0 | I166: 0 | J166: =ROUNDDOWN(D166*I166, 0) -> 0 | K166: =E166+G166+I166 -> 0 | L166: =F166+H166+J166 -> 0 | O166: ="01" -> 01 | P166: 기계경비 | Q166: 1 | R166: =IF(P166="기계경비", J166, 0) -> 0 | S166: =IF(P166="운반비", L166, 0) -> 0 | T166: =IF(P166="작업부산물", F166, 0) -> 0 | U166: =IF(P166="관급", F166, 0) -> 0 | V166: =IF(P166="외주비", J166, 0) -> 0 | W166: =IF(P166="장비비", J166, 0) -> 0 | X166: =IF(P166="폐기물처리비", L166, 0) -> 0 | Y166: =IF(P166="가설비", J166, 0) -> 0 | Z166: =IF(P166="잡비제외분", F166, 0) -> 0 | AA166: =IF(P166="사급자재대", L166, 0) -> 0 | AB166: =IF(P166="관급자재대", L166, 0) -> 0 | AC166: =IF(P166="사용자항목1", L166, 0) -> 0 | AD166: =IF(P166="사용자항목2", L166, 0) -> 0 | AE166: =IF(P166="안전관리비", L166, 0) -> 0 | AF166: =IF(P166="품질관리비", L166, 0) -> 0 | AG166: =IF(P166="작업부산물(철거해체)", L166, 0) -> 0 | AH166: =IF(P166="재해예방기술지도비", L166, 0) -> 0 | AI166: =IF(P166="사용자항목7", L166, 0) -> 0 | AJ166: =IF(P166="석면분담금", L166, 0) -> 0 | AK166: =IF(P166="임금채권분담금", L166, 0) -> 0 | AL166: =IF(P166="사용자항목10", L166, 0) -> 0 | AM166: =IF(P166="사용자항목11", L166, 0) -> 0 | AN166: =IF(P166="사용자항목12", L166, 0) -> 0 | AO166: =IF(P166="사용자항목13", L166, 0) -> 0 | AP166: =IF(P166="사용자항목14", L166, 0) -> 0 | AQ166: =IF(P166="사용자항목15", L166, 0) -> 0 | AR166: =IF(P166="사용자항목16", L166, 0) -> 0 | AS166: =IF(P166="사용자항목17", L166, 0) -> 0 | AT166: =IF(P166="사용자항목18", L166, 0) -> 0 | AU166: =IF(P166="사용자항목19", L166, 0) -> 0
A167: 알루미늄천장재 | B167: 알루미늄천장재, 내풍압 600×600×0.7T 무공, 현장설치도 | C167: ㎡ | D167: 298.72 | F167: =ROUNDDOWN(D167*E167, 0) -> 0 | H167: =ROUNDDOWN(D167*G167, 0) -> 0 | J167: =ROUNDDOWN(D167*I167, 0) -> 0 | K167: =E167+G167+I167 -> 0 | L167: =F167+H167+J167 -> 0 | O167: ="01" -> 01 | P167: 기계경비 | Q167: 1 | R167: =IF(P167="기계경비", J167, 0) -> 0 | S167: =IF(P167="운반비", L167, 0) -> 0 | T167: =IF(P167="작업부산물", F167, 0) -> 0 | U167: =IF(P167="관급", F167, 0) -> 0 | V167: =IF(P167="외주비", J167, 0) -> 0 | W167: =IF(P167="장비비", J167, 0) -> 0 | X167: =IF(P167="폐기물처리비", L167, 0) -> 0 | Y167: =IF(P167="가설비", J167, 0) -> 0 | Z167: =IF(P167="잡비제외분", F167, 0) -> 0 | AA167: =IF(P167="사급자재대", L167, 0) -> 0 | AB167: =IF(P167="관급자재대", L167, 0) -> 0 | AC167: =IF(P167="사용자항목1", L167, 0) -> 0 | AD167: =IF(P167="사용자항목2", L167, 0) -> 0 | AE167: =IF(P167="안전관리비", L167, 0) -> 0 | AF167: =IF(P167="품질관리비", L167, 0) -> 0 | AG167: =IF(P167="작업부산물(철거해체)", L167, 0) -> 0 | AH167: =IF(P167="재해예방기술지도비", L167, 0) -> 0 | AI167: =IF(P167="사용자항목7", L167, 0) -> 0 | AJ167: =IF(P167="석면분담금", L167, 0) -> 0 | AK167: =IF(P167="임금채권분담금", L167, 0) -> 0 | AL167: =IF(P167="사용자항목10", L167, 0) -> 0 | AM167: =IF(P167="사용자항목11", L167, 0) -> 0 | AN167: =IF(P167="사용자항목12", L167, 0) -> 0 | AO167: =IF(P167="사용자항목13", L167, 0) -> 0 | AP167: =IF(P167="사용자항목14", L167, 0) -> 0 | AQ167: =IF(P167="사용자항목15", L167, 0) -> 0 | AR167: =IF(P167="사용자항목16", L167, 0) -> 0 | AS167: =IF(P167="사용자항목17", L167, 0) -> 0 | AT167: =IF(P167="사용자항목18", L167, 0) -> 0 | AU167: =IF(P167="사용자항목19", L167, 0) -> 0 | AY167: PK적산
A168: 핸드레일 | B168: 축광 PVC, Φ38, 벽부형, 현장설치도 | C168: M | D168: 6.9 | F168: =ROUNDDOWN(D168*E168, 0) -> 0 | H168: =ROUNDDOWN(D168*G168, 0) -> 0 | J168: =ROUNDDOWN(D168*I168, 0) -> 0 | K168: =E168+G168+I168 -> 0 | L168: =F168+H168+J168 -> 0 | O168: ="01" -> 01 | P168: 기계경비 | Q168: 1 | R168: =IF(P168="기계경비", J168, 0) -> 0 | S168: =IF(P168="운반비", L168, 0) -> 0 | T168: =IF(P168="작업부산물", F168, 0) -> 0 | U168: =IF(P168="관급", F168, 0) -> 0 | V168: =IF(P168="외주비", J168, 0) -> 0 | W168: =IF(P168="장비비", J168, 0) -> 0 | X168: =IF(P168="폐기물처리비", L168, 0) -> 0 | Y168: =IF(P168="가설비", J168, 0) -> 0 | Z168: =IF(P168="잡비제외분", F168, 0) -> 0 | AA168: =IF(P168="사급자재대", L168, 0) -> 0 | AB168: =IF(P168="관급자재대", L168, 0) -> 0 | AC168: =IF(P168="사용자항목1", L168, 0) -> 0 | AD168: =IF(P168="사용자항목2", L168, 0) -> 0 | AE168: =IF(P168="안전관리비", L168, 0) -> 0 | AF168: =IF(P168="품질관리비", L168, 0) -> 0 | AG168: =IF(P168="작업부산물(철거해체)", L168, 0) -> 0 | AH168: =IF(P168="재해예방기술지도비", L168, 0) -> 0 | AI168: =IF(P168="사용자항목7", L168, 0) -> 0 | AJ168: =IF(P168="석면분담금", L168, 0) -> 0 | AK168: =IF(P168="임금채권분담금", L168, 0) -> 0 | AL168: =IF(P168="사용자항목10", L168, 0) -> 0 | AM168: =IF(P168="사용자항목11", L168, 0) -> 0 | AN168: =IF(P168="사용자항목12", L168, 0) -> 0 | AO168: =IF(P168="사용자항목13", L168, 0) -> 0 | AP168: =IF(P168="사용자항목14", L168, 0) -> 0 | AQ168: =IF(P168="사용자항목15", L168, 0) -> 0 | AR168: =IF(P168="사용자항목16", L168, 0) -> 0 | AS168: =IF(P168="사용자항목17", L168, 0) -> 0 | AT168: =IF(P168="사용자항목18", L168, 0) -> 0 | AU168: =IF(P168="사용자항목19", L168, 0) -> 0 | AY168: PK적산
A169: 욕실거울 설치 | B169: 1.0 ㎡ 미만, 경사형 거울(PS), 장애인용 | C169: 개 | D169: 6 | F169: =ROUNDDOWN(D169*E169, 0) -> 0 | H169: =ROUNDDOWN(D169*G169, 0) -> 0 | J169: =ROUNDDOWN(D169*I169, 0) -> 0 | K169: =E169+G169+I169 -> 0 | L169: =F169+H169+J169 -> 0 | O169: ="" | P169: 기계경비 | Q169: 1 | R169: =IF(P169="기계경비", J169, 0) -> 0 | S169: =IF(P169="운반비", L169, 0) -> 0 | T169: =IF(P169="작업부산물", F169, 0) -> 0 | U169: =IF(P169="관급", F169, 0) -> 0 | V169: =IF(P169="외주비", J169, 0) -> 0 | W169: =IF(P169="장비비", J169, 0) -> 0 | X169: =IF(P169="폐기물처리비", L169, 0) -> 0 | Y169: =IF(P169="가설비", J169, 0) -> 0 | Z169: =IF(P169="잡비제외분", F169, 0) -> 0 | AA169: =IF(P169="사급자재대", L169, 0) -> 0 | AB169: =IF(P169="관급자재대", L169, 0) -> 0 | AC169: =IF(P169="사용자항목1", L169, 0) -> 0 | AD169: =IF(P169="사용자항목2", L169, 0) -> 0 | AE169: =IF(P169="안전관리비", L169, 0) -> 0 | AF169: =IF(P169="품질관리비", L169, 0) -> 0 | AG169: =IF(P169="작업부산물(철거해체)", L169, 0) -> 0 | AH169: =IF(P169="재해예방기술지도비", L169, 0) -> 0 | AI169: =IF(P169="사용자항목7", L169, 0) -> 0 | AJ169: =IF(P169="석면분담금", L169, 0) -> 0 | AK169: =IF(P169="임금채권분담금", L169, 0) -> 0 | AL169: =IF(P169="사용자항목10", L169, 0) -> 0 | AM169: =IF(P169="사용자항목11", L169, 0) -> 0 | AN169: =IF(P169="사용자항목12", L169, 0) -> 0 | AO169: =IF(P169="사용자항목13", L169, 0) -> 0 | AP169: =IF(P169="사용자항목14", L169, 0) -> 0 | AQ169: =IF(P169="사용자항목15", L169, 0) -> 0 | AR169: =IF(P169="사용자항목16", L169, 0) -> 0 | AS169: =IF(P169="사용자항목17", L169, 0) -> 0 | AT169: =IF(P169="사용자항목18", L169, 0) -> 0 | AU169: =IF(P169="사용자항목19", L169, 0) -> 0 | AY169: PK적산
A170: 천정팬 타공 | B170: 300*300 | C170: EA | D170: 86 | F170: =ROUNDDOWN(D170*E170, 0) -> 0 | H170: =ROUNDDOWN(D170*G170, 0) -> 0 | J170: =ROUNDDOWN(D170*I170, 0) -> 0 | K170: =E170+G170+I170 -> 0 | L170: =F170+H170+J170 -> 0 | O170: ="" | P170: 기계경비 | Q170: 1 | R170: =IF(P170="기계경비", J170, 0) -> 0 | S170: =IF(P170="운반비", L170, 0) -> 0 | T170: =IF(P170="작업부산물", F170, 0) -> 0 | U170: =IF(P170="관급", F170, 0) -> 0 | V170: =IF(P170="외주비", J170, 0) -> 0 | W170: =IF(P170="장비비", J170, 0) -> 0 | X170: =IF(P170="폐기물처리비", L170, 0) -> 0 | Y170: =IF(P170="가설비", J170, 0) -> 0 | Z170: =IF(P170="잡비제외분", F170, 0) -> 0 | AA170: =IF(P170="사급자재대", L170, 0) -> 0 | AB170: =IF(P170="관급자재대", L170, 0) -> 0 | AC170: =IF(P170="사용자항목1", L170, 0) -> 0 | AD170: =IF(P170="사용자항목2", L170, 0) -> 0 | AE170: =IF(P170="안전관리비", L170, 0) -> 0 | AF170: =IF(P170="품질관리비", L170, 0) -> 0 | AG170: =IF(P170="작업부산물(철거해체)", L170, 0) -> 0 | AH170: =IF(P170="재해예방기술지도비", L170, 0) -> 0 | AI170: =IF(P170="사용자항목7", L170, 0) -> 0 | AJ170: =IF(P170="석면분담금", L170, 0) -> 0 | AK170: =IF(P170="임금채권분담금", L170, 0) -> 0 | AL170: =IF(P170="사용자항목10", L170, 0) -> 0 | AM170: =IF(P170="사용자항목11", L170, 0) -> 0 | AN170: =IF(P170="사용자항목12", L170, 0) -> 0 | AO170: =IF(P170="사용자항목13", L170, 0) -> 0 | AP170: =IF(P170="사용자항목14", L170, 0) -> 0 | AQ170: =IF(P170="사용자항목15", L170, 0) -> 0 | AR170: =IF(P170="사용자항목16", L170, 0) -> 0 | AS170: =IF(P170="사용자항목17", L170, 0) -> 0 | AT170: =IF(P170="사용자항목18", L170, 0) -> 0 | AU170: =IF(P170="사용자항목19", L170, 0) -> 0 | AY170: PK적산
A171: 코너가드 설치 | B171: 고무리브 | C171: m | D171: 0.5 | F171: =ROUNDDOWN(D171*E171, 0) -> 0 | H171: =ROUNDDOWN(D171*G171, 0) -> 0 | J171: =ROUNDDOWN(D171*I171, 0) -> 0 | K171: =E171+G171+I171 -> 0 | L171: =F171+H171+J171 -> 0 | O171: ="" | P171: 기계경비 | Q171: 1 | R171: =IF(P171="기계경비", J171, 0) -> 0 | S171: =IF(P171="운반비", L171, 0) -> 0 | T171: =IF(P171="작업부산물", F171, 0) -> 0 | U171: =IF(P171="관급", F171, 0) -> 0 | V171: =IF(P171="외주비", J171, 0) -> 0 | W171: =IF(P171="장비비", J171, 0) -> 0 | X171: =IF(P171="폐기물처리비", L171, 0) -> 0 | Y171: =IF(P171="가설비", J171, 0) -> 0 | Z171: =IF(P171="잡비제외분", F171, 0) -> 0 | AA171: =IF(P171="사급자재대", L171, 0) -> 0 | AB171: =IF(P171="관급자재대", L171, 0) -> 0 | AC171: =IF(P171="사용자항목1", L171, 0) -> 0 | AD171: =IF(P171="사용자항목2", L171, 0) -> 0 | AE171: =IF(P171="안전관리비", L171, 0) -> 0 | AF171: =IF(P171="품질관리비", L171, 0) -> 0 | AG171: =IF(P171="작업부산물(철거해체)", L171, 0) -> 0 | AH171: =IF(P171="재해예방기술지도비", L171, 0) -> 0 | AI171: =IF(P171="사용자항목7", L171, 0) -> 0 | AJ171: =IF(P171="석면분담금", L171, 0) -> 0 | AK171: =IF(P171="임금채권분담금", L171, 0) -> 0 | AL171: =IF(P171="사용자항목10", L171, 0) -> 0 | AM171: =IF(P171="사용자항목11", L171, 0) -> 0 | AN171: =IF(P171="사용자항목12", L171, 0) -> 0 | AO171: =IF(P171="사용자항목13", L171, 0) -> 0 | AP171: =IF(P171="사용자항목14", L171, 0) -> 0 | AQ171: =IF(P171="사용자항목15", L171, 0) -> 0 | AR171: =IF(P171="사용자항목16", L171, 0) -> 0 | AS171: =IF(P171="사용자항목17", L171, 0) -> 0 | AT171: =IF(P171="사용자항목18", L171, 0) -> 0 | AU171: =IF(P171="사용자항목19", L171, 0) -> 0 | AY171: PK적산
A172: 안전손잡이 설치 | B172: 장애인손잡이, ABS, L자형, 600*900 | C172: 개 | D172: 85 | F172: =ROUNDDOWN(D172*E172, 0) -> 0 | H172: =ROUNDDOWN(D172*G172, 0) -> 0 | J172: =ROUNDDOWN(D172*I172, 0) -> 0 | K172: =E172+G172+I172 -> 0 | L172: =F172+H172+J172 -> 0 | O172: ="" | P172: 기계경비 | Q172: 1 | R172: =IF(P172="기계경비", J172, 0) -> 0 | S172: =IF(P172="운반비", L172, 0) -> 0 | T172: =IF(P172="작업부산물", F172, 0) -> 0 | U172: =IF(P172="관급", F172, 0) -> 0 | V172: =IF(P172="외주비", J172, 0) -> 0 | W172: =IF(P172="장비비", J172, 0) -> 0 | X172: =IF(P172="폐기물처리비", L172, 0) -> 0 | Y172: =IF(P172="가설비", J172, 0) -> 0 | Z172: =IF(P172="잡비제외분", F172, 0) -> 0 | AA172: =IF(P172="사급자재대", L172, 0) -> 0 | AB172: =IF(P172="관급자재대", L172, 0) -> 0 | AC172: =IF(P172="사용자항목1", L172, 0) -> 0 | AD172: =IF(P172="사용자항목2", L172, 0) -> 0 | AE172: =IF(P172="안전관리비", L172, 0) -> 0 | AF172: =IF(P172="품질관리비", L172, 0) -> 0 | AG172: =IF(P172="작업부산물(철거해체)", L172, 0) -> 0 | AH172: =IF(P172="재해예방기술지도비", L172, 0) -> 0 | AI172: =IF(P172="사용자항목7", L172, 0) -> 0 | AJ172: =IF(P172="석면분담금", L172, 0) -> 0 | AK172: =IF(P172="임금채권분담금", L172, 0) -> 0 | AL172: =IF(P172="사용자항목10", L172, 0) -> 0 | AM172: =IF(P172="사용자항목11", L172, 0) -> 0 | AN172: =IF(P172="사용자항목12", L172, 0) -> 0 | AO172: =IF(P172="사용자항목13", L172, 0) -> 0 | AP172: =IF(P172="사용자항목14", L172, 0) -> 0 | AQ172: =IF(P172="사용자항목15", L172, 0) -> 0 | AR172: =IF(P172="사용자항목16", L172, 0) -> 0 | AS172: =IF(P172="사용자항목17", L172, 0) -> 0 | AT172: =IF(P172="사용자항목18", L172, 0) -> 0 | AU172: =IF(P172="사용자항목19", L172, 0) -> 0 | AY172: PK적산
A173: 안전손잡이 설치 | B173: 장애인손잡이, ABS, 양변기, 상하가동식 | C173: 개 | D173: 6 | F173: =ROUNDDOWN(D173*E173, 0) -> 0 | H173: =ROUNDDOWN(D173*G173, 0) -> 0 | J173: =ROUNDDOWN(D173*I173, 0) -> 0 | K173: =E173+G173+I173 -> 0 | L173: =F173+H173+J173 -> 0 | O173: ="" | P173: 기계경비 | Q173: 1 | R173: =IF(P173="기계경비", J173, 0) -> 0 | S173: =IF(P173="운반비", L173, 0) -> 0 | T173: =IF(P173="작업부산물", F173, 0) -> 0 | U173: =IF(P173="관급", F173, 0) -> 0 | V173: =IF(P173="외주비", J173, 0) -> 0 | W173: =IF(P173="장비비", J173, 0) -> 0 | X173: =IF(P173="폐기물처리비", L173, 0) -> 0 | Y173: =IF(P173="가설비", J173, 0) -> 0 | Z173: =IF(P173="잡비제외분", F173, 0) -> 0 | AA173: =IF(P173="사급자재대", L173, 0) -> 0 | AB173: =IF(P173="관급자재대", L173, 0) -> 0 | AC173: =IF(P173="사용자항목1", L173, 0) -> 0 | AD173: =IF(P173="사용자항목2", L173, 0) -> 0 | AE173: =IF(P173="안전관리비", L173, 0) -> 0 | AF173: =IF(P173="품질관리비", L173, 0) -> 0 | AG173: =IF(P173="작업부산물(철거해체)", L173, 0) -> 0 | AH173: =IF(P173="재해예방기술지도비", L173, 0) -> 0 | AI173: =IF(P173="사용자항목7", L173, 0) -> 0 | AJ173: =IF(P173="석면분담금", L173, 0) -> 0 | AK173: =IF(P173="임금채권분담금", L173, 0) -> 0 | AL173: =IF(P173="사용자항목10", L173, 0) -> 0 | AM173: =IF(P173="사용자항목11", L173, 0) -> 0 | AN173: =IF(P173="사용자항목12", L173, 0) -> 0 | AO173: =IF(P173="사용자항목13", L173, 0) -> 0 | AP173: =IF(P173="사용자항목14", L173, 0) -> 0 | AQ173: =IF(P173="사용자항목15", L173, 0) -> 0 | AR173: =IF(P173="사용자항목16", L173, 0) -> 0 | AS173: =IF(P173="사용자항목17", L173, 0) -> 0 | AT173: =IF(P173="사용자항목18", L173, 0) -> 0 | AU173: =IF(P173="사용자항목19", L173, 0) -> 0 | AY173: PK적산
A174: 안전손잡이 설치 | B174: 장애인손잡이, ABS, 세면기분리형 | C174: 개 | D174: 6 | F174: =ROUNDDOWN(D174*E174, 0) -> 0 | H174: =ROUNDDOWN(D174*G174, 0) -> 0 | J174: =ROUNDDOWN(D174*I174, 0) -> 0 | K174: =E174+G174+I174 -> 0 | L174: =F174+H174+J174 -> 0 | O174: ="" | P174: 기계경비 | Q174: 1 | R174: =IF(P174="기계경비", J174, 0) -> 0 | S174: =IF(P174="운반비", L174, 0) -> 0 | T174: =IF(P174="작업부산물", F174, 0) -> 0 | U174: =IF(P174="관급", F174, 0) -> 0 | V174: =IF(P174="외주비", J174, 0) -> 0 | W174: =IF(P174="장비비", J174, 0) -> 0 | X174: =IF(P174="폐기물처리비", L174, 0) -> 0 | Y174: =IF(P174="가설비", J174, 0) -> 0 | Z174: =IF(P174="잡비제외분", F174, 0) -> 0 | AA174: =IF(P174="사급자재대", L174, 0) -> 0 | AB174: =IF(P174="관급자재대", L174, 0) -> 0 | AC174: =IF(P174="사용자항목1", L174, 0) -> 0 | AD174: =IF(P174="사용자항목2", L174, 0) -> 0 | AE174: =IF(P174="안전관리비", L174, 0) -> 0 | AF174: =IF(P174="품질관리비", L174, 0) -> 0 | AG174: =IF(P174="작업부산물(철거해체)", L174, 0) -> 0 | AH174: =IF(P174="재해예방기술지도비", L174, 0) -> 0 | AI174: =IF(P174="사용자항목7", L174, 0) -> 0 | AJ174: =IF(P174="석면분담금", L174, 0) -> 0 | AK174: =IF(P174="임금채권분담금", L174, 0) -> 0 | AL174: =IF(P174="사용자항목10", L174, 0) -> 0 | AM174: =IF(P174="사용자항목11", L174, 0) -> 0 | AN174: =IF(P174="사용자항목12", L174, 0) -> 0 | AO174: =IF(P174="사용자항목13", L174, 0) -> 0 | AP174: =IF(P174="사용자항목14", L174, 0) -> 0 | AQ174: =IF(P174="사용자항목15", L174, 0) -> 0 | AR174: =IF(P174="사용자항목16", L174, 0) -> 0 | AS174: =IF(P174="사용자항목17", L174, 0) -> 0 | AT174: =IF(P174="사용자항목18", L174, 0) -> 0 | AU174: =IF(P174="사용자항목19", L174, 0) -> 0 | AY174: PK적산
A175: 점자표지판 설치 | B175: 120×45 | C175: 개 | D175: 6 | F175: =ROUNDDOWN(D175*E175, 0) -> 0 | H175: =ROUNDDOWN(D175*G175, 0) -> 0 | J175: =ROUNDDOWN(D175*I175, 0) -> 0 | K175: =E175+G175+I175 -> 0 | L175: =F175+H175+J175 -> 0 | O175: ="" | P175: 기계경비 | Q175: 1 | R175: =IF(P175="기계경비", J175, 0) -> 0 | S175: =IF(P175="운반비", L175, 0) -> 0 | T175: =IF(P175="작업부산물", F175, 0) -> 0 | U175: =IF(P175="관급", F175, 0) -> 0 | V175: =IF(P175="외주비", J175, 0) -> 0 | W175: =IF(P175="장비비", J175, 0) -> 0 | X175: =IF(P175="폐기물처리비", L175, 0) -> 0 | Y175: =IF(P175="가설비", J175, 0) -> 0 | Z175: =IF(P175="잡비제외분", F175, 0) -> 0 | AA175: =IF(P175="사급자재대", L175, 0) -> 0 | AB175: =IF(P175="관급자재대", L175, 0) -> 0 | AC175: =IF(P175="사용자항목1", L175, 0) -> 0 | AD175: =IF(P175="사용자항목2", L175, 0) -> 0 | AE175: =IF(P175="안전관리비", L175, 0) -> 0 | AF175: =IF(P175="품질관리비", L175, 0) -> 0 | AG175: =IF(P175="작업부산물(철거해체)", L175, 0) -> 0 | AH175: =IF(P175="재해예방기술지도비", L175, 0) -> 0 | AI175: =IF(P175="사용자항목7", L175, 0) -> 0 | AJ175: =IF(P175="석면분담금", L175, 0) -> 0 | AK175: =IF(P175="임금채권분담금", L175, 0) -> 0 | AL175: =IF(P175="사용자항목10", L175, 0) -> 0 | AM175: =IF(P175="사용자항목11", L175, 0) -> 0 | AN175: =IF(P175="사용자항목12", L175, 0) -> 0 | AO175: =IF(P175="사용자항목13", L175, 0) -> 0 | AP175: =IF(P175="사용자항목14", L175, 0) -> 0 | AQ175: =IF(P175="사용자항목15", L175, 0) -> 0 | AR175: =IF(P175="사용자항목16", L175, 0) -> 0 | AS175: =IF(P175="사용자항목17", L175, 0) -> 0 | AT175: =IF(P175="사용자항목18", L175, 0) -> 0 | AU175: =IF(P175="사용자항목19", L175, 0) -> 0 | AY175: PK적산
A180: 합 계 | F180: =ROUNDDOWN(SUMIF(Q166:Q179, "1", F166:F179), 0) -> 0 | H180: =ROUNDDOWN(SUMIF(Q166:Q179, "1", H166:H179), 0) -> 0 | J180: =ROUNDDOWN(SUMIF(Q166:Q179, "1", J166:J179), 0) -> 0 | L180: =F180+H180+J180 -> 0 | R180: =ROUNDDOWN(SUM(R166:R175), 0) -> 0 | S180: =ROUNDDOWN(SUM(S166:S175), 0) -> 0 | T180: =ROUNDDOWN(SUM(T166:T175), 0) -> 0 | U180: =ROUNDDOWN(SUM(U166:U175), 0) -> 0 | V180: =ROUNDDOWN(SUM(V166:V175), 0) -> 0 | W180: =ROUNDDOWN(SUM(W166:W175), 0) -> 0 | X180: =ROUNDDOWN(SUM(X166:X175), 0) -> 0 | Y180: =ROUNDDOWN(SUM(Y166:Y175), 0) -> 0 | ... AY180: =ROUNDDOWN(SUM(AY166:AY175), 0) -> 0
A181: 010110. 도장공사
A182: 수성페인트 붓칠(바탕만들기 포함) | B182: 내벽 2회 1급 | C182: M2 | D182: 2320 | F182: =ROUNDDOWN(D182*E182, 0) -> 0 | H182: =ROUNDDOWN(D182*G182, 0) -> 0 | J182: =ROUNDDOWN(D182*I182, 0) -> 0 | K182: =E182+G182+I182 -> 0 | L182: =F182+H182+J182 -> 0 | O182: ="" | P182: 기계경비 | Q182: 1 | R182: =IF(P182="기계경비", J182, 0) -> 0 | S182: =IF(P182="운반비", L182, 0) -> 0 | T182: =IF(P182="작업부산물", F182, 0) -> 0 | U182: =IF(P182="관급", F182, 0) -> 0 | V182: =IF(P182="외주비", J182, 0) -> 0 | W182: =IF(P182="장비비", J182, 0) -> 0 | X182: =IF(P182="폐기물처리비", L182, 0) -> 0 | Y182: =IF(P182="가설비", J182, 0) -> 0 | Z182: =IF(P182="잡비제외분", F182, 0) -> 0 | AA182: =IF(P182="사급자재대", L182, 0) -> 0 | AB182: =IF(P182="관급자재대", L182, 0) -> 0 | AC182: =IF(P182="사용자항목1", L182, 0) -> 0 | AD182: =IF(P182="사용자항목2", L182, 0) -> 0 | AE182: =IF(P182="안전관리비", L182, 0) -> 0 | AF182: =IF(P182="품질관리비", L182, 0) -> 0 | AG182: =IF(P182="작업부산물(철거해체)", L182, 0) -> 0 | AH182: =IF(P182="재해예방기술지도비", L182, 0) -> 0 | AI182: =IF(P182="사용자항목7", L182, 0) -> 0 | AJ182: =IF(P182="석면분담금", L182, 0) -> 0 | AK182: =IF(P182="임금채권분담금", L182, 0) -> 0 | AL182: =IF(P182="사용자항목10", L182, 0) -> 0 | AM182: =IF(P182="사용자항목11", L182, 0) -> 0 | AN182: =IF(P182="사용자항목12", L182, 0) -> 0 | AO182: =IF(P182="사용자항목13", L182, 0) -> 0 | AP182: =IF(P182="사용자항목14", L182, 0) -> 0 | AQ182: =IF(P182="사용자항목15", L182, 0) -> 0 | AR182: =IF(P182="사용자항목16", L182, 0) -> 0 | AS182: =IF(P182="사용자항목17", L182, 0) -> 0 | AT182: =IF(P182="사용자항목18", L182, 0) -> 0 | AU182: =IF(P182="사용자항목19", L182, 0) -> 0
A196: 합 계 | F196: =ROUNDDOWN(SUMIF(Q182:Q195, "1", F182:F195), 0) -> 0 | H196: =ROUNDDOWN(SUMIF(Q182:Q195, "1", H182:H195), 0) -> 0 | J196: =ROUNDDOWN(SUMIF(Q182:Q195, "1", J182:J195), 0) -> 0 | L196: =F196+H196+J196 -> 0 | R196: =ROUNDDOWN(SUM(R182:R182), 0) -> 0 | S196: =ROUNDDOWN(SUM(S182:S182), 0) -> 0 | T196: =ROUNDDOWN(SUM(T182:T182), 0) -> 0 | U196: =ROUNDDOWN(SUM(U182:U182), 0) -> 0 | V196: =ROUNDDOWN(SUM(V182:V182), 0) -> 0 | W196: =ROUNDDOWN(SUM(W182:W182), 0) -> 0 | X196: =ROUNDDOWN(SUM(X182:X182), 0) -> 0 | Y196: =ROUNDDOWN(SUM(Y182:Y182), 0) -> 0 | ... AY196: =ROUNDDOWN(SUM(AY182:AY182), 0) -> 0
A197: 010111. 품질관리비
A198: 품질시험 수수료 | B198: 포틀랜드 시멘트, 밀도 | C198: 건 | D198: 1 | E198: 0 | F198: =ROUNDDOWN(D198*E198, 0) -> 0 | G198: 0 | H198: =ROUNDDOWN(D198*G198, 0) -> 0 | J198: =ROUNDDOWN(D198*I198, 0) -> 0 | K198: =E198+G198+I198 -> 0 | L198: =F198+H198+J198 -> 0 | O198: ="03" -> 03 | P198: 품질관리비 | Q198: 1 | R198: =IF(P198="기계경비", J198, 0) -> 0 | S198: =IF(P198="운반비", L198, 0) -> 0 | T198: =IF(P198="작업부산물", F198, 0) -> 0 | U198: =IF(P198="관급", F198, 0) -> 0 | V198: =IF(P198="외주비", J198, 0) -> 0 | W198: =IF(P198="장비비", J198, 0) -> 0 | X198: =IF(P198="폐기물처리비", L198, 0) -> 0 | Y198: =IF(P198="가설비", J198, 0) -> 0 | Z198: =IF(P198="잡비제외분", F198, 0) -> 0 | AA198: =IF(P198="사급자재대", L198, 0) -> 0 | AB198: =IF(P198="관급자재대", L198, 0) -> 0 | AC198: =IF(P198="사용자항목1", L198, 0) -> 0 | AD198: =IF(P198="사용자항목2", L198, 0) -> 0 | AE198: =IF(P198="안전관리비", L198, 0) -> 0 | AF198: =IF(P198="품질관리비", L198, 0) -> 0 | AG198: =IF(P198="작업부산물(철거해체)", L198, 0) -> 0 | AH198: =IF(P198="재해예방기술지도비", L198, 0) -> 0 | AI198: =IF(P198="사용자항목7", L198, 0) -> 0 | AJ198: =IF(P198="석면분담금", L198, 0) -> 0 | AK198: =IF(P198="임금채권분담금", L198, 0) -> 0 | AL198: =IF(P198="사용자항목10", L198, 0) -> 0 | AM198: =IF(P198="사용자항목11", L198, 0) -> 0 | AN198: =IF(P198="사용자항목12", L198, 0) -> 0 | AO198: =IF(P198="사용자항목13", L198, 0) -> 0 | AP198: =IF(P198="사용자항목14", L198, 0) -> 0 | AQ198: =IF(P198="사용자항목15", L198, 0) -> 0 | AR198: =IF(P198="사용자항목16", L198, 0) -> 0 | AS198: =IF(P198="사용자항목17", L198, 0) -> 0 | AT198: =IF(P198="사용자항목18", L198, 0) -> 0 | AU198: =IF(P198="사용자항목19", L198, 0) -> 0
A199: 품질시험 수수료 | B199: 포틀랜드 시멘트, 분말도 | C199: 건 | D199: 1 | E199: 0 | F199: =ROUNDDOWN(D199*E199, 0) -> 0 | G199: 0 | H199: =ROUNDDOWN(D199*G199, 0) -> 0 | J199: =ROUNDDOWN(D199*I199, 0) -> 0 | K199: =E199+G199+I199 -> 0 | L199: =F199+H199+J199 -> 0 | O199: ="03" -> 03 | P199: 품질관리비 | Q199: 1 | R199: =IF(P199="기계경비", J199, 0) -> 0 | S199: =IF(P199="운반비", L199, 0) -> 0 | T199: =IF(P199="작업부산물", F199, 0) -> 0 | U199: =IF(P199="관급", F199, 0) -> 0 | V199: =IF(P199="외주비", J199, 0) -> 0 | W199: =IF(P199="장비비", J199, 0) -> 0 | X199: =IF(P199="폐기물처리비", L199, 0) -> 0 | Y199: =IF(P199="가설비", J199, 0) -> 0 | Z199: =IF(P199="잡비제외분", F199, 0) -> 0 | AA199: =IF(P199="사급자재대", L199, 0) -> 0 | AB199: =IF(P199="관급자재대", L199, 0) -> 0 | AC199: =IF(P199="사용자항목1", L199, 0) -> 0 | AD199: =IF(P199="사용자항목2", L199, 0) -> 0 | AE199: =IF(P199="안전관리비", L199, 0) -> 0 | AF199: =IF(P199="품질관리비", L199, 0) -> 0 | AG199: =IF(P199="작업부산물(철거해체)", L199, 0) -> 0 | AH199: =IF(P199="재해예방기술지도비", L199, 0) -> 0 | AI199: =IF(P199="사용자항목7", L199, 0) -> 0 | AJ199: =IF(P199="석면분담금", L199, 0) -> 0 | AK199: =IF(P199="임금채권분담금", L199, 0) -> 0 | AL199: =IF(P199="사용자항목10", L199, 0) -> 0 | AM199: =IF(P199="사용자항목11", L199, 0) -> 0 | AN199: =IF(P199="사용자항목12", L199, 0) -> 0 | AO199: =IF(P199="사용자항목13", L199, 0) -> 0 | AP199: =IF(P199="사용자항목14", L199, 0) -> 0 | AQ199: =IF(P199="사용자항목15", L199, 0) -> 0 | AR199: =IF(P199="사용자항목16", L199, 0) -> 0 | AS199: =IF(P199="사용자항목17", L199, 0) -> 0 | AT199: =IF(P199="사용자항목18", L199, 0) -> 0 | AU199: =IF(P199="사용자항목19", L199, 0) -> 0
A200: 품질시험 수수료 | B200: 포틀랜드 시멘트, 응결시간 | C200: 건 | D200: 1 | E200: 0 | F200: =ROUNDDOWN(D200*E200, 0) -> 0 | G200: 0 | H200: =ROUNDDOWN(D200*G200, 0) -> 0 | J200: =ROUNDDOWN(D200*I200, 0) -> 0 | K200: =E200+G200+I200 -> 0 | L200: =F200+H200+J200 -> 0 | O200: ="03" -> 03 | P200: 품질관리비 | Q200: 1 | R200: =IF(P200="기계경비", J200, 0) -> 0 | S200: =IF(P200="운반비", L200, 0) -> 0 | T200: =IF(P200="작업부산물", F200, 0) -> 0 | U200: =IF(P200="관급", F200, 0) -> 0 | V200: =IF(P200="외주비", J200, 0) -> 0 | W200: =IF(P200="장비비", J200, 0) -> 0 | X200: =IF(P200="폐기물처리비", L200, 0) -> 0 | Y200: =IF(P200="가설비", J200, 0) -> 0 | Z200: =IF(P200="잡비제외분", F200, 0) -> 0 | AA200: =IF(P200="사급자재대", L200, 0) -> 0 | AB200: =IF(P200="관급자재대", L200, 0) -> 0 | AC200: =IF(P200="사용자항목1", L200, 0) -> 0 | AD200: =IF(P200="사용자항목2", L200, 0) -> 0 | AE200: =IF(P200="안전관리비", L200, 0) -> 0 | AF200: =IF(P200="품질관리비", L200, 0) -> 0 | AG200: =IF(P200="작업부산물(철거해체)", L200, 0) -> 0 | AH200: =IF(P200="재해예방기술지도비", L200, 0) -> 0 | AI200: =IF(P200="사용자항목7", L200, 0) -> 0 | AJ200: =IF(P200="석면분담금", L200, 0) -> 0 | AK200: =IF(P200="임금채권분담금", L200, 0) -> 0 | AL200: =IF(P200="사용자항목10", L200, 0) -> 0 | AM200: =IF(P200="사용자항목11", L200, 0) -> 0 | AN200: =IF(P200="사용자항목12", L200, 0) -> 0 | AO200: =IF(P200="사용자항목13", L200, 0) -> 0 | AP200: =IF(P200="사용자항목14", L200, 0) -> 0 | AQ200: =IF(P200="사용자항목15", L200, 0) -> 0 | AR200: =IF(P200="사용자항목16", L200, 0) -> 0 | AS200: =IF(P200="사용자항목17", L200, 0) -> 0 | AT200: =IF(P200="사용자항목18", L200, 0) -> 0 | AU200: =IF(P200="사용자항목19", L200, 0) -> 0
A201: 품질시험 수수료 | B201: 건설 용도막 방수재, 인장성능(인장강도) | C201: 건 | D201: 1 | E201: 0 | F201: =ROUNDDOWN(D201*E201, 0) -> 0 | G201: 0 | H201: =ROUNDDOWN(D201*G201, 0) -> 0 | J201: =ROUNDDOWN(D201*I201, 0) -> 0 | K201: =E201+G201+I201 -> 0 | L201: =F201+H201+J201 -> 0 | O201: ="03" -> 03 | P201: 품질관리비 | Q201: 1 | R201: =IF(P201="기계경비", J201, 0) -> 0 | S201: =IF(P201="운반비", L201, 0) -> 0 | T201: =IF(P201="작업부산물", F201, 0) -> 0 | U201: =IF(P201="관급", F201, 0) -> 0 | V201: =IF(P201="외주비", J201, 0) -> 0 | W201: =IF(P201="장비비", J201, 0) -> 0 | X201: =IF(P201="폐기물처리비", L201, 0) -> 0 | Y201: =IF(P201="가설비", J201, 0) -> 0 | Z201: =IF(P201="잡비제외분", F201, 0) -> 0 | AA201: =IF(P201="사급자재대", L201, 0) -> 0 | AB201: =IF(P201="관급자재대", L201, 0) -> 0 | AC201: =IF(P201="사용자항목1", L201, 0) -> 0 | AD201: =IF(P201="사용자항목2", L201, 0) -> 0 | AE201: =IF(P201="안전관리비", L201, 0) -> 0 | AF201: =IF(P201="품질관리비", L201, 0) -> 0 | AG201: =IF(P201="작업부산물(철거해체)", L201, 0) -> 0 | AH201: =IF(P201="재해예방기술지도비", L201, 0) -> 0 | AI201: =IF(P201="사용자항목7", L201, 0) -> 0 | AJ201: =IF(P201="석면분담금", L201, 0) -> 0 | AK201: =IF(P201="임금채권분담금", L201, 0) -> 0 | AL201: =IF(P201="사용자항목10", L201, 0) -> 0 | AM201: =IF(P201="사용자항목11", L201, 0) -> 0 | AN201: =IF(P201="사용자항목12", L201, 0) -> 0 | AO201: =IF(P201="사용자항목13", L201, 0) -> 0 | AP201: =IF(P201="사용자항목14", L201, 0) -> 0 | AQ201: =IF(P201="사용자항목15", L201, 0) -> 0 | AR201: =IF(P201="사용자항목16", L201, 0) -> 0 | AS201: =IF(P201="사용자항목17", L201, 0) -> 0 | AT201: =IF(P201="사용자항목18", L201, 0) -> 0 | AU201: =IF(P201="사용자항목19", L201, 0) -> 0
A202: 품질시험 수수료 | B202: 건설 용도막 방수재, 인장성능(신장률) | C202: 건 | D202: 1 | E202: 0 | F202: =ROUNDDOWN(D202*E202, 0) -> 0 | G202: 0 | H202: =ROUNDDOWN(D202*G202, 0) -> 0 | J202: =ROUNDDOWN(D202*I202, 0) -> 0 | K202: =E202+G202+I202 -> 0 | L202: =F202+H202+J202 -> 0 | O202: ="03" -> 03 | P202: 품질관리비 | Q202: 1 | R202: =IF(P202="기계경비", J202, 0) -> 0 | S202: =IF(P202="운반비", L202, 0) -> 0 | T202: =IF(P202="작업부산물", F202, 0) -> 0 | U202: =IF(P202="관급", F202, 0) -> 0 | V202: =IF(P202="외주비", J202, 0) -> 0 | W202: =IF(P202="장비비", J202, 0) -> 0 | X202: =IF(P202="폐기물처리비", L202, 0) -> 0 | Y202: =IF(P202="가설비", J202, 0) -> 0 | Z202: =IF(P202="잡비제외분", F202, 0) -> 0 | AA202: =IF(P202="사급자재대", L202, 0) -> 0 | AB202: =IF(P202="관급자재대", L202, 0) -> 0 | AC202: =IF(P202="사용자항목1", L202, 0) -> 0 | AD202: =IF(P202="사용자항목2", L202, 0) -> 0 | AE202: =IF(P202="안전관리비", L202, 0) -> 0 | AF202: =IF(P202="품질관리비", L202, 0) -> 0 | AG202: =IF(P202="작업부산물(철거해체)", L202, 0) -> 0 | AH202: =IF(P202="재해예방기술지도비", L202, 0) -> 0 | AI202: =IF(P202="사용자항목7", L202, 0) -> 0 | AJ202: =IF(P202="석면분담금", L202, 0) -> 0 | AK202: =IF(P202="임금채권분담금", L202, 0) -> 0 | AL202: =IF(P202="사용자항목10", L202, 0) -> 0 | AM202: =IF(P202="사용자항목11", L202, 0) -> 0 | AN202: =IF(P202="사용자항목12", L202, 0) -> 0 | AO202: =IF(P202="사용자항목13", L202, 0) -> 0 | AP202: =IF(P202="사용자항목14", L202, 0) -> 0 | AQ202: =IF(P202="사용자항목15", L202, 0) -> 0 | AR202: =IF(P202="사용자항목16", L202, 0) -> 0 | AS202: =IF(P202="사용자항목17", L202, 0) -> 0 | AT202: =IF(P202="사용자항목18", L202, 0) -> 0 | AU202: =IF(P202="사용자항목19", L202, 0) -> 0
A203: 품질시험 수수료 | B203: 건설 용도막 방수재, 인장성능(항장적) | C203: 건 | D203: 1 | E203: 0 | F203: =ROUNDDOWN(D203*E203, 0) -> 0 | G203: 0 | H203: =ROUNDDOWN(D203*G203, 0) -> 0 | J203: =ROUNDDOWN(D203*I203, 0) -> 0 | K203: =E203+G203+I203 -> 0 | L203: =F203+H203+J203 -> 0 | O203: ="03" -> 03 | P203: 품질관리비 | Q203: 1 | R203: =IF(P203="기계경비", J203, 0) -> 0 | S203: =IF(P203="운반비", L203, 0) -> 0 | T203: =IF(P203="작업부산물", F203, 0) -> 0 | U203: =IF(P203="관급", F203, 0) -> 0 | V203: =IF(P203="외주비", J203, 0) -> 0 | W203: =IF(P203="장비비", J203, 0) -> 0 | X203: =IF(P203="폐기물처리비", L203, 0) -> 0 | Y203: =IF(P203="가설비", J203, 0) -> 0 | Z203: =IF(P203="잡비제외분", F203, 0) -> 0 | AA203: =IF(P203="사급자재대", L203, 0) -> 0 | AB203: =IF(P203="관급자재대", L203, 0) -> 0 | AC203: =IF(P203="사용자항목1", L203, 0) -> 0 | AD203: =IF(P203="사용자항목2", L203, 0) -> 0 | AE203: =IF(P203="안전관리비", L203, 0) -> 0 | AF203: =IF(P203="품질관리비", L203, 0) -> 0 | AG203: =IF(P203="작업부산물(철거해체)", L203, 0) -> 0 | AH203: =IF(P203="재해예방기술지도비", L203, 0) -> 0 | AI203: =IF(P203="사용자항목7", L203, 0) -> 0 | AJ203: =IF(P203="석면분담금", L203, 0) -> 0 | AK203: =IF(P203="임금채권분담금", L203, 0) -> 0 | AL203: =IF(P203="사용자항목10", L203, 0) -> 0 | AM203: =IF(P203="사용자항목11", L203, 0) -> 0 | AN203: =IF(P203="사용자항목12", L203, 0) -> 0 | AO203: =IF(P203="사용자항목13", L203, 0) -> 0 | AP203: =IF(P203="사용자항목14", L203, 0) -> 0 | AQ203: =IF(P203="사용자항목15", L203, 0) -> 0 | AR203: =IF(P203="사용자항목16", L203, 0) -> 0 | AS203: =IF(P203="사용자항목17", L203, 0) -> 0 | AT203: =IF(P203="사용자항목18", L203, 0) -> 0 | AU203: =IF(P203="사용자항목19", L203, 0) -> 0
A204: 품질시험 수수료 | B204: 건설 용도막 방수재, 인열성능(인열강도) | C204: 건 | D204: 1 | E204: 0 | F204: =ROUNDDOWN(D204*E204, 0) -> 0 | G204: 0 | H204: =ROUNDDOWN(D204*G204, 0) -> 0 | J204: =ROUNDDOWN(D204*I204, 0) -> 0 | K204: =E204+G204+I204 -> 0 | L204: =F204+H204+J204 -> 0 | O204: ="03" -> 03 | P204: 품질관리비 | Q204: 1 | R204: =IF(P204="기계경비", J204, 0) -> 0 | S204: =IF(P204="운반비", L204, 0) -> 0 | T204: =IF(P204="작업부산물", F204, 0) -> 0 | U204: =IF(P204="관급", F204, 0) -> 0 | V204: =IF(P204="외주비", J204, 0) -> 0 | W204: =IF(P204="장비비", J204, 0) -> 0 | X204: =IF(P204="폐기물처리비", L204, 0) -> 0 | Y204: =IF(P204="가설비", J204, 0) -> 0 | Z204: =IF(P204="잡비제외분", F204, 0) -> 0 | AA204: =IF(P204="사급자재대", L204, 0) -> 0 | AB204: =IF(P204="관급자재대", L204, 0) -> 0 | AC204: =IF(P204="사용자항목1", L204, 0) -> 0 | AD204: =IF(P204="사용자항목2", L204, 0) -> 0 | AE204: =IF(P204="안전관리비", L204, 0) -> 0 | AF204: =IF(P204="품질관리비", L204, 0) -> 0 | AG204: =IF(P204="작업부산물(철거해체)", L204, 0) -> 0 | AH204: =IF(P204="재해예방기술지도비", L204, 0) -> 0 | AI204: =IF(P204="사용자항목7", L204, 0) -> 0 | AJ204: =IF(P204="석면분담금", L204, 0) -> 0 | AK204: =IF(P204="임금채권분담금", L204, 0) -> 0 | AL204: =IF(P204="사용자항목10", L204, 0) -> 0 | AM204: =IF(P204="사용자항목11", L204, 0) -> 0 | AN204: =IF(P204="사용자항목12", L204, 0) -> 0 | AO204: =IF(P204="사용자항목13", L204, 0) -> 0 | AP204: =IF(P204="사용자항목14", L204, 0) -> 0 | AQ204: =IF(P204="사용자항목15", L204, 0) -> 0 | AR204: =IF(P204="사용자항목16", L204, 0) -> 0 | AS204: =IF(P204="사용자항목17", L204, 0) -> 0 | AT204: =IF(P204="사용자항목18", L204, 0) -> 0 | AU204: =IF(P204="사용자항목19", L204, 0) -> 0
A205: 품질시험 수수료 | B205: 도자기질 타일, 치수 | C205: 조 | D205: 1 | E205: 0 | F205: =ROUNDDOWN(D205*E205, 0) -> 0 | G205: 0 | H205: =ROUNDDOWN(D205*G205, 0) -> 0 | J205: =ROUNDDOWN(D205*I205, 0) -> 0 | K205: =E205+G205+I205 -> 0 | L205: =F205+H205+J205 -> 0 | O205: ="03" -> 03 | P205: 품질관리비 | Q205: 1 | R205: =IF(P205="기계경비", J205, 0) -> 0 | S205: =IF(P205="운반비", L205, 0) -> 0 | T205: =IF(P205="작업부산물", F205, 0) -> 0 | U205: =IF(P205="관급", F205, 0) -> 0 | V205: =IF(P205="외주비", J205, 0) -> 0 | W205: =IF(P205="장비비", J205, 0) -> 0 | X205: =IF(P205="폐기물처리비", L205, 0) -> 0 | Y205: =IF(P205="가설비", J205, 0) -> 0 | Z205: =IF(P205="잡비제외분", F205, 0) -> 0 | AA205: =IF(P205="사급자재대", L205, 0) -> 0 | AB205: =IF(P205="관급자재대", L205, 0) -> 0 | AC205: =IF(P205="사용자항목1", L205, 0) -> 0 | AD205: =IF(P205="사용자항목2", L205, 0) -> 0 | AE205: =IF(P205="안전관리비", L205, 0) -> 0 | AF205: =IF(P205="품질관리비", L205, 0) -> 0 | AG205: =IF(P205="작업부산물(철거해체)", L205, 0) -> 0 | AH205: =IF(P205="재해예방기술지도비", L205, 0) -> 0 | AI205: =IF(P205="사용자항목7", L205, 0) -> 0 | AJ205: =IF(P205="석면분담금", L205, 0) -> 0 | AK205: =IF(P205="임금채권분담금", L205, 0) -> 0 | AL205: =IF(P205="사용자항목10", L205, 0) -> 0 | AM205: =IF(P205="사용자항목11", L205, 0) -> 0 | AN205: =IF(P205="사용자항목12", L205, 0) -> 0 | AO205: =IF(P205="사용자항목13", L205, 0) -> 0 | AP205: =IF(P205="사용자항목14", L205, 0) -> 0 | AQ205: =IF(P205="사용자항목15", L205, 0) -> 0 | AR205: =IF(P205="사용자항목16", L205, 0) -> 0 | AS205: =IF(P205="사용자항목17", L205, 0) -> 0 | AT205: =IF(P205="사용자항목18", L205, 0) -> 0 | AU205: =IF(P205="사용자항목19", L205, 0) -> 0
A206: 품질시험 수수료 | B206: 도자기질 타일, 뒤틀림 | C206: 조 | D206: 1 | E206: 0 | F206: =ROUNDDOWN(D206*E206, 0) -> 0 | G206: 0 | H206: =ROUNDDOWN(D206*G206, 0) -> 0 | J206: =ROUNDDOWN(D206*I206, 0) -> 0 | K206: =E206+G206+I206 -> 0 | L206: =F206+H206+J206 -> 0 | O206: ="03" -> 03 | P206: 품질관리비 | Q206: 1 | R206: =IF(P206="기계경비", J206, 0) -> 0 | S206: =IF(P206="운반비", L206, 0) -> 0 | T206: =IF(P206="작업부산물", F206, 0) -> 0 | U206: =IF(P206="관급", F206, 0) -> 0 | V206: =IF(P206="외주비", J206, 0) -> 0 | W206: =IF(P206="장비비", J206, 0) -> 0 | X206: =IF(P206="폐기물처리비", L206, 0) -> 0 | Y206: =IF(P206="가설비", J206, 0) -> 0 | Z206: =IF(P206="잡비제외분", F206, 0) -> 0 | AA206: =IF(P206="사급자재대", L206, 0) -> 0 | AB206: =IF(P206="관급자재대", L206, 0) -> 0 | AC206: =IF(P206="사용자항목1", L206, 0) -> 0 | AD206: =IF(P206="사용자항목2", L206, 0) -> 0 | AE206: =IF(P206="안전관리비", L206, 0) -> 0 | AF206: =IF(P206="품질관리비", L206, 0) -> 0 | AG206: =IF(P206="작업부산물(철거해체)", L206, 0) -> 0 | AH206: =IF(P206="재해예방기술지도비", L206, 0) -> 0 | AI206: =IF(P206="사용자항목7", L206, 0) -> 0 | AJ206: =IF(P206="석면분담금", L206, 0) -> 0 | AK206: =IF(P206="임금채권분담금", L206, 0) -> 0 | AL206: =IF(P206="사용자항목10", L206, 0) -> 0 | AM206: =IF(P206="사용자항목11", L206, 0) -> 0 | AN206: =IF(P206="사용자항목12", L206, 0) -> 0 | AO206: =IF(P206="사용자항목13", L206, 0) -> 0 | AP206: =IF(P206="사용자항목14", L206, 0) -> 0 | AQ206: =IF(P206="사용자항목15", L206, 0) -> 0 | AR206: =IF(P206="사용자항목16", L206, 0) -> 0 | AS206: =IF(P206="사용자항목17", L206, 0) -> 0 | AT206: =IF(P206="사용자항목18", L206, 0) -> 0 | AU206: =IF(P206="사용자항목19", L206, 0) -> 0
A207: 품질시험 수수료 | B207: 도자기질 타일, 꺾임강도 | C207: 조 | D207: 1 | E207: 0 | F207: =ROUNDDOWN(D207*E207, 0) -> 0 | G207: 0 | H207: =ROUNDDOWN(D207*G207, 0) -> 0 | J207: =ROUNDDOWN(D207*I207, 0) -> 0 | K207: =E207+G207+I207 -> 0 | L207: =F207+H207+J207 -> 0 | O207: ="03" -> 03 | P207: 품질관리비 | Q207: 1 | R207: =IF(P207="기계경비", J207, 0) -> 0 | S207: =IF(P207="운반비", L207, 0) -> 0 | T207: =IF(P207="작업부산물", F207, 0) -> 0 | U207: =IF(P207="관급", F207, 0) -> 0 | V207: =IF(P207="외주비", J207, 0) -> 0 | W207: =IF(P207="장비비", J207, 0) -> 0 | X207: =IF(P207="폐기물처리비", L207, 0) -> 0 | Y207: =IF(P207="가설비", J207, 0) -> 0 | Z207: =IF(P207="잡비제외분", F207, 0) -> 0 | AA207: =IF(P207="사급자재대", L207, 0) -> 0 | AB207: =IF(P207="관급자재대", L207, 0) -> 0 | AC207: =IF(P207="사용자항목1", L207, 0) -> 0 | AD207: =IF(P207="사용자항목2", L207, 0) -> 0 | AE207: =IF(P207="안전관리비", L207, 0) -> 0 | AF207: =IF(P207="품질관리비", L207, 0) -> 0 | AG207: =IF(P207="작업부산물(철거해체)", L207, 0) -> 0 | AH207: =IF(P207="재해예방기술지도비", L207, 0) -> 0 | AI207: =IF(P207="사용자항목7", L207, 0) -> 0 | AJ207: =IF(P207="석면분담금", L207, 0) -> 0 | AK207: =IF(P207="임금채권분담금", L207, 0) -> 0 | AL207: =IF(P207="사용자항목10", L207, 0) -> 0 | AM207: =IF(P207="사용자항목11", L207, 0) -> 0 | AN207: =IF(P207="사용자항목12", L207, 0) -> 0 | AO207: =IF(P207="사용자항목13", L207, 0) -> 0 | AP207: =IF(P207="사용자항목14", L207, 0) -> 0 | AQ207: =IF(P207="사용자항목15", L207, 0) -> 0 | AR207: =IF(P207="사용자항목16", L207, 0) -> 0 | AS207: =IF(P207="사용자항목17", L207, 0) -> 0 | AT207: =IF(P207="사용자항목18", L207, 0) -> 0 | AU207: =IF(P207="사용자항목19", L207, 0) -> 0
...

Sheet 공종별집계표(기계설비)
A1: 공 종 별 집 계 표
A2: =원가계산서!A2 -> ■ 공사명 : 병동 등 화장실 환경개선공사
A3: 품 명 | B3: 규 격 | C3: 단위 | D3: 수량 | E3: 재 료 비 | G3: 노 무 비 | I3: 경 비 | K3: 합 계 | M3: 비 고 | N3: 공종코드 | O3: 변수 | P3: 상위공종 | Q3: 공종구분 | R3: 공종레벨 | S3: 공종소계 | T3: 원가계산서 연결금액
E4: 단 가 | F4: 금 액 | G4: 단 가 | H4: 금 액 | I4: 단 가 | J4: 금 액 | K4: 단 가 | L4: 금 액
A5: 2. 기계설비공사 | D5: 1 | E5: =F6 -> 0 | F5: =E5*D5 -> 0 | G5: =H6 -> 0 | H5: =G5*D5 -> 0 | I5: =J6 -> 0 | J5: =I5*D5 -> 0 | K5: =E5+G5+I5 -> 0 | L5: =F5+H5+J5 -> 0 | N5: 01 | R5: 1
A6: 0101 병동 화장실 위생설비 교체공사 | D6: 1 | E6: =F7+F14+F21+F28 -> 0 | F6: =E6*D6 -> 0 | G6: =H7+H14+H21+H28 -> 0 | H6: =G6*D6 -> 0 | I6: =J7+J14+J21+J28 -> 0 | J6: =I6*D6 -> 0 | K6: =E6+G6+I6 -> 0 | L6: =F6+H6+J6 -> 0 | N6: 0101 | P6: 01 | R6: 2
A7: 010101 8층설비공사 병동화장실 | D7: 1 | E7: =F8+F9+F10+F11+F12+F13 -> 0 | F7: =E7*D7 -> 0 | G7: =H8+H9+H10+H11+H12+H13 -> 0 | H7: =G7*D7 -> 0 | I7: =J8+J9+J10+J11+J12+J13 -> 0 | J7: =I7*D7 -> 0 | K7: =E7+G7+I7 -> 0 | L7: =F7+H7+J7 -> 0 | N7: 010101 | P7: 0101 | R7: 3
A8: 01010101 위생기구설치공사 | D8: 1 | E8: ='공종별내역서(기계설비)'!F20 -> 0 | F8: =E8*D8 -> 0 | G8: ='공종별내역서(기계설비)'!H20 -> 0 | H8: =G8*D8 -> 0 | I8: ='공종별내역서(기계설비)'!J20 -> 0 | J8: =I8*D8 -> 0 | K8: =E8+G8+I8 -> 0 | L8: =F8+H8+J8 -> 0 | N8: 01010101 | P8: 010101 | R8: 4
A9: 01010102 급수급탕배관공사 | D9: 1 | E9: ='공종별내역서(기계설비)'!F67 -> 0 | F9: =E9*D9 -> 0 | G9: ='공종별내역서(기계설비)'!H67 -> 0 | H9: =G9*D9 -> 0 | I9: ='공종별내역서(기계설비)'!J67 -> 0 | J9: =I9*D9 -> 0 | K9: =E9+G9+I9 -> 0 | L9: =F9+H9+J9 -> 0 | N9: 01010102 | P9: 010101 | R9: 4
A10: 01010103 오배수배관공사 | D10: 1 | E10: ='공종별내역서(기계설비)'!F89 -> 0 | F10: =E10*D10 -> 0 | G10: ='공종별내역서(기계설비)'!H89 -> 0 | H10: =G10*D10 -> 0 | I10: ='공종별내역서(기계설비)'!J89 -> 0 | J10: =I10*D10 -> 0 | K10: =E10+G10+I10 -> 0 | L10: =F10+H10+J10 -> 0 | N10: 01010103 | P10: 010101 | R10: 4
A11: 01010104 철거설비공사 | D11: 1 | E11: ='공종별내역서(기계설비)'!F130 -> 0 | F11: =E11*D11 -> 0 | G11: ='공종별내역서(기계설비)'!H130 -> 0 | H11: =G11*D11 -> 0 | I11: ='공종별내역서(기계설비)'!J130 -> 0 | J11: =I11*D11 -> 0 | K11: =E11+G11+I11 -> 0 | L11: =F11+H11+J11 -> 0 | N11: 01010104 | P11: 010101 | R11: 4
A12: 01010105 보양작업 및 현장 정리 | D12: 1 | E12: ='공종별내역서(기계설비)'!F154 -> 0 | F12: =E12*D12 -> 0 | G12: ='공종별내역서(기계설비)'!H154 -> 0 | H12: =G12*D12 -> 0 | I12: ='공종별내역서(기계설비)'!J154 -> 0 | J12: =I12*D12 -> 0 | K12: =E12+G12+I12 -> 0 | L12: =F12+H12+J12 -> 0 | N12: 01010105 | P12: 010101 | R12: 4
A14: 010102 9층설비공사 병동화장실 | D14: 1 | E14: =F15+F16+F17+F18+F19+F20 -> 0 | F14: =E14*D14 -> 0 | G14: =H15+H16+H17+H18+H19+H20 -> 0 | H14: =G14*D14 -> 0 | I14: =J15+J16+J17+J18+J19+J20 -> 0 | J14: =I14*D14 -> 0 | K14: =E14+G14+I14 -> 0 | L14: =F14+H14+J14 -> 0 | N14: 010102 | P14: 0101 | R14: 3
A15: 01010201 위생기구설치공사 | D15: 1 | E15: ='공종별내역서(기계설비)'!F196 -> 0 | F15: =E15*D15 -> 0 | G15: ='공종별내역서(기계설비)'!H196 -> 0 | H15: =G15*D15 -> 0 | I15: ='공종별내역서(기계설비)'!J196 -> 0 | J15: =I15*D15 -> 0 | K15: =E15+G15+I15 -> 0 | L15: =F15+H15+J15 -> 0 | N15: 01010201 | P15: 010102 | R15: 4
A16: 01010202 급수급탕배관공사 | D16: 1 | E16: ='공종별내역서(기계설비)'!F243 -> 0 | F16: =E16*D16 -> 0 | G16: ='공종별내역서(기계설비)'!H243 -> 0 | H16: =G16*D16 -> 0 | I16: ='공종별내역서(기계설비)'!J243 -> 0 | J16: =I16*D16 -> 0 | K16: =E16+G16+I16 -> 0 | L16: =F16+H16+J16 -> 0 | N16: 01010202 | P16: 010102 | R16: 4
A17: 01010203 오배수배관공사 | D17: 1 | E17: ='공종별내역서(기계설비)'!F266 -> 0 | F17: =E17*D17 -> 0 | G17: ='공종별내역서(기계설비)'!H266 -> 0 | H17: =G17*D17 -> 0 | I17: ='공종별내역서(기계설비)'!J266 -> 0 | J17: =I17*D17 -> 0 | K17: =E17+G17+I17 -> 0 | L17: =F17+H17+J17 -> 0 | N17: 01010203 | P17: 010102 | R17: 4
A18: 01010204 철거설비공사 | D18: 1 | E18: ='공종별내역서(기계설비)'!F308 -> 0 | F18: =E18*D18 -> 0 | G18: ='공종별내역서(기계설비)'!H308 -> 0 | H18: =G18*D18 -> 0 | I18: ='공종별내역서(기계설비)'!J308 -> 0 | J18: =I18*D18 -> 0 | K18: =E18+G18+I18 -> 0 | L18: =F18+H18+J18 -> 0 | N18: 01010204 | P18: 010102 | R18: 4
A19: 01010205 보양작업 및 현장 정리 | D19: 1 | E19: ='공종별내역서(기계설비)'!F332 -> 0 | F19: =E19*D19 -> 0 | G19: ='공종별내역서(기계설비)'!H332 -> 0 | H19: =G19*D19 -> 0 | I19: ='공종별내역서(기계설비)'!J332 -> 0 | J19: =I19*D19 -> 0 | K19: =E19+G19+I19 -> 0 | L19: =F19+H19+J19 -> 0 | N19: 01010205 | P19: 010102 | R19: 4
A21: 010103 10층설비공사 병동화장실 | D21: 1 | E21: =F22+F23+F24+F25+F26+F27 -> 0 | F21: =E21*D21 -> 0 | G21: =H22+H23+H24+H25+H26+H27 -> 0 | H21: =G21*D21 -> 0 | I21: =J22+J23+J24+J25+J26+J27 -> 0 | J21: =I21*D21 -> 0 | K21: =E21+G21+I21 -> 0 | L21: =F21+H21+J21 -> 0 | N21: 010103 | P21: 0101 | R21: 3
A22: 01010301 위생기구설치공사 | D22: 1 | E22: ='공종별내역서(기계설비)'!F350 -> 0 | F22: =E22*D22 -> 0 | G22: ='공종별내역서(기계설비)'!H350 -> 0 | H22: =G22*D22 -> 0 | I22: ='공종별내역서(기계설비)'!J350 -> 0 | J22: =I22*D22 -> 0 | K22: =E22+G22+I22 -> 0 | L22: =F22+H22+J22 -> 0 | N22: 01010301 | P22: 010103 | R22: 4
A23: 01010302 급수급탕배관공사 | D23: 1 | E23: ='공종별내역서(기계설비)'!F421 -> 0 | F23: =E23*D23 -> 0 | G23: ='공종별내역서(기계설비)'!H421 -> 0 | H23: =G23*D23 -> 0 | I23: ='공종별내역서(기계설비)'!J421 -> 0 | J23: =I23*D23 -> 0 | K23: =E23+G23+I23 -> 0 | L23: =F23+H23+J23 -> 0 | N23: 01010302 | P23: 010103 | R23: 4
A24: 01010303 오배수배관공사 | D24: 1 | E24: ='공종별내역서(기계설비)'!F444 -> 0 | F24: =E24*D24 -> 0 | G24: ='공종별내역서(기계설비)'!H444 -> 0 | H24: =G24*D24 -> 0 | I24: ='공종별내역서(기계설비)'!J444 -> 0 | J24: =I24*D24 -> 0 | K24: =E24+G24+I24 -> 0 | L24: =F24+H24+J24 -> 0 | N24: 01010303 | P24: 010103 | R24: 4
A25: 01010304 철거설비공사 | D25: 1 | E25: ='공종별내역서(기계설비)'!F486 -> 0 | F25: =E25*D25 -> 0 | G25: ='공종별내역서(기계설비)'!H486 -> 0 | H25: =G25*D25 -> 0 | I25: ='공종별내역서(기계설비)'!J486 -> 0 | J25: =I25*D25 -> 0 | K25: =E25+G25+I25 -> 0 | L25: =F25+H25+J25 -> 0 | N25: 01010304 | P25: 010103 | R25: 4
A26: 01010305 보양작업 및 현장 정리 | D26: 1 | E26: ='공종별내역서(기계설비)'!F510 -> 0 | F26: =E26*D26 -> 0 | G26: ='공종별내역서(기계설비)'!H510 -> 0 | H26: =G26*D26 -> 0 | I26: ='공종별내역서(기계설비)'!J510 -> 0 | J26: =I26*D26 -> 0 | K26: =E26+G26+I26 -> 0 | L26: =F26+H26+J26 -> 0 | N26: 01010305 | P26: 010103 | R26: 4
A28: =+'공종별내역서(기계설비)'!A511 -> 010101. 위생기구설치공사 공용화장실 | D28: 1 | F28: =+F29+F33+F37+F41+F45+F49+F53+F57 -> 0 | H28: =+H29+H33+H37+H41+H45+H49+H53+H57 -> 0 | L28: =+L29+L33+L37+L41+L45+L49+L53+L57 -> 0
A29: 01010101 환기덕트설치공사 공용화장실 | F29: =SUM(F30:F32) -> 0 | H29: =SUM(H30:H32) -> 0 | L29: =SUM(L30:L32) -> 0
A30: =+'공종별내역서(기계설비)'!A512 -> 0101010101 2층 T-2 환기덕트설치공사 공용 | D30: 1 | F30: =+'공종별내역서(기계설비)'!F536 -> 0 | H30: =+'공종별내역서(기계설비)'!H536 -> 0 | L30: =F30+H30+J30 -> 0
A31: =+'공종별내역서(기계설비)'!A537 -> 0101010102 4층 T-5 환기덕트설치공사 공용 | D31: 1 | F31: =+'공종별내역서(기계설비)'!F561 -> 0 | H31: =+'공종별내역서(기계설비)'!H561 -> 0 | L31: =F31+H31+J31 -> 0
A33: 01010102 급수급탕배관공사 공용화장실 | F33: =SUM(F34:F36) -> 0 | H33: =SUM(H34:H36) -> 0 | L33: =SUM(L34:L36) -> 0
A34: =+'공종별내역서(기계설비)'!A587 -> 0101010201 2층 T-2 급수급탕배관공사 공용 | D34: 1 | F34: =+'공종별내역서(기계설비)'!F638 -> 0 | H34: =+'공종별내역서(기계설비)'!H638 -> 0 | L34: =F34+H34+J34 -> 0
A35: =+'공종별내역서(기계설비)'!A639 -> 0101010202 4층 T-5 급수급탕배관공사 공용 | D35: 1 | F35: =+'공종별내역서(기계설비)'!F690 -> 0 | H35: =+'공종별내역서(기계설비)'!H690 -> 0 | L35: =F35+H35+J35 -> 0
A37: 01010103 오배수배관공사 공용화장실 | F37: =SUM(F38:F40) -> 0 | H37: =SUM(H38:H40) -> 0 | L37: =SUM(L38:L40) -> 0
A38: =+'공종별내역서(기계설비)'!A743 -> 0101010301 2층 T-2 오배수배관공사 공용 | D38: 1 | F38: =+'공종별내역서(기계설비)'!F930 -> 0 | H38: =+'공종별내역서(기계설비)'!H930 -> 0 | L38: =F38+H38+J38 -> 0
A39: =+'공종별내역서(기계설비)'!A795 -> 0101010302 4층 T-5 오배수배관공사 공용 | F39: =+'공종별내역서(기계설비)'!F846 -> 0 | H39: =+'공종별내역서(기계설비)'!H846 -> 0 | L39: =F39+H39+J39 -> 0
A41: 01010104 시스템화장실설치공사 | F41: =SUM(F42:F44) -> 0 | H41: =SUM(H42:H44) -> 0 | L41: =SUM(L42:L44) -> 0
A42: =+'공종별내역서(기계설비)'!A899 -> 0101010401 2층 T-2 시스템화장실설치공사 공용 | D42: 1 | F42: =+'공종별내역서(기계설비)'!F930 -> 0 | H42: =+'공종별내역서(기계설비)'!H930 -> 0 | L42: =F42+H42+J42 -> 0
A43: =+'공종별내역서(기계설비)'!A931 -> 0101010402 4층 T-5 시스템화장실설치공사 공용 | F43: =+'공종별내역서(기계설비)'!F981 -> 0 | H43: =+'공종별내역서(기계설비)'!H981 -> 0 | L43: =F43+H43+J43 -> 0
A45: 01010201 환기덕트철거공사 공용화장실 | F45: =SUM(F46:F48) -> 0 | H45: =SUM(H46:H48) -> 0 | L45: =SUM(L46:L48) -> 0
A46: =+'공종별내역서(기계설비)'!A1033 -> 0101020101 2층 T-2 환기덕트철거공사 공용 | D46: 1 | F46: =+'공종별내역서(기계설비)'!F1057 -> 0 | H46: =+'공종별내역서(기계설비)'!H1057 -> 0 | L46: =F46+H46+J46 -> 0
A47: =+'공종별내역서(기계설비)'!A1058 -> 0101020102 4층 T-5 환기덕트철거공사 공용 | D47: 1 | F47: =+'공종별내역서(기계설비)'!F1082 -> 0 | H47: =+'공종별내역서(기계설비)'!H1082 -> 0 | L47: =F47+H47+J47 -> 0
A49: 01010202 위생기구철거공사 공용화장실 | F49: =SUM(F50:F52) -> 0 | H49: =SUM(H50:H52) -> 0 | L49: =SUM(L50:L52) -> 0
A50: =+'공종별내역서(기계설비)'!A1108 -> 0101020201 2층 T-2 위생기구철거공사 공용 | D50: 1 | F50: =+'공종별내역서(기계설비)'!F1132 -> 0 | H50: =+'공종별내역서(기계설비)'!H1132 -> 0 | L50: =F50+H50+J50 -> 0
A51: =+'공종별내역서(기계설비)'!A1133 -> 0101020202 4층 T-5 위생기구철거공사 공용 | D51: 1 | F51: =+'공종별내역서(기계설비)'!F1157 -> 0 | H51: =+'공종별내역서(기계설비)'!H1157 -> 0 | L51: =F51+H51+J51 -> 0
A53: 01010203 급수급탕배관철거공사 공용화장실 | F53: =SUM(F54:F56) -> 0 | H53: =SUM(H54:H56) -> 0 | L53: =SUM(L54:L56) -> 0
A54: =+'공종별내역서(기계설비)'!A1183 -> 0101020301 2층 T-2 급수급탕배관철거공사 공용 | D54: 1 | F54: =+'공종별내역서(기계설비)'!F1207 -> 0 | H54: =+'공종별내역서(기계설비)'!H1207 -> 0 | L54: =F54+H54+J54 -> 0
A55: =+'공종별내역서(기계설비)'!A1208 -> 0101020302 4층 T-5 급수급탕배관철거공사 공용 | D55: 1 | F55: =+'공종별내역서(기계설비)'!F1232 -> 0 | H55: =+'공종별내역서(기계설비)'!H1232 -> 0 | L55: =F55+H55+J55 -> 0
A57: 01010204 오배수배관철거공사 | F57: =SUM(F58:F60) -> 0 | H57: =SUM(H58:H60) -> 0 | L57: =SUM(L58:L60) -> 0
A58: =+'공종별내역서(기계설비)'!A1258 -> 0101020401 2층 T-2 오배수배관철거공사 공용 | D58: 1 | F58: =+'공종별내역서(기계설비)'!F1283 -> 0 | H58: =+'공종별내역서(기계설비)'!H1283 -> 0 | L58: =F58+H58+J58 -> 0
A59: =+'공종별내역서(기계설비)'!A1284 -> 0101020402 4층 T-5 오배수배관철거공사 공용 | D59: 1 | F59: =+'공종별내역서(기계설비)'!F1309 -> 0 | H59: =+'공종별내역서(기계설비)'!H1309 -> 0 | L59: =F59+H59+J59 -> 0
A61: [ 합 계 ] | F61: =F5 -> 0 | H61: =H5 -> 0 | J61: =J5 -> 0 | L61: =L5 -> 0
A62: 2-1. 기계설비공사 고재, 철강석, 철합금설 | F62: =SUM(F63:F65) -> 0 | H62: =SUM(H63:H65) -> 0 | L62: =SUM(L63:L65) -> 0
A63: 고동 | D63: 1 | E63: =SUMIF('공종별내역서(기계설비)'!A4:A1500,A63,'공종별내역서(기계설비)'!F4:F1500) -> 0 | F63: =E63*D63 -> 0 | L63: =E63+H63+J63 -> 0
A64: 철강설 | D64: 1 | E64: =SUMIF('공종별내역서(기계설비)'!$A$4:$A$4000,A64,'공종별내역서(기계설비)'!$F$4:$F$4000) -> 0 | F64: =E64*D64 -> 0 | L64: =E64+H64+J64 -> 0
A65: 철합금설 | D65: 1 | E65: =SUMIF('공종별내역서(기계설비)'!$A$4:$A$4000,A65,'공종별내역서(기계설비)'!$F$4:$F$4000) -> 0 | F65: =E65*D65 -> 0 | L65: =E65+H65+J65 -> 0

Sheet 공종별내역서(기계설비)
A1: [ 일산병원 병동 화장실 위생설비 교체 ]
A2: 품 명 | B2: 규 격 | C2: 단위 | D2: 수량 | E2: 재 료 비 | G2: 노 무 비 | I2: 경 비 | K2: 합 계 | M2: 비 고 | N2: 품목코드 | O2: 변수 | P2: 설정 | Q2: 공종코드 | R2: 일위 | S2: 단산 | T2: 자재 | U2: 손료적용 | V2: 손료저장 | W2: 적용율 | X2: JUK1 | Y2: JUK2 | Z2: JUK3 | AA2: JUK4 | AB2: JUK5 | AC2: JUK6 | AD2: JUK7 | AE2: JUK8 | AF2: JUK9 | AG2: JUK10 | AH2: JUK11 | AI2: JUK12 | AJ2: JUK13 | AK2: JUK14 | AL2: JUK15 | AM2: JUK16 | AN2: JUK17 | AO2: JUK18 | AP2: JUK19 | AQ2: JUK20 | AR2: 자재구분 | AS2: 공종구분 | AT2: 공종레벨 | AU2: 공종+자재 | AV2: 고유번호
E3: 단 가 | F3: 금 액 | G3: 단 가 | H3: 금 액 | I3: 단 가 | J3: 금 액 | K3: 단 가 | L3: 금 액
A4: 01010101. 위생기구설치공사 공용(8층) | Q4: 01010101
A5: 양변기(F.V) | B5: KSVC-1110(환경표지 30407) | C5: EA | D5: 28 | N5: 5346538A1000604FCE3A8B51AE0057 | Q5: 01010101 | R5: T | S5: F | T5: F | X5: 1 | AU5: 010101015346538A1000604FCE3A8B51AE0057 | AV5: 1128
A6: 장애자용 양변기(F.V) | B6: KSVC-1110(환경표지 30407) | C6: EA | D6: 2 | N6: 5346538A1000604FCE3A8B51AE0204 | Q6: 01010101 | R6: T | S6: F | T6: F | X6: 1 | AU6: 010101015346538A1000604FCE3A8B51AE0204 | AV6: 1129
A7: 각형세면기 | B7: KSVL-610 | C7: EA | D7: 28 | N7: 5346538A1000604FCE3A8B51AE05D9 | Q7: 01010101 | R7: T | S7: F | T7: F | X7: 1 | AU7: 010101015346538A1000604FCE3A8B51AE05D9 | AV7: 1130
A8: 장애자용 세면기 | B8: KSVL-610 | C8: EA | D8: 2 | N8: 5346538A1000604FCE3A8B51AE0786 | Q8: 01010101 | R8: T | S8: F | T8: F | X8: 1 | AU8: 010101015346538A1000604FCE3A8B51AE0786 | AV8: 1131
A9: 세면기수전 | C9: EA | D9: 30 | N9: 5346538A1000604FCE3A8B51AF2761 | Q9: 01010101 | R9: T | S9: F | T9: F | X9: 1 | AU9: 010101015346538A1000604FCE3A8B51AF2761 | AV9: 1135
A10: 샤워수전 | B10: R-350A | C10: EA | D10: 24 | N10: 5346538A1000604FCE3A8B51AF24AC | Q10: 01010101 | R10: T | S10: F | T10: F | X10: 1 | AU10: 010101015346538A1000604FCE3A8B51AF24AC | AV10: 1137
A11: 인조석 선반 | C11: EA | D11: 30 | N11: 5346538A1000604FCE3A8B51AF2386 | Q11: 01010101 | R11: T | S11: F | T11: F | X11: 1 | AU11: 010101015346538A1000604FCE3A8B51AF2386 | AV11: 1138
A12: 수건걸이 | C12: EA | D12: 30 | N12: 5346538A1000604FCE3A8B51AF22FF | Q12: 01010101 | R12: T | S12: F | T12: F | X12: 1 | AU12: 010101015346538A1000604FCE3A8B51AF22FF | AV12: 1139
A13: 거울 | C13: EA | D13: 30 | N13: 5346538A1000604FCE3A8B51AF2031 | Q13: 01010101 | R13: T | S13: F | T13: F | X13: 1 | AU13: 010101015346538A1000604FCE3A8B51AF2031 | AV13: 1141
A14: 영유아 거치대 | C14: EA | D14: 2 | N14: 5346538A1000604FCE3A8B51AF2FB7 | Q14: 01010101 | R14: T | S14: F | T14: F | X14: 1 | AU14: 010101015346538A1000604FCE3A8B51AF2FB7 | AV14: 1142
A15: 위생용품 수거함 | C15: EA | D15: 28 | N15: 5346538A1000604FCE3A8B51AF2E90 | Q15: 01010101 | R15: T | S15: F | T15: F | X15: 1 | AU15: 010101015346538A1000604FCE3A8B51AF2E90 | AV15: 1143
A16: 양변기등받이 | C16: EA | D16: 2 | N16: 5346538A1000604FCE3A8B51AC51D4 | Q16: 01010101 | R16: T | S16: F | T16: F | X16: 1 | AU16: 010101015346538A1000604FCE3A8B51AC51D4 | AV16: 1144
A17: 세면기 앵글밸브 | C17: 개 | D17: 58 | N17: 5346538D100036DA5BAAC06AA87163 | Q17: 01010101 | R17: T | S17: F | T17: F | X17: 1 | AU17: 010101015346538D100036DA5BAAC06AA87163 | AV17: 1146
Q18: 01010101
Q19: 01010101
A20: [ 합 계 ] | N20: TOTAL
A21: 01010102 급수급탕배관공사 | Q21: 01010102
A22: 동관화장실배관(L-TYPE) | B22: D15 | C22: M | D22: 335 | N22: 5346F39210001512EE74C1F55F044B | Q22: 01010102 | R22: T | S22: F | T22: F | X22: 1 | AU22: 010101025346F39210001512EE74C1F55F044B | AV22: 1148
A23: 동관화장실배관(L-TYPE) | B23: D25 | C23: M | D23: 85 | N23: 5346F392100015103883164B8543AF | Q23: 01010102 | R23: T | S23: F | T23: F | X23: 1 | AU23: 010101025346F392100015103883164B8543AF | AV23: 1149
A24: 발포폴리에틸렌보온(벽체매립) | B24: 5TxD15 | C24: M | D24: 123 | N24: 53469328100037142AE1E2B3E52338 | Q24: 01010102 | R24: T | S24: F | T24: F | X24: 1 | AU24: 0101010253469328100037142AE1E2B3E52338 | AV24: 1150
A25: 발포폴리에틸렌보온(벽체매립) | B25: 5TxD25 | C25: M | D25: 22 | N25: 5346932810003716DCFBB8D7BBD7F8 | Q25: 01010102 | R25: T | S25: F | T25: F | X25: 1 | AU25: 010101025346932810003716DCFBB8D7BBD7F8 | AV25: 1151
A26: 관보온(고무발포,동) | B26: 13t*D15 | C26: M | D26: 106 | N26: 53469328100035690E12E7DE7E4FFD | Q26: 01010102 | R26: T | S26: F | T26: F | X26: 1 | AU26: 0101010253469328100035690E12E7DE7E4FFD | AV26: 1152
A27: 관보온(고무발포,동) | B27: 13t*D25 | C27: M | D27: 63 | N27: 534693281000356B3B0716495BBD9E | Q27: 01010102 | R27: T | S27: F | T27: F | X27: 1 | AU27: 01010102534693281000356B3B0716495BBD9E | AV27: 1153
A28: 관보온(고무발포,동) | B28: 25t*D15 | C28: M | D28: 106 | N28: 53469328100033BBA2FDDD7257D236 | Q28: 01010102 | R28: T | S28: F | T28: F | X28: 1 | AU28: 0101010253469328100033BBA2FDDD7257D236 | AV28: 1154
A29: 동관이음쇠 | B29: 동관이음쇠, ∮15mm, 황동어댑터, C*M | C29: 개 | D29: 25 | N29: 54D853951000C13F2CDD3A418370D72559A81D | Q29: 01010102 | R29: F | S29: F | T29: T | X29: 1 | AU29: 0101010254D853951000C13F2CDD3A418370D72559A81D | AV29: 1155
A30: 동관이음쇠 | B30: 동관이음쇠, ∮20mm, 황동어댑터, C*M | C30: 개 | D30: 8 | N30: 54D853951000C13F2CDD3A418370D72559A81C | Q30: 01010102 | R30: F | S30: F | T30: T | X30: 1 | AU30: 0101010254D853951000C13F2CDD3A418370D72559A81C | AV30: 1156
A31: 동관이음쇠 | B31: 동관이음쇠, ∮25mm, 황동어댑터, C*M | C31: 개 | D31: 25 | N31: 54D853951000C13F2CDD3A418370D72559A81B | Q31: 01010102 | R31: F | S31: F | T31: T | X31: 1 | AU31: 0101010254D853951000C13F2CDD3A418370D72559A81B | AV31: 1157
A32: 동관이음쇠 | B32: 동관이음쇠, ∮32mm, 황동어댑터, C*M | C32: 개 | D32: 30 | N32: 54D853951000C13F2CDD3A418370D72559A81A | Q32: 01010102 | R32: F | S32: F | T32: T | X32: 1 | AU32: 0101010254D853951000C13F2CDD3A418370D72559A81A | AV32: 1158
A33: 동관이음쇠 | B33: 동관이음쇠, ∮40mm, 황동어댑터, C*M | C33: 개 | D33: 16 | N33: 54D853951000C13F2CDD3A418370D72559A819 | Q33: 01010102 | R33: F | S33: F | T33: T | X33: 1 | AU33: 0101010254D853951000C13F2CDD3A418370D72559A819 | AV33: 1159
... A50: 동관용접(Brazing) | B50: D50 | C50: 개소 | D50: 32 | N50: 5346F3811000FE0A54192F7AC21795 | Q50: 01010102 | R50: T | S50: F | T50: F | X50: 1 | AU50: 010101025346F3811000FE0A54192F7AC21795 | AV50: 1176
A51: 몰탈 | C51: 식 | D51: 8 | N51: 54D853951000C59A1F58E9481099C435529DE1 | Q51: 01010102 | R51: F | S51: F | T51: T | X51: 1 | AU51: 0101010254D853951000C59A1F58E9481099C435529DE1 | AV51: 1177
A52: 방화 실란트 | C52: 식 | D52: 8 | N52: 54D853951000C59A1F58E9481099C4355292D7 | Q52: 01010102 | R52: F | S52: F | T52: T | X52: 1 | AU52: 0101010254D853951000C59A1F58E9481099C4355292D7 | AV52: 1178
A53: 동절연합후렌지접합 | B53: D65 | C53: 개소 | D53: 5 | N53: 5346F3811000FE0B7B20355F1DE165 | Q53: 01010102 | R53: T | S53: F | T53: F | X53: 1 | AU53: 010101025346F3811000FE0B7B20355F1DE165 | AV53: 1179
A54: 게이트밸브설치(청동, 10kg) | B54: D20 | C54: 개 | D54: 8 | N54: 5346B3771000F1E86DDF7DBBA3B2F1 | Q54: 01010102 | R54: T | S54: F | T54: F | X54: 1 | AU54: 010101025346B3771000F1E86DDF7DBBA3B2F1 | AV54: 1180
A55: 게이트밸브설치(청동, 10kg) | B55: D25 | C55: 개 | D55: 18 | N55: 5346B3771000F1E97785FB9BBC584C | Q55: 01010102 | R55: T | S55: F | T55: F | X55: 1 | AU55: 010101025346B3771000F1E97785FB9BBC584C | AV55: 1181
A56: 게이트밸브설치(청동, 10kg) | B56: D32 | C56: 개 | D56: 25 | N56: 5346B3771000F1EEF5237675CE550C | Q56: 01010102 | R56: T | S56: F | T56: F | X56: 1 | AU56: 010101025346B3771000F1EEF5237675CE550C | AV56: 1182
A57: 게이트밸브설치(청동, 10kg) | B57: D40 | C57: 개 | D57: 2 | N57: 5346B3771000F1EF9CAD3FE4DFD2DB | Q57: 01010102 | R57: T | S57: F | T57: F | X57: 1 | AU57: 010101025346B3771000F1EF9CAD3FE4DFD2DB | AV57: 1183
A58: 게이트밸브설치(청동, 10kg) | B58: D50 | C58: 개 | D58: 16 | N58: 5346B3771000F1ECC8CF2596971B8E | Q58: 01010102 | R58: T | S58: F | T58: F | X58: 1 | AU58: 010101025346B3771000F1ECC8CF2596971B8E | AV58: 1184
A59: 게이트밸브설치(주철, 10kg) | B59: D65 | C59: 개 | D59: 2 | N59: 5346B3771000F1EDD2F7F1EAAA11AC | Q59: 01010102 | R59: T | S59: F | T59: F | X59: 1 | AU59: 010101025346B3771000F1EDD2F7F1EAAA11AC | AV59: 1185
A60: 볼밸브설치(청동, 10kg) | B60: D15 | C60: 개 | D60: 20 | N60: 5346B3771000F3999D06571EDCCCB1 | Q60: 01010102 | R60: T | S60: F | T60: F | X60: 1 | AU60: 010101025346B3771000F3999D06571EDCCCB1 | AV60: 1186
A61: 볼밸브설치(청동, 10kg) | B61: D25 | C61: 개 | D61: 4 | N61: 5346B3771000F39B4EB63D8328D286 | Q61: 01010102 | R61: T | S61: F | T61: F | X61: 1 | AU61: 010101025346B3771000F39B4EB63D8328D286 | AV61: 1187
A62: 절연행가(달대볼트) | B62: D15 | C62: 개소 | D62: 111 | N62: 5346538A1000630752AE017F6444B6 | Q62: 01010102 | R62: T | S62: F | T62: F | X62: 1 | AU62: 010101025346538A1000630752AE017F6444B6 | AV62: 1188
A63: 절연행가(달대볼트) | B63: D25 | C63: 개소 | D63: 28 | N63: 5346538A1000630752AE017DB6E8AD | Q63: 01010102 | R63: T | S63: F | T63: F | X63: 1 | AU63: 010101025346538A1000630752AE017DB6E8AD | AV63: 1189
Q64: 01010102
Q65: 01010102
Q66: 01010102
A67: [ 합 계 ] | N67: TOTAL
A68: 01010103 오배수배관공사 | Q68: 01010103
A69: 경질염화비닐관(소켓,화장실) | B69: PVC관(VG1), D35 | C69: M | D69: 68 | N69: 5346F39B10000872997D301C182B5B | Q69: 01010103 | R69: T | S69: F | T69: F | X69: 1 | AU69: 010101035346F39B10000872997D301C182B5B | AV69: 1191
A70: 경질염화비닐관(소켓,화장실) | B70: PVC관(VG1), D50 | C70: M | D70: 48 | N70: 5346F39B100008729B2BABF552C57C | Q70: 01010103 | R70: T | S70: F | T70: F | X70: 1 | AU70: 010101035346F39B100008729B2BABF552C57C | AV70: 1192
A71: 경질염화비닐관(소켓,화장실) | B71: PVC관(VG1), D100 | C71: M | D71: 49 | N71: 5346F39B100008729EFFC9C3DF68D4 | Q71: 01010103 | R71: T | S71: F | T71: F | X71: 1 | AU71: 010101035346F39B100008729EFFC9C3DF68D4 | AV71: 1193
A72: 일반용경질폴리염화비닐이음관 | B72: 일반용경질폴리염화비닐이음관, ∮35mm, 90˚곡관, DRF-DL | C72: 개 | D72: 56 | N72: 54D853951000C13F2CDD35C06E8C4692AED0BA | Q72: 01010103 | R72: F | S72: F | T72: T | X72: 1 | AU72: 0101010354D853951000C13F2CDD35C06E8C4692AED0BA | AV72: 1194
A73: 일반용경질폴리염화비닐이음관 | B73: 일반용경질폴리염화비닐이음관, ∮50mm, 90˚곡관, DRF-DL | C73: 개 | D73: 5 | N73: 54D853951000C13F2CDD35C06E8C4692AED0B4 | Q73: 01010103 | R73: F | S73: F | T73: T | X73: 1 | AU73: 0101010354D853951000C13F2CDD35C06E8C4692AED0B4 | AV73: 1195
A74: 일반용경질폴리염화비닐이음관 | B74: 일반용경질폴리염화비닐이음관, ∮100mm, 90˚곡관, DRF-DL | C74: 개 | D74: 30 | N74: 54D853951000C13F2CDD35C06E8C4692AED370 | Q74: 01010103 | R74: F | S74: F | T74: T | X74: 1 | AU74: 0101010354D853951000C13F2CDD35C06E8C4692AED370 | AV74: 1196
A75: 일반용경질폴리염화비닐이음관 | B75: 일반용경질폴리염화비닐이음관, ∮50mm, 45˚곡관, DRF-45L | C75: 개 | D75: 1 | N75: 54D853951000C13F2CDD35C06E8C4692AED374 | Q75: 01010103 | R75: F | S75: F | T75: T | X75: 1 | AU75: 0101010354D853951000C13F2CDD35C06E8C4692AED374 | AV75: 1197
A76: 일반용경질폴리염화비닐이음관 | B76: 일반용경질폴리염화비닐이음관, ∮100mm, 45˚곡관, DRF-45L | C76: 개 | D76: 2 | N76: 54D853951000C13F2CDD35C06E8C4692AED376 | Q76: 01010103 | R76: F | S76: F | T76: T | X76: 1 | AU76: 0101010354D853951000C13F2CDD35C06E8C4692AED376 | AV76: 1198
A77: 일반용경질폴리염화비닐이음관 | B77: 일반용경질폴리염화비닐이음관, ∮50mm, P트랩, DRF | C77: 개 | D77: 30 | N77: 54D853951000C13F2CDD35C06E8C4692AEDD77 | Q77: 01010103 | R77: F | S77: F | T77: T | X77: 1 | AU77: 0101010354D853951000C13F2CDD35C06E8C4692AEDD77 | AV77: 1199
A78: 배수용경질염화비닐이음관 | B78: 세면기스리브, D35 | C78: 개 | D78: 30 | N78: 54D853951000C13F2CDD35C176850B3C1E4BCC | Q78: 01010103 | R78: F | S78: F | T78: T | X78: 1 | AU78: 0101010354D853951000C13F2CDD35C176850B3C1E4BCC | AV78: 1200
A79: 배수용경질염화비닐이음관 | B79: 양변기스리브, D100 | C79: 개 | D79: 30 | N79: 54D853951000C13F2CDD35C176850B3C1E4BCB | Q79: 01010103 | R79: F | S79: F | T79: T | X79: 1 | AU79: 0101010354D853951000C13F2CDD35C176850B3C1E4BCB | AV79: 1202
A80: 몰탈 | C80: 식 | D80: 8 | N80: 54D853951000C59A1F58E9481099C435529DE1 | Q80: 01010103 | R80: F | S80: F | T80: T | X80: 1 | AU80: 0101010354D853951000C59A1F58E9481099C435529DE1 | AV80: 1203
A81: 방화 실란트 | C81: 식 | D81: 8 | N81: 54D853951000C59A1F58E9481099C4355292D7 | Q81: 01010103 | R81: F | S81: F | T81: T | X81: 1 | AU81: 0101010354D853951000C59A1F58E9481099C4355292D7 | AV81: 1204
A82: 배수용경질염화비닐이음관(F.D.) | B82: D50 | C82: EA | D82: 30 | N82: 5346538D100037E0A6F828689789BA | Q82: 01010103 | R82: T | S82: F | T82: F | X82: 1 | AU82: 010101035346538D100037E0A6F828689789BA | AV82: 1205
A83: 일반행거(달대볼트) | B83: D32 | C83: 개소 | D83: 28 | N83: 5346538A10006307518777306C846D | Q83: 01010103 | R83: T | S83: F | T83: F | X83: 1 | AU83: 010101035346538A10006307518777306C846D | AV83: 1206
A84: 일반행거(달대볼트) | B84: D50 | C84: 개소 | D84: 31 | N84: 5346538A10006307518777321959A3 | Q84: 01010103 | R84: T | S84: F | T84: F | X84: 1 | AU84: 010101035346538A10006307518777321959A3 | AV84: 1207
A85: 일반행거(달대볼트) | B85: D100 | C85: 개소 | D85: 29 | N85: 5346538A100063075187773D23F89C | Q85: 01010103 | R85: T | S85: F | T85: F | X85: 1 | AU85: 010101035346538A100063075187773D23F89C | AV85: 1208
Q86: 01010103
Q87: 01010103
Q88: 01010103
A89: [ 합 계 ] | N89: TOTAL
A90: 01010104 철거설비공사 | Q90: 01010104
A91: 고동 | C91: Kg | D91: -220 | N91: 54A3038E1000333416DBD4AD67E027BA938D18 | R91: F | S91: F | T91: T | X91: 1 | AU91: 0101010454A3038E1000333416DBD4AD67E027BA938D18 | AV91: 1210
A92: 혼합건설폐기물 운반 | B92: 암롤트럭 | C92: TON | D92: 1.35 | N92: 53C5339910007A1FDE6493BFC5B9940A36437A | Q92: 01010104 | R92: F | S92: F | T92: T | X92: 1 | AU92: 0101010453C5339910007A1FDE6493BFC5B9940A36437A | AV92: 1212
A93: 일반밸브 철거 | B93: D15 - D25 | C93: 개 | D93: 110 | N93: 5346B3771000F0C419E911E1B5D285 | Q93: 01010104 | R93: T | S93: F | T93: F | X93: 1 | AU93: 010101045346B3771000F0C419E911E1B5D285 | AV93: 1213
A94: 일반밸브 철거 | B94: D32- D50 | C94: 개 | D94: 43 | N94: 5346B3771000F0C419E911E25BB504 | Q94: 01010104 | R94: T | S94: F | T94: F | X94: 1 | AU94: 010101045346B3771000F0C419E911E25BB504 | AV94: 1214
A95: 일반밸브 철거 | B95: D65 | C95: 개 | D95: 2 | N95: 5346B3771000F0C419E911E362A7DF | Q95: 01010104 | R95: T | S95: F | T95: F | X95: 1 | AU95: 010101045346B3771000F0C419E911E362A7DF | AV95: 1215
A96: 배관 해체(동관) | B96: D15이하 | C96: M | D96: 332 | N96: 5346333010009C19D180C6B3A30B2A | Q96: 01010104 | R96: T | S96: F | T96: F | X96: 1 | AU96: 010101045346333010009C19D180C6B3A30B2A | AV96: 1216
A97: 배관 해체(동관) | B97: D25 | C97: M | D97: 83 | N97: 5346333010009C19D180C6B3A3097D | Q97: 01010104 | R97: T | S97: F | T97: F | X97: 1 | AU97: 010101045346333010009C19D180C6B3A3097D | AV97: 1217
A98: 배관 해체(PVC VG1,소켓) | B98: D35 | C98: M | D98: 67 | N98: 5346333010009C19D180C6B0EEBD4A | Q98: 01010104 | R98: T | S98: F | T98: F | X98: 1 | AU98: 010101045346333010009C19D180C6B0EEBD4A | AV98: 1218
A99: 배관 해체(PVC VG1,소켓) | B99: D50 | C99: M | D99: 46 | N99: 5346333010009C19D180C6B0EEBF78 | Q99: 01010104 | R99: T | S99: F | T99: F | X99: 1 | AU99: 010101045346333010009C19D180C6B0EEBF78 | AV99: 1219
A100: 배관 해체(PVC VG1,소켓) | B100: D100 | C100: M | D100: 48 | N100: 5346333010009C19D180C6B0EEB9EF | Q100: 01010104 | R100: T | S100: F | T100: F | X100: 1 | AU100: 010101045346333010009C19D180C6B0EEB9EF | AV100: 1220
A101: 배관보온 해체(유리면(글라스울)-보온두께 50mm이하) | B101: D15 | C101: M | D101: 380 | N101: 5346333010009C19D454A679A084A7 | Q101: 01010104 | R101: T | S101: F | T101: F | X101: 1 | AU101: 010101045346333010009C19D454A679A084A7 | AV101: 1221
A102: 배관보온 해체(유리면(글라스울)-보온두께 50mm이하) | B102: D25 | C102: M | D102: 35 | N102: 5346333010009C19D454A679A08654 | Q102: 01010104 | R102: T | S102: F | T102: F | X102: 1 | AU102: 010101045346333010009C19D454A679A08654 | AV102: 1222
A103: 대변기 철거 | B103: 서양식대변기(F.V형) | C103: 개 | D103: 30 | N103: 5346538F1000E248B9FDD0F6C5245A | Q103: 01010104 | R103: T | S103: F | T103: F | X103: 1 | AU103: 010101045346538F1000E248B9FDD0F6C5245A | AV103: 1223
... A111: 욕실금구류 철거 | B111: 영유아용의자 | C111: 개 | D111: 2 | N111: 5346538D1000342DC74BC5A38E7455 | Q111: 01010104 | R111: T | S111: F | T111: F | X111: 1 | AU111: 010101045346538D1000342DC74BC5A38E7455 | AV111: 1233
A112: 위생용품수거함 철거 | C112: 개 | D112: 28 | N112: 5346538D1000342DC74BC5A38E7729 | Q112: 01010104 | R112: T | S112: F | T112: F | X112: 1 | AU112: 010101045346538D1000342DC74BC5A38E7729 | AV112: 1234
A113: 욕실금구류 철거 | B113: 욕실접이식의자 | C113: 개 | D113: 2 | N113: 5346538D1000342DC74BC5A38E7607 | Q113: 01010104 | R113: T | S113: F | T113: F | X113: 1 | AU113: 010101045346538D1000342DC74BC5A38E7607 | AV113: 1235
A114: 바닥배수구 철거 | B114: D50mm | C114: 개소 | D114: 30 | N114: 5346538D100037E14D630179750A31 | Q114: 01010104 | R114: T | S114: F | T114: F | X114: 1 | AU114: 010101045346538D100037E14D630179750A31 | AV114: 1236
A130: [ 합 계 ] | N130: TOTAL
A131: 01010105 보양작업 및 현장 정리 | Q131: 01010105
A132: 보양작업 및 현장 정리 | C132: 식 | D132: 1 | N132: 523993F2100079E3138DC19DDE971514F220CD | Q132: 01010105 | R132: F | S132: F | T132: T | AU132: 01010105523993F2100079E3138DC19DDE971514F220CD | AV132: 1480
Q133: 01010105
Q134: 01010105
Q135: 01010105
Q136: 01010105
Q137: 01010105
Q138: 01010105
...

Sheet Sheet1
