Workbook

Sheet 원가계산서
A1: 공 사 원 가 계 산 서
A2: ■ 공사명 : 병동 등 화장실 환경개선공사
A3: 구 분 비 목 | D3: 구 성 비 | E3: 금 액 | F3: 비 고 | K3: 금 액
A5: 순 공 사 원 가 | B5: 재료비 | C5: 직 접 재 료 비 | E5: =ROUNDDOWN('총괄 집계표'!E20, 0) -> 0 | G5: A1 | H5: 0 | I5: =E5 -> 0
C6: 간 접 재 료 비 | E6: =ROUNDDOWN(E5*H6, 0) -> 0 | G6: A2 | H6: 0 | I6: =E6 -> 0
C7: 작업설.부산물 등(△) | E7: ='공정별집계표(건축)'!S20 -> 0 | G7: A3 | H7: 0 | I7: =E7 -> 0
C8: 소 계 | E8: =SUM(E5:E6)-ABS(E7) -> 0 | G8: A | H8: 0 | I8: =E8 -> 0
B9: 노무비 | C9: 직 접 노 무 비 | E9: =ROUNDDOWN('총괄 집계표'!G20, 0) -> 0 | G9: B1 | H9: 0 | I9: =E9 -> 0
C10: 간 접 노 무 비 | D10: ="직.노*"&H10*100&"%" -> 직.노*17.4% | E10: =ROUNDDOWN(E9*H10, 0) -> 0 | G10: B2 | H10: 0.174 | I10: =E10 -> 0
C11: 소 계 | E11: =SUM(E9:E10) -> 0 | G11: B | H11: 0 | I11: =E11 -> 0
B12: 경 비 | C12: 기 계 경 비 | E12: =ROUNDDOWN('총괄 집계표'!I20, 0) -> 0 | G12: C4 | H12: 0 | I12: =E12 -> 0
C13: 산 재 보 험 료 | D13: ="(노)*"&H13*100&"%" -> (노)*3.56% | E13: =ROUNDDOWN((E11)*H13, 0) -> 0 | G13: C10 | H13: 0.0356 | I13: =E13 -> 0
C14: 고 용 보 험 료 | D14: ="(노)*"&H14*100&"%" -> (노)*1.01% | E14: =ROUNDDOWN((E11)*H14, 0) -> 0 | G14: C11 | H14: 0.0101 | I14: =E14 -> 0
C15: 건 강 보 험 료 | D15: ="(직.노)*"&H15*100&"%" -> (직.노)*3.595% | E15: =ROUNDDOWN((E9)*H15, 0) -> 0 | G15: C12 | H15: 0.03595 | I15: =E15 -> 0
C16: 연 금 보 험 료 | D16: ="(직.노)*"&H16*100&"%" -> (직.노)*4.75% | E16: =ROUNDDOWN((E9)*H16, 0) -> 0 | G16: C13 | H16: 0.0475 | I16: =E16 -> 0
C17: 노인 장기 요양보험료 | D17: ="(건강보험료)*"&H17*100&"%" -> (건강보험료)*13.14% | E17: =ROUNDDOWN((E15)*H17, 0) -> 0 | G17: C14 | H17: 0.1314 | I17: =E17 -> 0
C18: 퇴 직 공 제 부 금 비 | D18: ="(직.노)*"&H18*100&"%" -> (직.노)*2.3% | E18: =ROUNDDOWN((E9)*H18, 0) -> 0 | G18: C15 | H18: 0.023 | I18: =E18 -> 0
C19: 산업 안전 보건관리비 | D19: ="(재+직.노+(관급-0)/1.1)*"&H19*100&"%"&"+4,325,000 < ((재+직.노)*2.28%+4,325,000)*1.2" -> (재+직.노+(관급-0)/1.1)*2.28%+4,325,000 < ((재+직.노)*2.28%+4,325,000)*1.2 | G19: C16 | H19: 0.0228 | I19: =E19 -> 0
C20: 기 타 경 비 | D20: ="(재+노)*"&H20*100&"%" -> (재+노)*5.2% | E20: =ROUNDDOWN((E8+E11)*H20, 0) -> 0 | G20: C20 | H20: 0.052 | I20: =E20 -> 0
C21: 환 경 보 전 비 | D21: ="(재+직.노+기.경)*"&H21*100&"%" -> (재+직.노+기.경)*0.3% | E21: =ROUNDDOWN((E8+E9+E12)*H21, 0) -> 0 | G21: C25 | H21: 0.003 | I21: =E21 -> 0
C22: 건설하도급보증수수료 | D22: ="(재+직.노+기.경)*"&H22*100&"%" -> (재+직.노+기.경)*0.081% | E22: =ROUNDDOWN((E8+E9+E12)*H22, 0) -> 0 | G22: C30 | H22: 0.00081 | I22: =E22 -> 0
C23: 공사 이행 보증수수료 | D23: ="(재+직.노+기.경)*"&H23*100&"%"&"*(6/12)" -> (재+직.노+기.경)*0.0108%*(6/12) | E23: =ROUNDDOWN((E8+E9+E12)*H23*(6/12), 0) -> 0 | G23: C31 | H23: 0.000108 | I23: =E23 -> 0
C24: 건설기계대여보증수수료 | D24: ="(재+직.노+기.경)*"&H24*100&"%" -> (재+직.노+기.경)*0.07% | E24: =ROUNDDOWN((E8+E9+E12)*H24, 0) -> 0 | G24: C32 | H24: 0.0007 | I24: =E24 -> 0
C25: 안 전 관 리 비 | E25: ='공정별집계표(건축)'!AD20 -> 0 | G25: C17 | H25: 0 | I25: =E25 -> 0
C26: 품 질 관 리 비 | E26: =ROUNDDOWN('공정별집계표(건축)'!AE20, 0) -> 0 | G26: C18 | H26: 0 | I26: =E26 -> 0
C27: 임금채권분담금 | D27: ="(노)*"&H27*100&"%" -> (노)*0.09% | E27: =ROUNDDOWN((E11)*H27, 0) -> 0 | G27: C34 | H27: 0.0009 | I27: =E27 -> 0
C28: 석면분담금 | D28: ="(노)*"&H28*100&"%" -> (노)*0.006% | E28: =ROUNDDOWN((E11)*H28, 0) -> 0 | G28: C33 | H28: 6e-05 | I28: =E28 -> 0
C29: 소 계 | E29: =SUM(E12:E28) -> 0 | G29: C | H29: 0 | I29: =E29 -> 0
B30: 계 | E30: =E8+E11+E29 -> 0 | G30: X | H30: 0 | I30: =E30 -> 0
A31: 일 반 관 리 비 | D31: ="(재+노+경)*"&H31*100&"%" -> (재+노+경)*8% | E31: =ROUNDDOWN((E8+E11+E29)*H31, 0) -> 0 | G31: D | H31: 0.08 | I31: =E31 -> 0
A32: 작업설.부산물 등(△) | E32: =ROUNDDOWN('공정별집계표(건축)'!AF20+'공종별집계표(기계설비)'!L62, 0) -> 0 | G32: M2 | H32: 0 | I32: =E32 -> 0
A33: 이 윤 | D33: ="(노+경+일)*"&H33*100&"%" -> (노+경+일)*15% | E33: =ROUNDDOWN((E11+E29+E31)*H33, 0) -> 0 | G33: E | H33: 0.15 | I33: =(I11+I29+I31)*H33 -> 0
A34: 폐 기 물 처 리 비 | E34: ='공정별집계표(건축)'!W20 -> 0 | G34: L | H34: 0 | I34: =E34 -> 0
A35: 총 원 가 | E35: =SUM(E30:E34) -> 0 | G35: F | H35: 0 | I35: =SUM(I30:I34) -> 0
A36: 부 가 가 치 세 | D36: ="(총원가)*"&H36*100&"%" -> (총원가)*10% | E36: =ROUNDDOWN(((E37)/110)*10, 0)-J36 -> 0 | G36: H | H36: 0.1 | I36: =ROUNDDOWN((I35)*H36, 0)+30 -> 30
A37: 도 급 금 액 | E37: =INT(I37/1000)*1000 -> 0 | G37: Y | H37: 0 | I37: =I35+I36 -> 30
A38: 재해예방기술지도비 | E38: ='공정별집계표(건축)'!AG20 -> 0 | G38: M3 | H38: 0 | I38: =E38 -> 0
A39: 관 급 자 재 대 | E39: ='공정별집계표(건축)'!AA20 -> 0 | G39: J | H39: 0 | I39: =E39 -> 0
A40: 사 급 자 재 대 | E40: ='공정별집계표(건축)'!Z20 -> 0 | G40: K | H40: 0 | I40: =E40 -> 0
A41: 총 공 사 금 액 | E41: =ROUNDDOWN(E37+E38+E39+E40, 0) -> 0 | H41: 0 | I41: =I37+I38+I39+I40 -> 30

Sheet 총괄 집계표
A1: 공 사 집 계 표
A2: =원가계산서!A2 -> ■ 공사명 : 병동 등 화장실 환경개선공사
A3: 품 명 | B3: 단위 | C3: 수량 | D3: 재 료 비 | F3: 노 무 비 | H3: 경 비 | J3: 합 계 | L3: 비 고
D4: 단 가 | E4: 금 액 | F4: 단 가 | G4: 금 액 | H4: 단 가 | I4: 금 액 | J4: 단 가 | K4: 금 액 | M4: 손료요율 | N4: 손료구분 | O4: 적용구분 | P4: 합계구분 | Q4: 기계경비 | R4: 운반비 | S4: 작업부산물 | T4: 관급 | U4: 외주비 | V4: 장비비 | W4: 폐기물처리비 | X4: 가설비 | Y4: 잡비제외분 | Z4: 사급자재대 | AA4: 관급자재대 | AB4: 사용자항목1 | AC4: 사용자항목2 | AD4: 안전관리비 | AE4: 품질관리비 | AF4: 작업부산물(철거해체) | AG4: 재해예방기술지도비 | AH4: 사용자항목7 | AI4: 석면분담금 | AJ4: 임금채권분담금 | AK4: 사용자항목10 | AL4: 사용자항목11 | AM4: 사용자항목12 | AN4: 사용자항목13 | AO4: 사용자항목14 | AP4: 사용자항목15 | AQ4: 사용자항목16 | AR4: 사용자항목17 | AS4: 사용자항목18 | AT4: 사용자항목19 | AU4: 간접재료비 | AV4: 품목구분 | AW4: 조달코드 | AX4: 구분
A5: 1. 건축공사 | B5: 식 | C5: 1 | D5: =SUM(E6:E7) -> 0 | E5: =C5*D5 -> 0 | F5: =SUM(G6:G7) -> 0 | G5: =C5*F5 -> 0 | H5: =SUM(I6:I7) -> 0 | I5: =C5*H5 -> 0 | J5: =D5+F5+H5 -> 0 | K5: =E5+G5+I5 -> 0
A6: 01. 병동화장실 개선공사 | B6: 식 | C6: 1 | D6: ='공정별집계표(건축)'!D5 -> 0 | E6: =C6*D6 -> 0 | F6: ='공정별집계표(건축)'!F5 -> 0 | G6: =C6*F6 -> 0 | H6: ='공정별집계표(건축)'!H5 -> 0 | I6: =C6*H6 -> 0 | J6: =D6+F6+H6 -> 0 | K6: =E6+G6+I6 -> 0 | P6: 1 | Q6: =C6*#REF! -> #REF! | R6: =C6*#REF! -> #REF! | S6: =C6*#REF! -> #REF! | T6: =C6*#REF! -> #REF! | U6: =C6*#REF! -> #REF! | V6: =C6*#REF! -> #REF! | W6: =C6*#REF! -> #REF! | X6: =C6*#REF! -> #REF! | Y6: =C6*#REF! -> #REF! | Z6: =C6*#REF! -> #REF! | AA6: =C6*#REF! -> #REF! | AB6: =C6*#REF! -> #REF! | AC6: =C6*#REF! -> #REF! | AD6: =C6*#REF! -> #REF! | AE6: =C6*#REF! -> #REF! | AF6: =C6*#REF! -> #REF! | AG6: =C6*#REF! -> #REF! | AH6: =C6*#REF! -> #REF! | AI6: =C6*#REF! -> #REF! | AJ6: =C6*#REF! -> #REF! | AK6: =C6*#REF! -> #REF! | AL6: =C6*#REF! -> #REF! | AM6: =C6*#REF! -> #REF! | AN6: =C6*#REF! -> #REF! | AO6: =C6*#REF! -> #REF! | AP6: =C6*#REF! -> #REF! | AQ6: =C6*#REF! -> #REF! | AR6: =C6*#REF! -> #REF! | AS6: =C6*#REF! -> #REF! | AT6: =C6*#REF! -> #REF! | AU6: =C6*#REF! -> #REF!
A7: 02. 화장실 개선공사 | B7: 식 | C7: 1 | D7: ='공정별집계표(건축)'!D6 -> 0 | E7: =C7*D7 -> 0 | F7: ='공정별집계표(건축)'!F6 -> 0 | G7: =C7*F7 -> 0 | H7: ='공정별집계표(건축)'!I6 -> 0 | I7: =C7*H7 -> 0 | J7: =D7+F7+H7 -> 0 | K7: =E7+G7+I7 -> 0 | P7: 1 | Q7: =C7*#REF! -> #REF! | R7: =C7*#REF! -> #REF! | S7: =C7*#REF! -> #REF! | T7: =C7*#REF! -> #REF! | U7: =C7*#REF! -> #REF! | V7: =C7*#REF! -> #REF! | W7: =C7*#REF! -> #REF! | X7: =C7*#REF! -> #REF! | Y7: =C7*#REF! -> #REF! | Z7: =C7*#REF! -> #REF! | AA7: =C7*#REF! -> #REF! | AB7: =C7*#REF! -> #REF! | AC7: =C7*#REF! -> #REF! | AD7: =C7*#REF! -> #REF! | AE7: =C7*#REF! -> #REF! | AF7: =C7*#REF! -> #REF! | AG7: =C7*#REF! -> #REF! | AH7: =C7*#REF! -> #REF! | AI7: =C7*#REF! -> #REF! | AJ7: =C7*#REF! -> #REF! | AK7: =C7*#REF! -> #REF! | AL7: =C7*#REF! -> #REF! | AM7: =C7*#REF! -> #REF! | AN7: =C7*#REF! -> #REF! | AO7: =C7*#REF! -> #REF! | AP7: =C7*#REF! -> #REF! | AQ7: =C7*#REF! -> #REF! | AR7: =C7*#REF! -> #REF! | AS7: =C7*#REF! -> #REF! | AT7: =C7*#REF! -> #REF! | AU7: =C7*#REF! -> #REF!
A8: 2. 기계설비공사 | B8: 식 | C8: 1 | D8: ='공종별집계표(기계설비)'!F5 -> 0 | E8: =C8*D8 -> 0 | F8: ='공종별집계표(기계설비)'!H5 -> 0 | G8: =C8*F8 -> 0 | H8: ='공종별집계표(기계설비)'!J5 -> 0 | I8: =C8*H8 -> 0 | J8: =D8+F8+H8 -> 0 | K8: =E8+G8+I8 -> 0
A9: ='공종별집계표(기계설비)'!A62 -> 2-1. 기계설비공사 고재, 철강석, 철합금설 | B9: 식 | C9: 1 | D9: ='공종별집계표(기계설비)'!F62 -> 0 | E9: =C9*D9 -> 0 | F9: ='공종별집계표(기계설비)'!H62 -> 0 | G9: =C9*F9 -> 0 | H9: ='공종별집계표(기계설비)'!I62 -> 0 | J9: =D9+F9+H9 -> 0 | K9: =E9+G9+I9 -> 0
A20: 합 계 | E20: =E5+E8 -> 0 | G20: =G5+G8 -> 0 | I20: =I5+I8 -> 0 | K20: =E20+G20+I20 -> 0 | Q20: =SUM(Q6:Q7) -> #REF! | R20: =SUM(R6:R7) -> #REF! | S20: =SUM(S6:S7) -> #REF! | T20: =SUM(T6:T7) -> #REF! | U20: =SUM(U6:U7) -> #REF! | V20: =SUM(V6:V7) -> #REF! | W20: =SUM(W6:W7) -> #REF! | X20: =SUM(X6:X7) -> #REF! | ... AX20: =SUM(AX6:AX7) -> 0

Sheet 공정별집계표(건축)
A1: 공 사 집 계 표
A2: =원가계산서!A2 -> ■ 공사명 : 병동 등 화장실 환경개선공사
A3: 품 명 | B3: 단위 | C3: 수량 | D3: 재 료 비 | F3: 노 무 비 | H3: 경 비 | J3: 합 계 | L3: 비고
D4: 단 가 | E4: 금 액 | F4: 단 가 | G4: 금 액 | H4: 단 가 | I4: 금 액 | J4: 단 가 | K4: 금 액 | M4: 손료요율 | N4: 손료구분 | O4: 적용구분 | P4: 합계구분 | Q4: 기계경비 | R4: 운반비 | S4: 작업부산물 | T4: 관급 | U4: 외주비 | V4: 장비비 | W4: 폐기물처리비 | X4: 가설비 | Y4: 잡비제외분 | Z4: 사급자재대 | AA4: 관급자재대 | AB4: 사용자항목1 | AC4: 사용자항목2 | AD4: 안전관리비 | AE4: 품질관리비 | AF4: 작업부산물(철거해체) | AG4: 재해예방기술지도비 | AH4: 사용자항목7 | AI4: 석면분담금 | AJ4: 임금채권분담금 | AK4: 사용자항목10 | AL4: 사용자항목11 | AM4: 사용자항목12 | AN4: 사용자항목13 | AO4: 사용자항목14 | AP4: 사용자항목15 | AQ4: 사용자항목16 | AR4: 사용자항목17 | AS4: 사용자항목18 | AT4: 사용자항목19 | AU4: 간접재료비 | AV4: 품목구분 | AW4: 조달코드 | AX4: 구분
A5: 01. 병동화장실 개선공사 | B5: 식 | C5: 1 | D5: =E36 -> 0 | E5: =C5*D5 -> 0 | F5: =G36 -> 0 | G5: =C5*F5 -> 0 | H5: =I36 -> 0 | I5: =C5*H5 -> 0 | J5: =D5+F5+H5 -> 0 | K5: =E5+G5+I5 -> 0 | P5: 1 | Q5: =C5*Q36 -> 0 | R5: =C5*R36 -> 0 | S5: =C5*S36 -> 0 | T5: =C5*T36 -> 0 | U5: =C5*U36 -> 0 | V5: =C5*V36 -> 0 | W5: =C5*W36 -> 0 | X5: =C5*X36 -> 0 | Y5: =C5*Y36 -> 0 | Z5: =C5*Z36 -> 0 | AA5: =C5*AA36 -> 0 | AB5: =C5*AB36 -> 0 | AC5: =C5*AC36 -> 0 | AD5: =C5*AD36 -> 0 | AE5: =C5*AE36 -> 0 | AF5: =C5*AF36 -> 0 | AG5: =C5*AG36 -> 0 | AH5: =C5*AH36 -> 0 | AI5: =C5*AI36 -> 0 | AJ5: =C5*AJ36 -> 0 | AK5: =C5*AK36 -> 0 | AL5: =C5*AL36 -> 0 | AM5: =C5*AM36 -> 0 | AN5: =C5*AN36 -> 0 | AO5: =C5*AO36 -> 0 | AP5: =C5*AP36 -> 0 | AQ5: =C5*AQ36 -> 0 | AR5: =C5*AR36 -> 0 | AS5: =C5*AS36 -> 0 | AT5: =C5*AT36 -> 0 | AU5: =C5*AU36 -> 0
A6: 02. 화장실 개선공사 | B6: 식 | C6: 1 | D6: =E68 -> 0 | E6: =C6*D6 -> 0 | F6: =G68 -> 0 | G6: =C6*F6 -> 0 | H6: =I68 -> 0 | I6: =C6*H6 -> 0 | J6: =D6+F6+H6 -> 0 | K6: =E6+G6+I6 -> 0 | P6: 1 | Q6: =C6*Q68 -> 0 | R6: =C6*R68 -> 0 | S6: =C6*S68 -> 0 | T6: =C6*T68 -> 0 | U6: =C6*U68 -> 0 | V6: =C6*V68 -> 0 | W6: =C6*W68 -> 0 | X6: =C6*X68 -> 0 | Y6: =C6*Y68 -> 0 | Z6: =C6*Z68 -> 0 | AA6: =C6*AA68 -> 0 | AB6: =C6*AB68 -> 0 | AC6: =C6*AC68 -> 0 | AD6: =C6*AD68 -> 0 | AE6: =C6*AE68 -> 0 | AF6: =C6*AF68 -> 0 | AG6: =C6*AG68 -> 0 | AH6: =C6*AH68 -> 0 | AI6: =C6*AI68 -> 0 | AJ6: =C6*AJ68 -> 0 | AK6: =C6*AK68 -> 0 | AL6: =C6*AL68 -> 0 | AM6: =C6*AM68 -> 0 | AN6: =C6*AN68 -> 0 | AO6: =C6*AO68 -> 0 | AP6: =C6*AP68 -> 0 | AQ6: =C6*AQ68 -> 0 | AR6: =C6*AR68 -> 0 | AS6: =C6*AS68 -> 0 | AT6: =C6*AT68 -> 0 | AU6: =C6*AU68 -> 0
A20: 합 계 | E20: =SUMIF(P5:P6, "1", E5:E6) -> 0 | G20: =SUMIF(P5:P6, "1", G5:G6) -> 0 | I20: =SUMIF(P5:P6, "1", I5:I6) -> 0 | K20: =E20+G20+I20 -> 0 | Q20: =SUM(Q5:Q6) -> 0 | R20: =SUM(R5:R6) -> 0 | S20: =SUM(S5:S6) -> 0 | T20: =SUM(T5:T6) -> 0 | U20: =SUM(U5:U6) -> 0 | V20: =SUM(V5:V6) -> 0 | W20: =SUM(W5:W6) -> 0 | X20: =SUM(X5:X6) -> 0 | ... AX20: =SUM(AX5:AX6) -> 0
A21: 01. 병동화장실 개선공사
A22: 0101. 건축공사 | B22: 식 | C22: 1 | D22: =E52 -> 0 | E22: =C22*D22 -> 0 | F22: =G52 -> 0 | G22: =C22*F22 -> 0 | H22: =I52 -> 0 | I22: =C22*H22 -> 0 | J22: =D22+F22+H22 -> 0 | K22: =E22+G22+I22 -> 0 | P22: 1 | Q22: =C22*Q52 -> 0 | R22: =C22*R52 -> 0 | S22: =C22*S52 -> 0 | T22: =C22*T52 -> 0 | U22: =C22*U52 -> 0 | V22: =C22*V52 -> 0 | W22: =C22*W52 -> 0 | X22: =C22*X52 -> 0 | Y22: =C22*Y52 -> 0 | Z22: =C22*Z52 -> 0 | AA22: =C22*AA52 -> 0 | AB22: =C22*AB52 -> 0 | AC22: =C22*AC52 -> 0 | AD22: =C22*AD52 -> 0 | AE22: =C22*AE52 -> 0 | AF22: =C22*AF52 -> 0 | AG22: =C22*AG52 -> 0 | AH22: =C22*AH52 -> 0 | AI22: =C22*AI52 -> 0 | AJ22: =C22*AJ52 -> 0 | AK22: =C22*AK52 -> 0 | AL22: =C22*AL52 -> 0 | AM22: =C22*AM52 -> 0 | AN22: =C22*AN52 -> 0 | AO22: =C22*AO52 -> 0 | AP22: =C22*AP52 -> 0 | AQ22: =C22*AQ52 -> 0 | AR22: =C22*AR52 -> 0 | AS22: =C22*AS52 -> 0 | AT22: =C22*AT52 -> 0 | AU22: =C22*AU52 -> 0
A36: 합 계 | E36: =SUMIF(P22:P22, "1", E22:E22) -> 0 | G36: =SUMIF(P22:P22, "1", G22:G22) -> 0 | I36: =SUMIF(P22:P22, "1", I22:I22) -> 0 | K36: =E36+G36+I36 -> 0 | Q36: =SUM(Q22:Q22) -> 0 | R36: =SUM(R22:R22) -> 0 | S36: =SUM(S22:S22) -> 0 | T36: =SUM(T22:T22) -> 0 | U36: =SUM(U22:U22) -> 0 | V36: =SUM(V22:V22) -> 0 | W36: =SUM(W22:W22) -> 0 | X36: =SUM(X22:X22) -> 0 | ... AX36: =SUM(AX22:AX22) -> 0
A37: 0101. 건축공사
A38: 010101. 가설공사 | B38: 식 | C38: 1 | D38: ='내역서(건축)'!F20 -> 0 | E38: =C38*D38 -> 0 | F38: ='내역서(건축)'!H20 -> 0 | G38: =C38*F38 -> 0 | H38: ='내역서(건축)'!J20 -> 0 | I38: =C38*H38 -> 0 | J38: =D38+F38+H38 -> 0 | K38: =E38+G38+I38 -> 0 | P38: 1 | Q38: =C38*'내역서(건축)'!R20 -> 0 | R38: =C38*'내역서(건축)'!S20 -> 0 | S38: =C38*'내역서(건축)'!T20 -> 0 | T38: =C38*'내역서(건축)'!U20 -> 0 | U38: =C38*'내역서(건축)'!V20 -> 0 | V38: =C38*'내역서(건축)'!W20 -> 0 | W38: =C38*'내역서(건축)'!X20 -> 0 | X38: =C38*'내역서(건축)'!Y20 -> 0 | Y38: =C38*'내역서(건축)'!Z20 -> 0 | Z38: =C38*'내역서(건축)'!AA20 -> 0 | AA38: =C38*'내역서(건축)'!AB20 -> 0 | AB38: =C38*'내역서(건축)'!AC20 -> 0 | AC38: =C38*'내역서(건축)'!AD20 -> 0 | AD38: =C38*'내역서(건축)'!AE20 -> 0 | AE38: =C38*'내역서(건축)'!AF20 -> 0 | AF38: =C38*'내역서(건축)'!AG20 -> 0 | AG38: =C38*'내역서(건축)'!AH20 -> 0 | AH38: =C38*'내역서(건축)'!AI20 -> 0 | AI38: =C38*'내역서(건축)'!AJ20 -> 0 | AJ38: =C38*'내역서(건축)'!AK20 -> 0 | AK38: =C38*'내역서(건축)'!AL20 -> 0 | AL38: =C38*'내역서(건축)'!AM20 -> 0 | AM38: =C38*'내역서(건축)'!AN20 -> 0 | AN38: =C38*'내역서(건축)'!AO20 -> 0 | AO38: =C38*'내역서(건축)'!AP20 -> 0 | AP38: =C38*'내역서(건축)'!AQ20 -> 0 | AQ38: =C38*'내역서(건축)'!AR20 -> 0 | AR38: =C38*'내역서(건축)'!AS20 -> 0 | AS38: =C38*'내역서(건축)'!AT20 -> 0 | AT38: =C38*'내역서(건축)'!AU20 -> 0 | AU38: =C38*'내역서(건축)'!AV20 -> 0
A39: 010102. 철거공사 | B39: 식 | C39: 1 | D39: ='내역서(건축)'!F52 -> 0 | E39: =C39*D39 -> 0 | F39: ='내역서(건축)'!H52 -> 0 | G39: =C39*F39 -> 0 | H39: ='내역서(건축)'!J52 -> 0 | I39: =C39*H39 -> 0 | J39: =D39+F39+H39 -> 0 | K39: =E39+G39+I39 -> 0 | P39: 1 | Q39: =C39*'내역서(건축)'!R52 -> 0 | R39: =C39*'내역서(건축)'!S52 -> 0 | S39: =C39*'내역서(건축)'!T52 -> 0 | T39: =C39*'내역서(건축)'!U52 -> 0 | U39: =C39*'내역서(건축)'!V52 -> 0 | V39: =C39*'내역서(건축)'!W52 -> 0 | W39: =C39*'내역서(건축)'!X52 -> 0 | X39: =C39*'내역서(건축)'!Y52 -> 0 | Y39: =C39*'내역서(건축)'!Z52 -> 0 | Z39: =C39*'내역서(건축)'!AA52 -> 0 | AA39: =C39*'내역서(건축)'!AB52 -> 0 | AB39: =C39*'내역서(건축)'!AC52 -> 0 | AC39: =C39*'내역서(건축)'!AD52 -> 0 | AD39: =C39*'내역서(건축)'!AE52 -> 0 | AE39: =C39*'내역서(건축)'!AF52 -> 0 | AF39: =C39*'내역서(건축)'!AG52 -> 0 | AG39: =C39*'내역서(건축)'!AH52 -> 0 | AH39: =C39*'내역서(건축)'!AI52 -> 0 | AI39: =C39*'내역서(건축)'!AJ52 -> 0 | AJ39: =C39*'내역서(건축)'!AK52 -> 0 | AK39: =C39*'내역서(건축)'!AL52 -> 0 | AL39: =C39*'내역서(건축)'!AM52 -> 0 | AM39: =C39*'내역서(건축)'!AN52 -> 0 | AN39: =C39*'내역서(건축)'!AO52 -> 0 | AO39: =C39*'내역서(건축)'!AP52 -> 0 | AP39: =C39*'내역서(건축)'!AQ52 -> 0 | AQ39: =C39*'내역서(건축)'!AR52 -> 0 | AR39: =C39*'내역서(건축)'!AS52 -> 0 | AS39: =C39*'내역서(건축)'!AT52 -> 0 | AT39: =C39*'내역서(건축)'!AU52 -> 0 | AU39: =C39*'내역서(건축)'!AV52 -> 0
A40: 010103. 작업부산물(철거해체) | B40: 식 | C40: 1 | D40: ='내역서(건축)'!F68 -> 0 | E40: =C40*D40 -> 0 | F40: ='내역서(건축)'!H68 -> 0 | G40: =C40*F40 -> 0 | H40: ='내역서(건축)'!J68 -> 0 | I40: =C40*H40 -> 0 | J40: =D40+F40+H40 -> 0 | K40: =E40+G40+I40 -> 0 | L40: 합계제외 | Q40: =C40*'내역서(건축)'!R68 -> 0 | R40: =C40*'내역서(건축)'!S68 -> 0 | S40: =C40*'내역서(건축)'!T68 -> 0 | T40: =C40*'내역서(건축)'!U68 -> 0 | U40: =C40*'내역서(건축)'!V68 -> 0 | V40: =C40*'내역서(건축)'!W68 -> 0 | W40: =C40*'내역서(건축)'!X68 -> 0 | X40: =C40*'내역서(건축)'!Y68 -> 0 | Y40: =C40*'내역서(건축)'!Z68 -> 0 | Z40: =C40*'내역서(건축)'!AA68 -> 0 | AA40: =C40*'내역서(건축)'!AB68 -> 0 | AB40: =C40*'내역서(건축)'!AC68 -> 0 | AC40: =C40*'내역서(건축)'!AD68 -> 0 | AD40: =C40*'내역서(건축)'!AE68 -> 0 | AE40: =C40*'내역서(건축)'!AF68 -> 0 | AF40: =C40*'내역서(건축)'!AG68 -> 0 | AG40: =C40*'내역서(건축)'!AH68 -> 0 | AH40: =C40*'내역서(건축)'!AI68 -> 0 | AI40: =C40*'내역서(건축)'!AJ68 -> 0 | AJ40: =C40*'내역서(건축)'!AK68 -> 0 | AK40: =C40*'내역서(건축)'!AL68 -> 0 | AL40: =C40*'내역서(건축)'!AM68 -> 0 | AM40: =C40*'내역서(건축)'!AN68 -> 0 | AN40: =C40*'내역서(건축)'!AO68 -> 0 | AO40: =C40*'내역서(건축)'!AP68 -> 0 | AP40: =C40*'내역서(건축)'!AQ68 -> 0 | AQ40: =C40*'내역서(건축)'!AR68 -> 0 | AR40: =C40*'내역서(건축)'!AS68 -> 0 | AS40: =C40*'내역서(건축)'!AT68 -> 0 | AT40: =C40*'내역서(건축)'!AU68 -> 0 | AU40: =C40*'내역서(건축)'!AV68 -> 0
A41: 010104. 방수공사 | B41: 식 | C41: 1 | D41: ='내역서(건축)'!F84 -> 0 | E41: =C41*D41 -> 0 | F41: ='내역서(건축)'!H84 -> 0 | G41: =C41*F41 -> 0 | H41: ='내역서(건축)'!J84 -> 0 | I41: =C41*H41 -> 0 | J41: =D41+F41+H41 -> 0 | K41: =E41+G41+I41 -> 0 | P41: 1 | Q41: =C41*'내역서(건축)'!R84 -> 0 | R41: =C41*'내역서(건축)'!S84 -> 0 | S41: =C41*'내역서(건축)'!T84 -> 0 | T41: =C41*'내역서(건축)'!U84 -> 0 | U41: =C41*'내역서(건축)'!V84 -> 0 | V41: =C41*'내역서(건축)'!W84 -> 0 | W41: =C41*'내역서(건축)'!X84 -> 0 | X41: =C41*'내역서(건축)'!Y84 -> 0 | Y41: =C41*'내역서(건축)'!Z84 -> 0 | Z41: =C41*'내역서(건축)'!AA84 -> 0 | AA41: =C41*'내역서(건축)'!AB84 -> 0 | AB41: =C41*'내역서(건축)'!AC84 -> 0 | AC41: =C41*'내역서(건축)'!AD84 -> 0 | AD41: =C41*'내역서(건축)'!AE84 -> 0 | AE41: =C41*'내역서(건축)'!AF84 -> 0 | AF41: =C41*'내역서(건축)'!AG84 -> 0 | AG41: =C41*'내역서(건축)'!AH84 -> 0 | AH41: =C41*'내역서(건축)'!AI84 -> 0 | AI41: =C41*'내역서(건축)'!AJ84 -> 0 | AJ41: =C41*'내역서(건축)'!AK84 -> 0 | AK41: =C41*'내역서(건축)'!AL84 -> 0 | AL41: =C41*'내역서(건축)'!AM84 -> 0 | AM41: =C41*'내역서(건축)'!AN84 -> 0 | AN41: =C41*'내역서(건축)'!AO84 -> 0 | AO41: =C41*'내역서(건축)'!AP84 -> 0 | AP41: =C41*'내역서(건축)'!AQ84 -> 0 | AQ41: =C41*'내역서(건축)'!AR84 -> 0 | AR41: =C41*'내역서(건축)'!AS84 -> 0 | AS41: =C41*'내역서(건축)'!AT84 -> 0 | AT41: =C41*'내역서(건축)'!AU84 -> 0 | AU41: =C41*'내역서(건축)'!AV84 -> 0
A42: 010105. 미장공사 | B42: 식 | C42: 1 | D42: ='내역서(건축)'!F100 -> 0 | E42: =C42*D42 -> 0 | F42: ='내역서(건축)'!H100 -> 0 | G42: =C42*F42 -> 0 | H42: ='내역서(건축)'!J100 -> 0 | I42: =C42*H42 -> 0 | J42: =D42+F42+H42 -> 0 | K42: =E42+G42+I42 -> 0 | P42: 1 | Q42: =C42*'내역서(건축)'!R100 -> 0 | R42: =C42*'내역서(건축)'!S100 -> 0 | S42: =C42*'내역서(건축)'!T100 -> 0 | T42: =C42*'내역서(건축)'!U100 -> 0 | U42: =C42*'내역서(건축)'!V100 -> 0 | V42: =C42*'내역서(건축)'!W100 -> 0 | W42: =C42*'내역서(건축)'!X100 -> 0 | X42: =C42*'내역서(건축)'!Y100 -> 0 | Y42: =C42*'내역서(건축)'!Z100 -> 0 | Z42: =C42*'내역서(건축)'!AA100 -> 0 | AA42: =C42*'내역서(건축)'!AB100 -> 0 | AB42: =C42*'내역서(건축)'!AC100 -> 0 | AC42: =C42*'내역서(건축)'!AD100 -> 0 | AD42: =C42*'내역서(건축)'!AE100 -> 0 | AE42: =C42*'내역서(건축)'!AF100 -> 0 | AF42: =C42*'내역서(건축)'!AG100 -> 0 | AG42: =C42*'내역서(건축)'!AH100 -> 0 | AH42: =C42*'내역서(건축)'!AI100 -> 0 | AI42: =C42*'내역서(건축)'!AJ100 -> 0 | AJ42: =C42*'내역서(건축)'!AK100 -> 0 | AK42: =C42*'내역서(건축)'!AL100 -> 0 | AL42: =C42*'내역서(건축)'!AM100 -> 0 | AM42: =C42*'내역서(건축)'!AN100 -> 0 | AN42: =C42*'내역서(건축)'!AO100 -> 0 | AO42: =C42*'내역서(건축)'!AP100 -> 0 | AP42: =C42*'내역서(건축)'!AQ100 -> 0 | AQ42: =C42*'내역서(건축)'!AR100 -> 0 | AR42: =C42*'내역서(건축)'!AS100 -> 0 | AS42: =C42*'내역서(건축)'!AT100 -> 0 | AT42: =C42*'내역서(건축)'!AU100 -> 0 | AU42: =C42*'내역서(건축)'!AV100 -> 0
A43: 010106. 타일공사 | B43: 식 | C43: 1 | D43: ='내역서(건축)'!F116 -> 0 | E43: =C43*D43 -> 0 | F43: ='내역서(건축)'!H116 -> 0 | G43: =C43*F43 -> 0 | H43: ='내역서(건축)'!J116 -> 0 | I43: =C43*H43 -> 0 | J43: =D43+F43+H43 -> 0 | K43: =E43+G43+I43 -> 0 | P43: 1 | Q43: =C43*'내역서(건축)'!R116 -> 0 | R43: =C43*'내역서(건축)'!S116 -> 0 | S43: =C43*'내역서(건축)'!T116 -> 0 | T43: =C43*'내역서(건축)'!U116 -> 0 | U43: =C43*'내역서(건축)'!V116 -> 0 | V43: =C43*'내역서(건축)'!W116 -> 0 | W43: =C43*'내역서(건축)'!X116 -> 0 | X43: =C43*'내역서(건축)'!Y116 -> 0 | Y43: =C43*'내역서(건축)'!Z116 -> 0 | Z43: =C43*'내역서(건축)'!AA116 -> 0 | AA43: =C43*'내역서(건축)'!AB116 -> 0 | AB43: =C43*'내역서(건축)'!AC116 -> 0 | AC43: =C43*'내역서(건축)'!AD116 -> 0 | AD43: =C43*'내역서(건축)'!AE116 -> 0 | AE43: =C43*'내역서(건축)'!AF116 -> 0 | AF43: =C43*'내역서(건축)'!AG116 -> 0 | AG43: =C43*'내역서(건축)'!AH116 -> 0 | AH43: =C43*'내역서(건축)'!AI116 -> 0 | AI43: =C43*'내역서(건축)'!AJ116 -> 0 | AJ43: =C43*'내역서(건축)'!AK116 -> 0 | AK43: =C43*'내역서(건축)'!AL116 -> 0 | AL43: =C43*'내역서(건축)'!AM116 -> 0 | AM43: =C43*'내역서(건축)'!AN116 -> 0 | AN43: =C43*'내역서(건축)'!AO116 -> 0 | AO43: =C43*'내역서(건축)'!AP116 -> 0 | AP43: =C43*'내역서(건축)'!AQ116 -> 0 | AQ43: =C43*'내역서(건축)'!AR116 -> 0 | AR43: =C43*'내역서(건축)'!AS116 -> 0 | AS43: =C43*'내역서(건축)'!AT116 -> 0 | AT43: =C43*'내역서(건축)'!AU116 -> 0 | AU43: =C43*'내역서(건축)'!AV116 -> 0
A44: 010107. 창호공사 | B44: 식 | C44: 1 | D44: ='내역서(건축)'!F148 -> 0 | E44: =C44*D44 -> 0 | F44: ='내역서(건축)'!H148 -> 0 | G44: =C44*F44 -> 0 | H44: ='내역서(건축)'!J148 -> 0 | I44: =C44*H44 -> 0 | J44: =D44+F44+H44 -> 0 | K44: =E44+G44+I44 -> 0 | P44: 1 | Q44: =C44*'내역서(건축)'!R148 -> 0 | R44: =C44*'내역서(건축)'!S148 -> 0 | S44: =C44*'내역서(건축)'!T148 -> 0 | T44: =C44*'내역서(건축)'!U148 -> 0 | U44: =C44*'내역서(건축)'!V148 -> 0 | V44: =C44*'내역서(건축)'!W148 -> 0 | W44: =C44*'내역서(건축)'!X148 -> 0 | X44: =C44*'내역서(건축)'!Y148 -> 0 | Y44: =C44*'내역서(건축)'!Z148 -> 0 | Z44: =C44*'내역서(건축)'!AA148 -> 0 | AA44: =C44*'내역서(건축)'!AB148 -> 0 | AB44: =C44*'내역서(건축)'!AC148 -> 0 | AC44: =C44*'내역서(건축)'!AD148 -> 0 | AD44: =C44*'내역서(건축)'!AE148 -> 0 | AE44: =C44*'내역서(건축)'!AF148 -> 0 | AF44: =C44*'내역서(건축)'!AG148 -> 0 | AG44: =C44*'내역서(건축)'!AH148 -> 0 | AH44: =C44*'내역서(건축)'!AI148 -> 0 | AI44: =C44*'내역서(건축)'!AJ148 -> 0 | AJ44: =C44*'내역서(건축)'!AK148 -> 0 | AK44: =C44*'내역서(건축)'!AL148 -> 0 | AL44: =C44*'내역서(건축)'!AM148 -> 0 | AM44: =C44*'내역서(건축)'!AN148 -> 0 | AN44: =C44*'내역서(건축)'!AO148 -> 0 | AO44: =C44*'내역서(건축)'!AP148 -> 0 | AP44: =C44*'내역서(건축)'!AQ148 -> 0 | AQ44: =C44*'내역서(건축)'!AR148 -> 0 | AR44: =C44*'내역서(건축)'!AS148 -> 0 | AS44: =C44*'내역서(건축)'!AT148 -> 0 | AT44: =C44*'내역서(건축)'!AU148 -> 0 | AU44: =C44*'내역서(건축)'!AV148 -> 0
A45: 010108. 수장공사 | B45: 식 | C45: 1 | D45: ='내역서(건축)'!F164 -> 0 | E45: =C45*D45 -> 0 | F45: ='내역서(건축)'!H164 -> 0 | G45: =C45*F45 -> 0 | H45: ='내역서(건축)'!J164 -> 0 | I45: =C45*H45 -> 0 | J45: =D45+F45+H45 -> 0 | K45: =E45+G45+I45 -> 0 | P45: 1 | Q45: =C45*'내역서(건축)'!R164 -> 0 | R45: =C45*'내역서(건축)'!S164 -> 0 | S45: =C45*'내역서(건축)'!T164 -> 0 | T45: =C45*'내역서(건축)'!U164 -> 0 | U45: =C45*'내역서(건축)'!V164 -> 0 | V45: =C45*'내역서(건축)'!W164 -> 0 | W45: =C45*'내역서(건축)'!X164 -> 0 | X45: =C45*'내역서(건축)'!Y164 -> 0 | Y45: =C45*'내역서(건축)'!Z164 -> 0 | Z45: =C45*'내역서(건축)'!AA164 -> 0 | AA45: =C45*'내역서(건축)'!AB164 -> 0 | AB45: =C45*'내역서(건축)'!AC164 -> 0 | AC45: =C45*'내역서(건축)'!AD164 -> 0 | AD45: =C45*'내역서(건축)'!AE164 -> 0 | AE45: =C45*'내역서(건축)'!AF164 -> 0 | AF45: =C45*'내역서(건축)'!AG164 -> 0 | AG45: =C45*'내역서(건축)'!AH164 -> 0 | AH45: =C45*'내역서(건축)'!AI164 -> 0 | AI45: =C45*'내역서(건축)'!AJ164 -> 0 | AJ45: =C45*'내역서(건축)'!AK164 -> 0 | AK45: =C45*'내역서(건축)'!AL164 -> 0 | AL45: =C45*'내역서(건축)'!AM164 -> 0 | AM45: =C45*'내역서(건축)'!AN164 -> 0 | AN45: =C45*'내역서(건축)'!AO164 -> 0 | AO45: =C45*'내역서(건축)'!AP164 -> 0 | AP45: =C45*'내역서(건축)'!AQ164 -> 0 | AQ45: =C45*'내역서(건축)'!AR164 -> 0 | AR45: =C45*'내역서(건축)'!AS164 -> 0 | AS45: =C45*'내역서(건축)'!AT164 -> 0 | AT45: =C45*'내역서(건축)'!AU164 -> 0 | AU45: =C45*'내역서(건축)'!AV164 -> 0
A46: 010109. 금속공사 | B46: 식 | C46: 1 | D46: ='내역서(건축)'!F180 -> 0 | E46: =C46*D46 -> 0 | F46: ='내역서(건축)'!H180 -> 0 | G46: =C46*F46 -> 0 | H46: ='내역서(건축)'!J180 -> 0 | I46: =C46*H46 -> 0 | J46: =D46+F46+H46 -> 0 | K46: =E46+G46+I46 -> 0 | P46: 1 | Q46: =C46*'내역서(건축)'!R180 -> 0 | R46: =C46*'내역서(건축)'!S180 -> 0 | S46: =C46*'내역서(건축)'!T180 -> 0 | T46: =C46*'내역서(건축)'!U180 -> 0 | U46: =C46*'내역서(건축)'!V180 -> 0 | V46: =C46*'내역서(건축)'!W180 -> 0 | W46: =C46*'내역서(건축)'!X180 -> 0 | X46: =C46*'내역서(건축)'!Y180 -> 0 | Y46: =C46*'내역서(건축)'!Z180 -> 0 | Z46: =C46*'내역서(건축)'!AA180 -> 0 | AA46: =C46*'내역서(건축)'!AB180 -> 0 | AB46: =C46*'내역서(건축)'!AC180 -> 0 | AC46: =C46*'내역서(건축)'!AD180 -> 0 | AD46: =C46*'내역서(건축)'!AE180 -> 0 | AE46: =C46*'내역서(건축)'!AF180 -> 0 | AF46: =C46*'내역서(건축)'!AG180 -> 0 | AG46: =C46*'내역서(건축)'!AH180 -> 0 | AH46: =C46*'내역서(건축)'!AI180 -> 0 | AI46: =C46*'내역서(건축)'!AJ180 -> 0 | AJ46: =C46*'내역서(건축)'!AK180 -> 0 | AK46: =C46*'내역서(건축)'!AL180 -> 0 | AL46: =C46*'내역서(건축)'!AM180 -> 0 | AM46: =C46*'내역서(건축)'!AN180 -> 0 | AN46: =C46*'내역서(건축)'!AO180 -> 0 | AO46: =C46*'내역서(건축)'!AP180 -> 0 | AP46: =C46*'내역서(건축)'!AQ180 -> 0 | AQ46: =C46*'내역서(건축)'!AR180 -> 0 | AR46: =C46*'내역서(건축)'!AS180 -> 0 | AS46: =C46*'내역서(건축)'!AT180 -> 0 | AT46: =C46*'내역서(건축)'!AU180 -> 0 | AU46: =C46*'내역서(건축)'!AV180 -> 0
A47: 010110. 도장공사 | B47: 식 | C47: 1 | D47: ='내역서(건축)'!F196 -> 0 | E47: =C47*D47 -> 0 | F47: ='내역서(건축)'!H196 -> 0 | G47: =C47*F47 -> 0 | H47: ='내역서(건축)'!J196 -> 0 | I47: =C47*H47 -> 0 | J47: =D47+F47+H47 -> 0 | K47: =E47+G47+I47 -> 0 | P47: 1 | Q47: =C47*'내역서(건축)'!R196 -> 0 | R47: =C47*'내역서(건축)'!S196 -> 0 | S47: =C47*'내역서(건축)'!T196 -> 0 | T47: =C47*'내역서(건축)'!U196 -> 0 | U47: =C47*'내역서(건축)'!V196 -> 0 | V47: =C47*'내역서(건축)'!W196 -> 0 | W47: =C47*'내역서(건축)'!X196 -> 0 | X47: =C47*'내역서(건축)'!Y196 -> 0 | Y47: =C47*'내역서(건축)'!Z196 -> 0 | Z47: =C47*'내역서(건축)'!AA196 -> 0 | AA47: =C47*'내역서(건축)'!AB196 -> 0 | AB47: =C47*'내역서(건축)'!AC196 -> 0 | AC47: =C47*'내역서(건축)'!AD196 -> 0 | AD47: =C47*'내역서(건축)'!AE196 -> 0 | AE47: =C47*'내역서(건축)'!AF196 -> 0 | AF47: =C47*'내역서(건축)'!AG196 -> 0 | AG47: =C47*'내역서(건축)'!AH196 -> 0 | AH47: =C47*'내역서(건축)'!AI196 -> 0 | AI47: =C47*'내역서(건축)'!AJ196 -> 0 | AJ47: =C47*'내역서(건축)'!AK196 -> 0 | AK47: =C47*'내역서(건축)'!AL196 -> 0 | AL47: =C47*'내역서(건축)'!AM196 -> 0 | AM47: =C47*'내역서(건축)'!AN196 -> 0 | AN47: =C47*'내역서(건축)'!AO196 -> 0 | AO47: =C47*'내역서(건축)'!AP196 -> 0 | AP47: =C47*'내역서(건축)'!AQ196 -> 0 | AQ47: =C47*'내역서(건축)'!AR196 -> 0 | AR47: =C47*'내역서(건축)'!AS196 -> 0 | AS47: =C47*'내역서(건축)'!AT196 -> 0 | AT47: =C47*'내역서(건축)'!AU196 -> 0 | AU47: =C47*'내역서(건축)'!AV196 -> 0
A48: 010111. 품질관리비 | B48: 식 | C48: 1 | D48: ='내역서(건축)'!F228 -> 0 | E48: =C48*D48 -> 0 | F48: ='내역서(건축)'!H228 -> 0 | G48: =C48*F48 -> 0 | H48: ='내역서(건축)'!J228 -> 0 | I48: =C48*H48 -> 0 | J48: =D48+F48+H48 -> 0 | K48: =E48+G48+I48 -> 0 | L48: 합계제외 | Q48: =C48*'내역서(건축)'!R228 -> 0 | R48: =C48*'내역서(건축)'!S228 -> 0 | S48: =C48*'내역서(건축)'!T228 -> 0 | T48: =C48*'내역서(건축)'!U228 -> 0 | U48: =C48*'내역서(건축)'!V228 -> 0 | V48: =C48*'내역서(건축)'!W228 -> 0 | W48: =C48*'내역서(건축)'!X228 -> 0 | X48: =C48*'내역서(건축)'!Y228 -> 0 | Y48: =C48*'내역서(건축)'!Z228 -> 0 | Z48: =C48*'내역서(건축)'!AA228 -> 0 | AA48: =C48*'내역서(건축)'!AB228 -> 0 | AB48: =C48*'내역서(건축)'!AC228 -> 0 | AC48: =C48*'내역서(건축)'!AD228 -> 0 | AD48: =C48*'내역서(건축)'!AE228 -> 0 | AE48: =C48*'내역서(건축)'!AF228 -> 0 | AF48: =C48*'내역서(건축)'!AG228 -> 0 | AG48: =C48*'내역서(건축)'!AH228 -> 0 | AH48: =C48*'내역서(건축)'!AI228 -> 0 | AI48: =C48*'내역서(건축)'!AJ228 -> 0 | AJ48: =C48*'내역서(건축)'!AK228 -> 0 | AK48: =C48*'내역서(건축)'!AL228 -> 0 | AL48: =C48*'내역서(건축)'!AM228 -> 0 | AM48: =C48*'내역서(건축)'!AN228 -> 0 | AN48: =C48*'내역서(건축)'!AO228 -> 0 | AO48: =C48*'내역서(건축)'!AP228 -> 0 | AP48: =C48*'내역서(건축)'!AQ228 -> 0 | AQ48: =C48*'내역서(건축)'!AR228 -> 0 | AR48: =C48*'내역서(건축)'!AS228 -> 0 | AS48: =C48*'내역서(건축)'!AT228 -> 0 | AT48: =C48*'내역서(건축)'!AU228 -> 0 | AU48: =C48*'내역서(건축)'!AV228 -> 0
A52: 합 계 | E52: =SUMIF(P38:P48, "1", E38:E48) -> 0 | G52: =SUMIF(P38:P48, "1", G38:G48) -> 0 | I52: =SUMIF(P38:P48, "1", I38:I48) -> 0 | K52: =E52+G52+I52 -> 0 | Q52: =SUM(Q38:Q48) -> 0 | R52: =SUM(R38:R48) -> 0 | S52: =SUM(S38:S48) -> 0 | T52: =SUM(T38:T48) -> 0 | U52: =SUM(U38:U48) -> 0 | V52: =SUM(V38:V48) -> 0 | W52: =SUM(W38:W48) -> 0 | X52: =SUM(X38:X48) -> 0 | ... AX52: =SUM(AX38:AX48) -> 0
A53: 02. 공용화장실 개선공사
A54: 0201. 건축공사 | B54: 식 | C54: 1 | D54: =E84 -> 0 | E54: =C54*D54 -> 0 | F54: =G84 -> 0 | G54: =C54*F54 -> 0 | H54: =I84 -> 0 | I54: =C54*H54 -> 0 | J54: =D54+F54+H54 -> 0 | K54: =E54+G54+I54 -> 0 | P54: 1 | Q54: =C54*Q84 -> 0 | R54: =C54*R84 -> 0 | S54: =C54*S84 -> 0 | T54: =C54*T84 -> 0 | U54: =C54*U84 -> 0 | V54: =C54*V84 -> 0 | W54: =C54*W84 -> 0 | X54: =C54*X84 -> 0 | Y54: =C54*Y84 -> 0 | Z54: =C54*Z84 -> 0 | AA54: =C54*AA84 -> 0 | AB54: =C54*AB84 -> 0 | AC54: =C54*AC84 -> 0 | AD54: =C54*AD84 -> 0 | AE54: =C54*AE84 -> 0 | AF54: =C54*AF84 -> 0 | AG54: =C54*AG84 -> 0 | AH54: =C54*AH84 -> 0 | AI54: =C54*AI84 -> 0 | AJ54: =C54*AJ84 -> 0 | AK54: =C54*AK84 -> 0 | AL54: =C54*AL84 -> 0 | AM54: =C54*AM84 -> 0 | AN54: =C54*AN84 -> 0 | AO54: =C54*AO84 -> 0 | AP54: =C54*AP84 -> 0 | AQ54: =C54*AQ84 -> 0 | AR54: =C54*AR84 -> 0 | AS54: =C54*AS84 -> 0 | AT54: =C54*AT84 -> 0 | AU54: =C54*AU84 -> 0
A68: 합 계 | E68: =SUMIF(P54:P54, "1", E54:E54) -> 0 | G68: =SUMIF(P54:P54, "1", G54:G54) -> 0 | I68: =SUMIF(P54:P54, "1", I54:I54) -> 0 | K68: =E68+G68+I68 -> 0 | Q68: =SUM(Q54:Q54) -> 0 | R68: =SUM(R54:R54) -> 0 | S68: =SUM(S54:S54) -> 0 | T68: =SUM(T54:T54) -> 0 | U68: =SUM(U54:U54) -> 0 | V68: =SUM(V54:V54) -> 0 | W68: =SUM(W54:W54) -> 0 | X68: =SUM(X54:X54) -> 0 | ... AX68: =SUM(AX54:AX54) -> 0
A69: 0201. 건축공사
A70: 020101. 가설공사 | B70: 식 | C70: 1 | D70: ='내역서(건축)'!F244 -> 0 | E70: =C70*D70 -> 0 | F70: ='내역서(건축)'!H244 -> 0 | G70: =C70*F70 -> 0 | H70: ='내역서(건축)'!J244 -> 0 | I70: =C70*H70 -> 0 | J70: =D70+F70+H70 -> 0 | K70: =E70+G70+I70 -> 0 | P70: 1 | Q70: =C70*'내역서(건축)'!R244 -> 0 | R70: =C70*'내역서(건축)'!S244 -> 0 | S70: =C70*'내역서(건축)'!T244 -> 0 | T70: =C70*'내역서(건축)'!U244 -> 0 | U70: =C70*'내역서(건축)'!V244 -> 0 | V70: =C70*'내역서(건축)'!W244 -> 0 | W70: =C70*'내역서(건축)'!X244 -> 0 | X70: =C70*'내역서(건축)'!Y244 -> 0 | Y70: =C70*'내역서(건축)'!Z244 -> 0 | Z70: =C70*'내역서(건축)'!AA244 -> 0 | AA70: =C70*'내역서(건축)'!AB244 -> 0 | AB70: =C70*'내역서(건축)'!AC244 -> 0 | AC70: =C70*'내역서(건축)'!AD244 -> 0 | AD70: =C70*'내역서(건축)'!AE244 -> 0 | AE70: =C70*'내역서(건축)'!AF244 -> 0 | AF70: =C70*'내역서(건축)'!AG244 -> 0 | AG70: =C70*'내역서(건축)'!AH244 -> 0 | AH70: =C70*'내역서(건축)'!AI244 -> 0 | AI70: =C70*'내역서(건축)'!AJ244 -> 0 | AJ70: =C70*'내역서(건축)'!AK244 -> 0 | AK70: =C70*'내역서(건축)'!AL244 -> 0 | AL70: =C70*'내역서(건축)'!AM244 -> 0 | AM70: =C70*'내역서(건축)'!AN244 -> 0 | AN70: =C70*'내역서(건축)'!AO244 -> 0 | AO70: =C70*'내역서(건축)'!AP244 -> 0 | AP70: =C70*'내역서(건축)'!AQ244 -> 0 | AQ70: =C70*'내역서(건축)'!AR244 -> 0 | AR70: =C70*'내역서(건축)'!AS244 -> 0 | AS70: =C70*'내역서(건축)'!AT244 -> 0 | AT70: =C70*'내역서(건축)'!AU244 -> 0 | AU70: =C70*'내역서(건축)'!AV244 -> 0
A71: 020102. 작업부산물(철거해체) | B71: 식 | C71: 1 | D71: ='내역서(건축)'!F260 -> 0 | E71: =C71*D71 -> 0 | F71: ='내역서(건축)'!H260 -> 0 | G71: =C71*F71 -> 0 | H71: ='내역서(건축)'!J260 -> 0 | I71: =C71*H71 -> 0 | J71: =D71+F71+H71 -> 0 | K71: =E71+G71+I71 -> 0 | L71: 합계제외 | Q71: =C71*'내역서(건축)'!R260 -> 0 | R71: =C71*'내역서(건축)'!S260 -> 0 | S71: =C71*'내역서(건축)'!T260 -> 0 | T71: =C71*'내역서(건축)'!U260 -> 0 | U71: =C71*'내역서(건축)'!V260 -> 0 | V71: =C71*'내역서(건축)'!W260 -> 0 | W71: =C71*'내역서(건축)'!X260 -> 0 | X71: =C71*'내역서(건축)'!Y260 -> 0 | Y71: =C71*'내역서(건축)'!Z260 -> 0 | Z71: =C71*'내역서(건축)'!AA260 -> 0 | AA71: =C71*'내역서(건축)'!AB260 -> 0 | AB71: =C71*'내역서(건축)'!AC260 -> 0 | AC71: =C71*'내역서(건축)'!AD260 -> 0 | AD71: =C71*'내역서(건축)'!AE260 -> 0 | AE71: =C71*'내역서(건축)'!AF260 -> 0 | AF71: =C71*'내역서(건축)'!AG260 -> 0 | AG71: =C71*'내역서(건축)'!AH260 -> 0 | AH71: =C71*'내역서(건축)'!AI260 -> 0 | AI71: =C71*'내역서(건축)'!AJ260 -> 0 | AJ71: =C71*'내역서(건축)'!AK260 -> 0 | AK71: =C71*'내역서(건축)'!AL260 -> 0 | AL71: =C71*'내역서(건축)'!AM260 -> 0 | AM71: =C71*'내역서(건축)'!AN260 -> 0 | AN71: =C71*'내역서(건축)'!AO260 -> 0 | AO71: =C71*'내역서(건축)'!AP260 -> 0 | AP71: =C71*'내역서(건축)'!AQ260 -> 0 | AQ71: =C71*'내역서(건축)'!AR260 -> 0 | AR71: =C71*'내역서(건축)'!AS260 -> 0 | AS71: =C71*'내역서(건축)'!AT260 -> 0 | AT71: =C71*'내역서(건축)'!AU260 -> 0 | AU71: =C71*'내역서(건축)'!AV260 -> 0
A72: 020103. 철거공사 | B72: 식 | C72: 1 | D72: ='내역서(건축)'!F276 -> 0 | E72: =C72*D72 -> 0 | F72: ='내역서(건축)'!H276 -> 0 | G72: =C72*F72 -> 0 | H72: ='내역서(건축)'!J276 -> 0 | I72: =C72*H72 -> 0 | J72: =D72+F72+H72 -> 0 | K72: =E72+G72+I72 -> 0 | P72: 1 | Q72: =C72*'내역서(건축)'!R276 -> 0 | R72: =C72*'내역서(건축)'!S276 -> 0 | S72: =C72*'내역서(건축)'!T276 -> 0 | T72: =C72*'내역서(건축)'!U276 -> 0 | U72: =C72*'내역서(건축)'!V276 -> 0 | V72: =C72*'내역서(건축)'!W276 -> 0 | W72: =C72*'내역서(건축)'!X276 -> 0 | X72: =C72*'내역서(건축)'!Y276 -> 0 | Y72: =C72*'내역서(건축)'!Z276 -> 0 | Z72: =C72*'내역서(건축)'!AA276 -> 0 | AA72: =C72*'내역서(건축)'!AB276 -> 0 | AB72: =C72*'내역서(건축)'!AC276 -> 0 | AC72: =C72*'내역서(건축)'!AD276 -> 0 | AD72: =C72*'내역서(건축)'!AE276 -> 0 | AE72: =C72*'내역서(건축)'!AF276 -> 0 | AF72: =C72*'내역서(건축)'!AG276 -> 0 | AG72: =C72*'내역서(건축)'!AH276 -> 0 | AH72: =C72*'내역서(건축)'!AI276 -> 0 | AI72: =C72*'내역서(건축)'!AJ276 -> 0 | AJ72: =C72*'내역서(건축)'!AK276 -> 0 | AK72: =C72*'내역서(건축)'!AL276 -> 0 | AL72: =C72*'내역서(건축)'!AM276 -> 0 | AM72: =C72*'내역서(건축)'!AN276 -> 0 | AN72: =C72*'내역서(건축)'!AO276 -> 0 | AO72: =C72*'내역서(건축)'!AP276 -> 0 | AP72: =C72*'내역서(건축)'!AQ276 -> 0 | AQ72: =C72*'내역서(건축)'!AR276 -> 0 | AR72: =C72*'내역서(건축)'!AS276 -> 0 | AS72: =C72*'내역서(건축)'!AT276 -> 0 | AT72: =C72*'내역서(건축)'!AU276 -> 0 | AU72: =C72*'내역서(건축)'!AV276 -> 0
A73: 020104. 방수공사 | B73: 식 | C73: 1 | D73: ='내역서(건축)'!F292 -> 0 | E73: =C73*D73 -> 0 | F73: ='내역서(건축)'!H292 -> 0 | G73: =C73*F73 -> 0 | H73: ='내역서(건축)'!J292 -> 0 | I73: =C73*H73 -> 0 | J73: =D73+F73+H73 -> 0 | K73: =E73+G73+I73 -> 0 | P73: 1 | Q73: =C73*'내역서(건축)'!R292 -> 0 | R73: =C73*'내역서(건축)'!S292 -> 0 | S73: =C73*'내역서(건축)'!T292 -> 0 | T73: =C73*'내역서(건축)'!U292 -> 0 | U73: =C73*'내역서(건축)'!V292 -> 0 | V73: =C73*'내역서(건축)'!W292 -> 0 | W73: =C73*'내역서(건축)'!X292 -> 0 | X73: =C73*'내역서(건축)'!Y292 -> 0 | Y73: =C73*'내역서(건축)'!Z292 -> 0 | Z73: =C73*'내역서(건축)'!AA292 -> 0 | AA73: =C73*'내역서(건축)'!AB292 -> 0 | AB73: =C73*'내역서(건축)'!AC292 -> 0 | AC73: =C73*'내역서(건축)'!AD292 -> 0 | AD73: =C73*'내역서(건축)'!AE292 -> 0 | AE73: =C73*'내역서(건축)'!AF292 -> 0 | AF73: =C73*'내역서(건축)'!AG292 -> 0 | AG73: =C73*'내역서(건축)'!AH292 -> 0 | AH73: =C73*'내역서(건축)'!AI292 -> 0 | AI73: =C73*'내역서(건축)'!AJ292 -> 0 | AJ73: =C73*'내역서(건축)'!AK292 -> 0 | AK73: =C73*'내역서(건축)'!AL292 -> 0 | AL73: =C73*'내역서(건축)'!AM292 -> 0 | AM73: =C73*'내역서(건축)'!AN292 -> 0 | AN73: =C73*'내역서(건축)'!AO292 -> 0 | AO73: =C73*'내역서(건축)'!AP292 -> 0 | AP73: =C73*'내역서(건축)'!AQ292 -> 0 | AQ73: =C73*'내역서(건축)'!AR292 -> 0 | AR73: =C73*'내역서(건축)'!AS292 -> 0 | AS73: =C73*'내역서(건축)'!AT292 -> 0 | AT73: =C73*'내역서(건축)'!AU292 -> 0 | AU73: =C73*'내역서(건축)'!AV292 -> 0
A74: 020105. 미장공사 | B74: 식 | C74: 1 | D74: ='내역서(건축)'!F308 -> 0 | E74: =C74*D74 -> 0 | F74: ='내역서(건축)'!H308 -> 0 | G74: =C74*F74 -> 0 | H74: ='내역서(건축)'!J308 -> 0 | I74: =C74*H74 -> 0 | J74: =D74+F74+H74 -> 0 | K74: =E74+G74+I74 -> 0 | P74: 1 | Q74: =C74*'내역서(건축)'!R308 -> 0 | R74: =C74*'내역서(건축)'!S308 -> 0 | S74: =C74*'내역서(건축)'!T308 -> 0 | T74: =C74*'내역서(건축)'!U308 -> 0 | U74: =C74*'내역서(건축)'!V308 -> 0 | V74: =C74*'내역서(건축)'!W308 -> 0 | W74: =C74*'내역서(건축)'!X308 -> 0 | X74: =C74*'내역서(건축)'!Y308 -> 0 | Y74: =C74*'내역서(건축)'!Z308 -> 0 | Z74: =C74*'내역서(건축)'!AA308 -> 0 | AA74: =C74*'내역서(건축)'!AB308 -> 0 | AB74: =C74*'내역서(건축)'!AC308 -> 0 | AC74: =C74*'내역서(건축)'!AD308 -> 0 | AD74: =C74*'내역서(건축)'!AE308 -> 0 | AE74: =C74*'내역서(건축)'!AF308 -> 0 | AF74: =C74*'내역서(건축)'!AG308 -> 0 | AG74: =C74*'내역서(건축)'!AH308 -> 0 | AH74: =C74*'내역서(건축)'!AI308 -> 0 | AI74: =C74*'내역서(건축)'!AJ308 -> 0 | AJ74: =C74*'내역서(건축)'!AK308 -> 0 | AK74: =C74*'내역서(건축)'!AL308 -> 0 | AL74: =C74*'내역서(건축)'!AM308 -> 0 | AM74: =C74*'내역서(건축)'!AN308 -> 0 | AN74: =C74*'내역서(건축)'!AO308 -> 0 | AO74: =C74*'내역서(건축)'!AP308 -> 0 | AP74: =C74*'내역서(건축)'!AQ308 -> 0 | AQ74: =C74*'내역서(건축)'!AR308 -> 0 | AR74: =C74*'내역서(건축)'!AS308 -> 0 | AS74: =C74*'내역서(건축)'!AT308 -> 0 | AT74: =C74*'내역서(건축)'!AU308 -> 0 | AU74: =C74*'내역서(건축)'!AV308 -> 0
A75: 020106. 타일공사 | B75: 식 | C75: 1 | D75: ='내역서(건축)'!F324 -> 0 | E75: =C75*D75 -> 0 | F75: ='내역서(건축)'!H324 -> 0 | G75: =C75*F75 -> 0 | H75: ='내역서(건축)'!J324 -> 0 | I75: =C75*H75 -> 0 | J75: =D75+F75+H75 -> 0 | K75: =E75+G75+I75 -> 0 | P75: 1 | Q75: =C75*'내역서(건축)'!R324 -> 0 | R75: =C75*'내역서(건축)'!S324 -> 0 | S75: =C75*'내역서(건축)'!T324 -> 0 | T75: =C75*'내역서(건축)'!U324 -> 0 | U75: =C75*'내역서(건축)'!V324 -> 0 | V75: =C75*'내역서(건축)'!W324 -> 0 | W75: =C75*'내역서(건축)'!X324 -> 0 | X75: =C75*'내역서(건축)'!Y324 -> 0 | Y75: =C75*'내역서(건축)'!Z324 -> 0 | Z75: =C75*'내역서(건축)'!AA324 -> 0 | AA75: =C75*'내역서(건축)'!AB324 -> 0 | AB75: =C75*'내역서(건축)'!AC324 -> 0 | AC75: =C75*'내역서(건축)'!AD324 -> 0 | AD75: =C75*'내역서(건축)'!AE324 -> 0 | AE75: =C75*'내역서(건축)'!AF324 -> 0 | AF75: =C75*'내역서(건축)'!AG324 -> 0 | AG75: =C75*'내역서(건축)'!AH324 -> 0 | AH75: =C75*'내역서(건축)'!AI324 -> 0 | AI75: =C75*'내역서(건축)'!AJ324 -> 0 | AJ75: =C75*'내역서(건축)'!AK324 -> 0 | AK75: =C75*'내역서(건축)'!AL324 -> 0 | AL75: =C75*'내역서(건축)'!AM324 -> 0 | AM75: =C75*'내역서(건축)'!AN324 -> 0 | AN75: =C75*'내역서(건축)'!AO324 -> 0 | AO75: =C75*'내역서(건축)'!AP324 -> 0 | AP75: =C75*'내역서(건축)'!AQ324 -> 0 | AQ75: =C75*'내역서(건축)'!AR324 -> 0 | AR75: =C75*'내역서(건축)'!AS324 -> 0 | AS75: =C75*'내역서(건축)'!AT324 -> 0 | AT75: =C75*'내역서(건축)'!AU324 -> 0 | AU75: =C75*'내역서(건축)'!AV324 -> 0
A76: 020107. 수장공사 | B76: 식 | C76: 1 | D76: ='내역서(건축)'!F340 -> 0 | E76: =C76*D76 -> 0 | F76: ='내역서(건축)'!H340 -> 0 | G76: =C76*F76 -> 0 | H76: ='내역서(건축)'!J340 -> 0 | I76: =C76*H76 -> 0 | J76: =D76+F76+H76 -> 0 | K76: =E76+G76+I76 -> 0 | P76: 1 | Q76: =C76*'내역서(건축)'!R340 -> 0 | R76: =C76*'내역서(건축)'!S340 -> 0 | S76: =C76*'내역서(건축)'!T340 -> 0 | T76: =C76*'내역서(건축)'!U340 -> 0 | U76: =C76*'내역서(건축)'!V340 -> 0 | V76: =C76*'내역서(건축)'!W340 -> 0 | W76: =C76*'내역서(건축)'!X340 -> 0 | X76: =C76*'내역서(건축)'!Y340 -> 0 | Y76: =C76*'내역서(건축)'!Z340 -> 0 | Z76: =C76*'내역서(건축)'!AA340 -> 0 | AA76: =C76*'내역서(건축)'!AB340 -> 0 | AB76: =C76*'내역서(건축)'!AC340 -> 0 | AC76: =C76*'내역서(건축)'!AD340 -> 0 | AD76: =C76*'내역서(건축)'!AE340 -> 0 | AE76: =C76*'내역서(건축)'!AF340 -> 0 | AF76: =C76*'내역서(건축)'!AG340 -> 0 | AG76: =C76*'내역서(건축)'!AH340 -> 0 | AH76: =C76*'내역서(건축)'!AI340 -> 0 | AI76: =C76*'내역서(건축)'!AJ340 -> 0 | AJ76: =C76*'내역서(건축)'!AK340 -> 0 | AK76: =C76*'내역서(건축)'!AL340 -> 0 | AL76: =C76*'내역서(건축)'!AM340 -> 0 | AM76: =C76*'내역서(건축)'!AN340 -> 0 | AN76: =C76*'내역서(건축)'!AO340 -> 0 | AO76: =C76*'내역서(건축)'!AP340 -> 0 | AP76: =C76*'내역서(건축)'!AQ340 -> 0 | AQ76: =C76*'내역서(건축)'!AR340 -> 0 | AR76: =C76*'내역서(건축)'!AS340 -> 0 | AS76: =C76*'내역서(건축)'!AT340 -> 0 | AT76: =C76*'내역서(건축)'!AU340 -> 0 | AU76: =C76*'내역서(건축)'!AV340 -> 0
A77: 020108. 금속공사 | B77: 식 | C77: 1 | D77: ='내역서(건축)'!F356 -> 0 | E77: =C77*D77 -> 0 | F77: ='내역서(건축)'!H356 -> 0 | G77: =C77*F77 -> 0 | H77: ='내역서(건축)'!J356 -> 0 | I77: =C77*H77 -> 0 | J77: =D77+F77+H77 -> 0 | K77: =E77+G77+I77 -> 0 | P77: 1 | Q77: =C77*'내역서(건축)'!R356 -> 0 | R77: =C77*'내역서(건축)'!S356 -> 0 | S77: =C77*'내역서(건축)'!T356 -> 0 | T77: =C77*'내역서(건축)'!U356 -> 0 | U77: =C77*'내역서(건축)'!V356 -> 0 | V77: =C77*'내역서(건축)'!W356 -> 0 | W77: =C77*'내역서(건축)'!X356 -> 0 | X77: =C77*'내역서(건축)'!Y356 -> 0 | Y77: =C77*'내역서(건축)'!Z356 -> 0 | Z77: =C77*'내역서(건축)'!AA356 -> 0 | AA77: =C77*'내역서(건축)'!AB356 -> 0 | AB77: =C77*'내역서(건축)'!AC356 -> 0 | AC77: =C77*'내역서(건축)'!AD356 -> 0 | AD77: =C77*'내역서(건축)'!AE356 -> 0 | AE77: =C77*'내역서(건축)'!AF356 -> 0 | AF77: =C77*'내역서(건축)'!AG356 -> 0 | AG77: =C77*'내역서(건축)'!AH356 -> 0 | AH77: =C77*'내역서(건축)'!AI356 -> 0 | AI77: =C77*'내역서(건축)'!AJ356 -> 0 | AJ77: =C77*'내역서(건축)'!AK356 -> 0 | AK77: =C77*'내역서(건축)'!AL356 -> 0 | AL77: =C77*'내역서(건축)'!AM356 -> 0 | AM77: =C77*'내역서(건축)'!AN356 -> 0 | AN77: =C77*'내역서(건축)'!AO356 -> 0 | AO77: =C77*'내역서(건축)'!AP356 -> 0 | AP77: =C77*'내역서(건축)'!AQ356 -> 0 | AQ77: =C77*'내역서(건축)'!AR356 -> 0 | AR77: =C77*'내역서(건축)'!AS356 -> 0 | AS77: =C77*'내역서(건축)'!AT356 -> 0 | AT77: =C77*'내역서(건축)'!AU356 -> 0 | AU77: =C77*'내역서(건축)'!AV356 -> 0
A78: 020109. 도장공사 | B78: 식 | C78: 1 | D78: ='내역서(건축)'!F372 -> 0 | E78: =C78*D78 -> 0 | F78: ='내역서(건축)'!H372 -> 0 | G78: =C78*F78 -> 0 | H78: ='내역서(건축)'!J372 -> 0 | I78: =C78*H78 -> 0 | J78: =D78+F78+H78 -> 0 | K78: =E78+G78+I78 -> 0 | P78: 1 | Q78: =C78*'내역서(건축)'!R372 -> 0 | R78: =C78*'내역서(건축)'!S372 -> 0 | S78: =C78*'내역서(건축)'!T372 -> 0 | T78: =C78*'내역서(건축)'!U372 -> 0 | U78: =C78*'내역서(건축)'!V372 -> 0 | V78: =C78*'내역서(건축)'!W372 -> 0 | W78: =C78*'내역서(건축)'!X372 -> 0 | X78: =C78*'내역서(건축)'!Y372 -> 0 | Y78: =C78*'내역서(건축)'!Z372 -> 0 | Z78: =C78*'내역서(건축)'!AA372 -> 0 | AA78: =C78*'내역서(건축)'!AB372 -> 0 | AB78: =C78*'내역서(건축)'!AC372 -> 0 | AC78: =C78*'내역서(건축)'!AD372 -> 0 | AD78: =C78*'내역서(건축)'!AE372 -> 0 | AE78: =C78*'내역서(건축)'!AF372 -> 0 | AF78: =C78*'내역서(건축)'!AG372 -> 0 | AG78: =C78*'내역서(건축)'!AH372 -> 0 | AH78: =C78*'내역서(건축)'!AI372 -> 0 | AI78: =C78*'내역서(건축)'!AJ372 -> 0 | AJ78: =C78*'내역서(건축)'!AK372 -> 0 | AK78: =C78*'내역서(건축)'!AL372 -> 0 | AL78: =C78*'내역서(건축)'!AM372 -> 0 | AM78: =C78*'내역서(건축)'!AN372 -> 0 | AN78: =C78*'내역서(건축)'!AO372 -> 0 | AO78: =C78*'내역서(건축)'!AP372 -> 0 | AP78: =C78*'내역서(건축)'!AQ372 -> 0 | AQ78: =C78*'내역서(건축)'!AR372 -> 0 | AR78: =C78*'내역서(건축)'!AS372 -> 0 | AS78: =C78*'내역서(건축)'!AT372 -> 0 | AT78: =C78*'내역서(건축)'!AU372 -> 0 | AU78: =C78*'내역서(건축)'!AV372 -> 0
A84: 합 계 | E84: =SUMIF(P70:P78, "1", E70:E78) -> 0 | G84: =SUMIF(P70:P78, "1", G70:G78) -> 0 | I84: =SUMIF(P70:P78, "1", I70:I78) -> 0 | K84: =E84+G84+I84 -> 0 | Q84: =SUM(Q70:Q78) -> 0 | R84: =SUM(R70:R78) -> 0 | S84: =SUM(S70:S78) -> 0 | T84: =SUM(T70:T78) -> 0 | U84: =SUM(U70:U78) -> 0 | V84: =SUM(V70:V78) -> 0 | W84: =SUM(W70:W78) -> 0 | X84: =SUM(X70:X78) -> 0 | ... AX84: =SUM(AX70:AX78) -> 0

Sheet 내역서(건축)
A1: 공 사 내 역 서
A2: =원가계산서!A2 -> ■ 공사명 : 병동 등 화장실 환경개선공사
A3: 품 명 | B3: 규 격 | C3: 단위 | D3: 수 량 | E3: 재 료 비 | G3: 노 무 비 | I3: 경 비 | K3: 합 계 | M3: 비고
E4: 단 가 | F4: 금 액 | G4: 단 가 | H4: 금 액 | I4: 단 가 | J4: 금 액 | K4: 단 가 | L4: 금 액 | N4: 손료요율 | O4: 손료구분 | P4: 적용구분 | Q4: 합계구분 | R4: 기계경비 | S4: 운반비 | T4: 작업부산물 | U4: 관급 | V4: 외주비 | W4: 장비비 | X4: 폐기물처리비 | Y4: 가설비 | Z4: 잡비제외분 | AA4: 사급자재대 | AB4: 관급자재대 | AC4: 사용자항목1 | AD4: 사용자항목2 | AE4: 안전관리비 | AF4: 품질관리비 | AG4: 작업부산물(철거해체) | AH4: 재해예방기술지도비 | AI4: 사용자항목7 | AJ4: 석면분담금 | AK4: 임금채권분담금 | AL4: 사용자항목10 | AM4: 사용자항목11 | AN4: 사용자항목12 | AO4: 사용자항목13 | AP4: 사용자항목14 | AQ4: 사용자항목15 | AR4: 사용자항목16 | AS4: 사용자항목17 | AT4: 사용자항목18 | AU4: 사용자항목19 | AV4: 간접재료비 | AW4: 품목구분 | AX4: 조달코드 | AY4: 구분
A5: 010101. 가설공사
A6: 가설 칸막이 설치 | B6: T 45, 래핑칸막이, 자재 포함 | C6: M2 | D6: 280 | F6: =ROUNDDOWN(D6*E6, 0) -> 0 | H6: =ROUNDDOWN(D6*G6, 0) -> 0 | J6: =ROUNDDOWN(D6*I6, 0) -> 0 | K6: =E6+G6+I6 -> 0 | L6: =F6+H6+J6 -> 0 | O6: ="" | P6: 기계경비 | Q6: 1 | R6: =IF(P6="기계경비", J6, 0) -> 0 | S6: =IF(P6="운반비", L6, 0) -> 0 | T6: =IF(P6="작업부산물", F6, 0) -> 0 | U6: =IF(P6="관급", F6, 0) -> 0 | V6: =IF(P6="외주비", J6, 0) -> 0 | W6: =IF(P6="장비비", J6, 0) -> 0 | X6: =IF(P6="폐기물처리비", L6, 0) -> 0 | Y6: =IF(P6="가설비", J6, 0) -> 0 | Z6: =IF(P6="잡비제외분", F6, 0) -> 0 | AA6: =IF(P6="사급자재대", L6, 0) -> 0 | AB6: =IF(P6="관급자재대", L6, 0) -> 0 | AC6: =IF(P6="사용자항목1", L6, 0) -> 0 | AD6: =IF(P6="사용자항목2", L6, 0) -> 0 | AE6: =IF(P6="안전관리비", L6, 0) -> 0 | AF6: =IF(P6="품질관리비", L6, 0) -> 0 | AG6: =IF(P6="작업부산물(철거해체)", L6, 0) -> 0 | AH6: =IF(P6="재해예방기술지도비", L6, 0) -> 0 | AI6: =IF(P6="사용자항목7", L6, 0) -> 0 | AJ6: =IF(P6="석면분담금", L6, 0) -> 0 | AK6: =IF(P6="임금채권분담금", L6, 0) -> 0 | AL6: =IF(P6="사용자항목10", L6, 0) -> 0 | AM6: =IF(P6="사용자항목11", L6, 0) -> 0 | AN6: =IF(P6="사용자항목12", L6, 0) -> 0 | AO6: =IF(P6="사용자항목13", L6, 0) -> 0 | AP6: =IF(P6="사용자항목14", L6, 0) -> 0 | AQ6: =IF(P6="사용자항목15", L6, 0) -> 0 | AR6: =IF(P6="사용자항목16", L6, 0) -> 0 | AS6: =IF(P6="사용자항목17", L6, 0) -> 0 | AT6: =IF(P6="사용자항목18", L6, 0) -> 0 | AU6: =IF(P6="사용자항목19", L6, 0) -> 0 | AY6: PK적산
A7: 가설 칸막이 재설치 | B7: T 45, 래핑칸막이, 자재 별도 | C7: M2 | D7: 560 | F7: =ROUNDDOWN(D7*E7, 0) -> 0 | H7: =ROUNDDOWN(D7*G7, 0) -> 0 | J7: =ROUNDDOWN(D7*I7, 0) -> 0 | K7: =E7+G7+I7 -> 0 | L7: =F7+H7+J7 -> 0 | O7: ="" | P7: 기계경비 | Q7: 1 | R7: =IF(P7="기계경비", J7, 0) -> 0 | S7: =IF(P7="운반비", L7, 0) -> 0 | T7: =IF(P7="작업부산물", F7, 0) -> 0 | U7: =IF(P7="관급", F7, 0) -> 0 | V7: =IF(P7="외주비", J7, 0) -> 0 | W7: =IF(P7="장비비", J7, 0) -> 0 | X7: =IF(P7="폐기물처리비", L7, 0) -> 0 | Y7: =IF(P7="가설비", J7, 0) -> 0 | Z7: =IF(P7="잡비제외분", F7, 0) -> 0 | AA7: =IF(P7="사급자재대", L7, 0) -> 0 | AB7: =IF(P7="관급자재대", L7, 0) -> 0 | AC7: =IF(P7="사용자항목1", L7, 0) -> 0 | AD7: =IF(P7="사용자항목2", L7, 0) -> 0 | AE7: =IF(P7="안전관리비", L7, 0) -> 0 | AF7: =IF(P7="품질관리비", L7, 0) -> 0 | AG7: =IF(P7="작업부산물(철거해체)", L7, 0) -> 0 | AH7: =IF(P7="재해예방기술지도비", L7, 0) -> 0 | AI7: =IF(P7="사용자항목7", L7, 0) -> 0 | AJ7: =IF(P7="석면분담금", L7, 0) -> 0 | AK7: =IF(P7="임금채권분담금", L7, 0) -> 0 | AL7: =IF(P7="사용자항목10", L7, 0) -> 0 | AM7: =IF(P7="사용자항목11", L7, 0) -> 0 | AN7: =IF(P7="사용자항목12", L7, 0) -> 0 | AO7: =IF(P7="사용자항목13", L7, 0) -> 0 | AP7: =IF(P7="사용자항목14", L7, 0) -> 0 | AQ7: =IF(P7="사용자항목15", L7, 0) -> 0 | AR7: =IF(P7="사용자항목16", L7, 0) -> 0 | AS7: =IF(P7="사용자항목17", L7, 0) -> 0 | AT7: =IF(P7="사용자항목18", L7, 0) -> 0 | AU7: =IF(P7="사용자항목19", L7, 0) -> 0 | AY7: PK적산
A8: 가설 칸막이 해체 | B8: T 45, 래핑칸막이, 설치품의 20% | C8: M2 | D8: 840 | F8: =ROUNDDOWN(D8*E8, 0) -> 0 | H8: =ROUNDDOWN(D8*G8, 0) -> 0 | J8: =ROUNDDOWN(D8*I8, 0) -> 0 | K8: =E8+G8+I8 -> 0 | L8: =F8+H8+J8 -> 0 | O8: ="" | P8: 기계경비 | Q8: 1 | R8: =IF(P8="기계경비", J8, 0) -> 0 | S8: =IF(P8="운반비", L8, 0) -> 0 | T8: =IF(P8="작업부산물", F8, 0) -> 0 | U8: =IF(P8="관급", F8, 0) -> 0 | V8: =IF(P8="외주비", J8, 0) -> 0 | W8: =IF(P8="장비비", J8, 0) -> 0 | X8: =IF(P8="폐기물처리비", L8, 0) -> 0 | Y8: =IF(P8="가설비", J8, 0) -> 0 | Z8: =IF(P8="잡비제외분", F8, 0) -> 0 | AA8: =IF(P8="사급자재대", L8, 0) -> 0 | AB8: =IF(P8="관급자재대", L8, 0) -> 0 | AC8: =IF(P8="사용자항목1", L8, 0) -> 0 | AD8: =IF(P8="사용자항목2", L8, 0) -> 0 | AE8: =IF(P8="안전관리비", L8, 0) -> 0 | AF8: =IF(P8="품질관리비", L8, 0) -> 0 | AG8: =IF(P8="작업부산물(철거해체)", L8, 0) -> 0 | AH8: =IF(P8="재해예방기술지도비", L8, 0) -> 0 | AI8: =IF(P8="사용자항목7", L8, 0) -> 0 | AJ8: =IF(P8="석면분담금", L8, 0) -> 0 | AK8: =IF(P8="임금채권분담금", L8, 0) -> 0 | AL8: =IF(P8="사용자항목10", L8, 0) -> 0 | AM8: =IF(P8="사용자항목11", L8, 0) -> 0 | AN8: =IF(P8="사용자항목12", L8, 0) -> 0 | AO8: =IF(P8="사용자항목13", L8, 0) -> 0 | AP8: =IF(P8="사용자항목14", L8, 0) -> 0 | AQ8: =IF(P8="사용자항목15", L8, 0) -> 0 | AR8: =IF(P8="사용자항목16", L8, 0) -> 0 | AS8: =IF(P8="사용자항목17", L8, 0) -> 0 | AT8: =IF(P8="사용자항목18", L8, 0) -> 0 | AU8: =IF(P8="사용자항목19", L8, 0) -> 0 | AY8: PK적산
A9: 가설출입문 설치 | B9: 1800×2100, 자재 별도 | C9: EA | D9: 12 | F9: =ROUNDDOWN(D9*E9, 0) -> 0 | H9: =ROUNDDOWN(D9*G9, 0) -> 0 | J9: =ROUNDDOWN(D9*I9, 0) -> 0 | K9: =E9+G9+I9 -> 0 | L9: =F9+H9+J9 -> 0 | O9: ="" | P9: 기계경비 | Q9: 1 | R9: =IF(P9="기계경비", J9, 0) -> 0 | S9: =IF(P9="운반비", L9, 0) -> 0 | T9: =IF(P9="작업부산물", F9, 0) -> 0 | U9: =IF(P9="관급", F9, 0) -> 0 | V9: =IF(P9="외주비", J9, 0) -> 0 | W9: =IF(P9="장비비", J9, 0) -> 0 | X9: =IF(P9="폐기물처리비", L9, 0) -> 0 | Y9: =IF(P9="가설비", J9, 0) -> 0 | Z9: =IF(P9="잡비제외분", F9, 0) -> 0 | AA9: =IF(P9="사급자재대", L9, 0) -> 0 | AB9: =IF(P9="관급자재대", L9, 0) -> 0 | AC9: =IF(P9="사용자항목1", L9, 0) -> 0 | AD9: =IF(P9="사용자항목2", L9, 0) -> 0 | AE9: =IF(P9="안전관리비", L9, 0) -> 0 | AF9: =IF(P9="품질관리비", L9, 0) -> 0 | AG9: =IF(P9="작업부산물(철거해체)", L9, 0) -> 0 | AH9: =IF(P9="재해예방기술지도비", L9, 0) -> 0 | AI9: =IF(P9="사용자항목7", L9, 0) -> 0 | AJ9: =IF(P9="석면분담금", L9, 0) -> 0 | AK9: =IF(P9="임금채권분담금", L9, 0) -> 0 | AL9: =IF(P9="사용자항목10", L9, 0) -> 0 | AM9: =IF(P9="사용자항목11", L9, 0) -> 0 | AN9: =IF(P9="사용자항목12", L9, 0) -> 0 | AO9: =IF(P9="사용자항목13", L9, 0) -> 0 | AP9: =IF(P9="사용자항목14", L9, 0) -> 0 | AQ9: =IF(P9="사용자항목15", L9, 0) -> 0 | AR9: =IF(P9="사용자항목16", L9, 0) -> 0 | AS9: =IF(P9="사용자항목17", L9, 0) -> 0 | AT9: =IF(P9="사용자항목18", L9, 0) -> 0 | AU9: =IF(P9="사용자항목19", L9, 0) -> 0 | AY9: PK적산
A10: 가설출입문 설치 | B10: 1800×2100, 자재 포함 | C10: EA | D10: 6 | F10: =ROUNDDOWN(D10*E10, 0) -> 0 | H10: =ROUNDDOWN(D10*G10, 0) -> 0 | J10: =ROUNDDOWN(D10*I10, 0) -> 0 | K10: =E10+G10+I10 -> 0 | L10: =F10+H10+J10 -> 0 | O10: ="" | P10: 기계경비 | Q10: 1 | R10: =IF(P10="기계경비", J10, 0) -> 0 | S10: =IF(P10="운반비", L10, 0) -> 0 | T10: =IF(P10="작업부산물", F10, 0) -> 0 | U10: =IF(P10="관급", F10, 0) -> 0 | V10: =IF(P10="외주비", J10, 0) -> 0 | W10: =IF(P10="장비비", J10, 0) -> 0 | X10: =IF(P10="폐기물처리비", L10, 0) -> 0 | Y10: =IF(P10="가설비", J10, 0) -> 0 | Z10: =IF(P10="잡비제외분", F10, 0) -> 0 | AA10: =IF(P10="사급자재대", L10, 0) -> 0 | AB10: =IF(P10="관급자재대", L10, 0) -> 0 | AC10: =IF(P10="사용자항목1", L10, 0) -> 0 | AD10: =IF(P10="사용자항목2", L10, 0) -> 0 | AE10: =IF(P10="안전관리비", L10, 0) -> 0 | AF10: =IF(P10="품질관리비", L10, 0) -> 0 | AG10: =IF(P10="작업부산물(철거해체)", L10, 0) -> 0 | AH10: =IF(P10="재해예방기술지도비", L10, 0) -> 0 | AI10: =IF(P10="사용자항목7", L10, 0) -> 0 | AJ10: =IF(P10="석면분담금", L10, 0) -> 0 | AK10: =IF(P10="임금채권분담금", L10, 0) -> 0 | AL10: =IF(P10="사용자항목10", L10, 0) -> 0 | AM10: =IF(P10="사용자항목11", L10, 0) -> 0 | AN10: =IF(P10="사용자항목12", L10, 0) -> 0 | AO10: =IF(P10="사용자항목13", L10, 0) -> 0 | AP10: =IF(P10="사용자항목14", L10, 0) -> 0 | AQ10: =IF(P10="사용자항목15", L10, 0) -> 0 | AR10: =IF(P10="사용자항목16", L10, 0) -> 0 | AS10: =IF(P10="사용자항목17", L10, 0) -> 0 | AT10: =IF(P10="사용자항목18", L10, 0) -> 0 | AU10: =IF(P10="사용자항목19", L10, 0) -> 0 | AY10: PK적산
A11: 가설출입문 설치 | B11: 900×2100, 자재 별도 | C11: EA | D11: 10 | F11: =ROUNDDOWN(D11*E11, 0) -> 0 | H11: =ROUNDDOWN(D11*G11, 0) -> 0 | J11: =ROUNDDOWN(D11*I11, 0) -> 0 | K11: =E11+G11+I11 -> 0 | L11: =F11+H11+J11 -> 0 | O11: ="" | P11: 기계경비 | Q11: 1 | R11: =IF(P11="기계경비", J11, 0) -> 0 | S11: =IF(P11="운반비", L11, 0) -> 0 | T11: =IF(P11="작업부산물", F11, 0) -> 0 | U11: =IF(P11="관급", F11, 0) -> 0 | V11: =IF(P11="외주비", J11, 0) -> 0 | W11: =IF(P11="장비비", J11, 0) -> 0 | X11: =IF(P11="폐기물처리비", L11, 0) -> 0 | Y11: =IF(P11="가설비", J11, 0) -> 0 | Z11: =IF(P11="잡비제외분", F11, 0) -> 0 | AA11: =IF(P11="사급자재대", L11, 0) -> 0 | AB11: =IF(P11="관급자재대", L11, 0) -> 0 | AC11: =IF(P11="사용자항목1", L11, 0) -> 0 | AD11: =IF(P11="사용자항목2", L11, 0) -> 0 | AE11: =IF(P11="안전관리비", L11, 0) -> 0 | AF11: =IF(P11="품질관리비", L11, 0) -> 0 | AG11: =IF(P11="작업부산물(철거해체)", L11, 0) -> 0 | AH11: =IF(P11="재해예방기술지도비", L11, 0) -> 0 | AI11: =IF(P11="사용자항목7", L11, 0) -> 0 | AJ11: =IF(P11="석면분담금", L11, 0) -> 0 | AK11: =IF(P11="임금채권분담금", L11, 0) -> 0 | AL11: =IF(P11="사용자항목10", L11, 0) -> 0 | AM11: =IF(P11="사용자항목11", L11, 0) -> 0 | AN11: =IF(P11="사용자항목12", L11, 0) -> 0 | AO11: =IF(P11="사용자항목13", L11, 0) -> 0 | AP11: =IF(P11="사용자항목14", L11, 0) -> 0 | AQ11: =IF(P11="사용자항목15", L11, 0) -> 0 | AR11: =IF(P11="사용자항목16", L11, 0) -> 0 | AS11: =IF(P11="사용자항목17", L11, 0) -> 0 | AT11: =IF(P11="사용자항목18", L11, 0) -> 0 | AU11: =IF(P11="사용자항목19", L11, 0) -> 0 | AY11: PK적산
A12: 가설출입문 설치 | B12: 900×2100, 자재 포함 | C12: EA | D12: 4 | F12: =ROUNDDOWN(D12*E12, 0) -> 0 | H12: =ROUNDDOWN(D12*G12, 0) -> 0 | J12: =ROUNDDOWN(D12*I12, 0) -> 0 | K12: =E12+G12+I12 -> 0 | L12: =F12+H12+J12 -> 0 | O12: ="" | P12: 기계경비 | Q12: 1 | R12: =IF(P12="기계경비", J12, 0) -> 0 | S12: =IF(P12="운반비", L12, 0) -> 0 | T12: =IF(P12="작업부산물", F12, 0) -> 0 | U12: =IF(P12="관급", F12, 0) -> 0 | V12: =IF(P12="외주비", J12, 0) -> 0 | W12: =IF(P12="장비비", J12, 0) -> 0 | X12: =IF(P12="폐기물처리비", L12, 0) -> 0 | Y12: =IF(P12="가설비", J12, 0) -> 0 | Z12: =IF(P12="잡비제외분", F12, 0) -> 0 | AA12: =IF(P12="사급자재대", L12, 0) -> 0 | AB12: =IF(P12="관급자재대", L12, 0) -> 0 | AC12: =IF(P12="사용자항목1", L12, 0) -> 0 | AD12: =IF(P12="사용자항목2", L12, 0) -> 0 | AE12: =IF(P12="안전관리비", L12, 0) -> 0 | AF12: =IF(P12="품질관리비", L12, 0) -> 0 | AG12: =IF(P12="작업부산물(철거해체)", L12, 0) -> 0 | AH12: =IF(P12="재해예방기술지도비", L12, 0) -> 0 | AI12: =IF(P12="사용자항목7", L12, 0) -> 0 | AJ12: =IF(P12="석면분담금", L12, 0) -> 0 | AK12: =IF(P12="임금채권분담금", L12, 0) -> 0 | AL12: =IF(P12="사용자항목10", L12, 0) -> 0 | AM12: =IF(P12="사용자항목11", L12, 0) -> 0 | AN12: =IF(P12="사용자항목12", L12, 0) -> 0 | AO12: =IF(P12="사용자항목13", L12, 0) -> 0 | AP12: =IF(P12="사용자항목14", L12, 0) -> 0 | AQ12: =IF(P12="사용자항목15", L12, 0) -> 0 | AR12: =IF(P12="사용자항목16", L12, 0) -> 0 | AS12: =IF(P12="사용자항목17", L12, 0) -> 0 | AT12: =IF(P12="사용자항목18", L12, 0) -> 0 | AU12: =IF(P12="사용자항목19", L12, 0) -> 0 | AY12: PK적산
A13: 보양 | B13: 비닐, 바닥, 벽체, 엘리베이터 | C13: M2 | D13: 3104.16 | F13: =ROUNDDOWN(D13*E13, 0) -> 0 | H13: =ROUNDDOWN(D13*G13, 0) -> 0 | J13: =ROUNDDOWN(D13*I13, 0) -> 0 | K13: =E13+G13+I13 -> 0 | L13: =F13+H13+J13 -> 0 | O13: ="" | P13: 기계경비 | Q13: 1 | R13: =IF(P13="기계경비", J13, 0) -> 0 | S13: =IF(P13="운반비", L13, 0) -> 0 | T13: =IF(P13="작업부산물", F13, 0) -> 0 | U13: =IF(P13="관급", F13, 0) -> 0 | V13: =IF(P13="외주비", J13, 0) -> 0 | W13: =IF(P13="장비비", J13, 0) -> 0 | X13: =IF(P13="폐기물처리비", L13, 0) -> 0 | Y13: =IF(P13="가설비", J13, 0) -> 0 | Z13: =IF(P13="잡비제외분", F13, 0) -> 0 | AA13: =IF(P13="사급자재대", L13, 0) -> 0 | AB13: =IF(P13="관급자재대", L13, 0) -> 0 | AC13: =IF(P13="사용자항목1", L13, 0) -> 0 | AD13: =IF(P13="사용자항목2", L13, 0) -> 0 | AE13: =IF(P13="안전관리비", L13, 0) -> 0 | AF13: =IF(P13="품질관리비", L13, 0) -> 0 | AG13: =IF(P13="작업부산물(철거해체)", L13, 0) -> 0 | AH13: =IF(P13="재해예방기술지도비", L13, 0) -> 0 | AI13: =IF(P13="사용자항목7", L13, 0) -> 0 | AJ13: =IF(P13="석면분담금", L13, 0) -> 0 | AK13: =IF(P13="임금채권분담금", L13, 0) -> 0 | AL13: =IF(P13="사용자항목10", L13, 0) -> 0 | AM13: =IF(P13="사용자항목11", L13, 0) -> 0 | AN13: =IF(P13="사용자항목12", L13, 0) -> 0 | AO13: =IF(P13="사용자항목13", L13, 0) -> 0 | AP13: =IF(P13="사용자항목14", L13, 0) -> 0 | AQ13: =IF(P13="사용자항목15", L13, 0) -> 0 | AR13: =IF(P13="사용자항목16", L13, 0) -> 0 | AS13: =IF(P13="사용자항목17", L13, 0) -> 0 | AT13: =IF(P13="사용자항목18", L13, 0) -> 0 | AU13: =IF(P13="사용자항목19", L13, 0) -> 0 | AY13: PK적산
A14: 이동식 집진기 | B14: RT 1100, 운반비 포함, 1개월 | C14: 대 | D14: 24 | F14: =ROUNDDOWN(D14*E14, 0) -> 0 | H14: =ROUNDDOWN(D14*G14, 0) -> 0 | J14: =ROUNDDOWN(D14*I14, 0) -> 0 | K14: =E14+G14+I14 -> 0 | L14: =F14+H14+J14 -> 0 | O14: ="" | P14: 기계경비 | Q14: 1 | R14: =IF(P14="기계경비", J14, 0) -> 0 | S14: =IF(P14="운반비", L14, 0) -> 0 | T14: =IF(P14="작업부산물", F14, 0) -> 0 | U14: =IF(P14="관급", F14, 0) -> 0 | V14: =IF(P14="외주비", J14, 0) -> 0 | W14: =IF(P14="장비비", J14, 0) -> 0 | X14: =IF(P14="폐기물처리비", L14, 0) -> 0 | Y14: =IF(P14="가설비", J14, 0) -> 0 | Z14: =IF(P14="잡비제외분", F14, 0) -> 0 | AA14: =IF(P14="사급자재대", L14, 0) -> 0 | AB14: =IF(P14="관급자재대", L14, 0) -> 0 | AC14: =IF(P14="사용자항목1", L14, 0) -> 0 | AD14: =IF(P14="사용자항목2", L14, 0) -> 0 | AE14: =IF(P14="안전관리비", L14, 0) -> 0 | AF14: =IF(P14="품질관리비", L14, 0) -> 0 | AG14: =IF(P14="작업부산물(철거해체)", L14, 0) -> 0 | AH14: =IF(P14="재해예방기술지도비", L14, 0) -> 0 | AI14: =IF(P14="사용자항목7", L14, 0) -> 0 | AJ14: =IF(P14="석면분담금", L14, 0) -> 0 | AK14: =IF(P14="임금채권분담금", L14, 0) -> 0 | AL14: =IF(P14="사용자항목10", L14, 0) -> 0 | AM14: =IF(P14="사용자항목11", L14, 0) -> 0 | AN14: =IF(P14="사용자항목12", L14, 0) -> 0 | AO14: =IF(P14="사용자항목13", L14, 0) -> 0 | AP14: =IF(P14="사용자항목14", L14, 0) -> 0 | AQ14: =IF(P14="사용자항목15", L14, 0) -> 0 | AR14: =IF(P14="사용자항목16", L14, 0) -> 0 | AS14: =IF(P14="사용자항목17", L14, 0) -> 0 | AT14: =IF(P14="사용자항목18", L14, 0) -> 0 | AU14: =IF(P14="사용자항목19", L14, 0) -> 0 | AY14: PK적산
A15: 조립말비계 | B15: 6개월,1단(2m) | C15: 대 | D15: 6 | F15: =ROUNDDOWN(D15*E15, 0) -> 0 | H15: =ROUNDDOWN(D15*G15, 0) -> 0 | J15: =ROUNDDOWN(D15*I15, 0) -> 0 | K15: =E15+G15+I15 -> 0 | L15: =F15+H15+J15 -> 0 | O15: ="" | P15: 기계경비 | Q15: 1 | R15: =IF(P15="기계경비", J15, 0) -> 0 | S15: =IF(P15="운반비", L15, 0) -> 0 | T15: =IF(P15="작업부산물", F15, 0) -> 0 | U15: =IF(P15="관급", F15, 0) -> 0 | V15: =IF(P15="외주비", J15, 0) -> 0 | W15: =IF(P15="장비비", J15, 0) -> 0 | X15: =IF(P15="폐기물처리비", L15, 0) -> 0 | Y15: =IF(P15="가설비", J15, 0) -> 0 | Z15: =IF(P15="잡비제외분", F15, 0) -> 0 | AA15: =IF(P15="사급자재대", L15, 0) -> 0 | AB15: =IF(P15="관급자재대", L15, 0) -> 0 | AC15: =IF(P15="사용자항목1", L15, 0) -> 0 | AD15: =IF(P15="사용자항목2", L15, 0) -> 0 | AE15: =IF(P15="안전관리비", L15, 0) -> 0 | AF15: =IF(P15="품질관리비", L15, 0) -> 0 | AG15: =IF(P15="작업부산물(철거해체)", L15, 0) -> 0 | AH15: =IF(P15="재해예방기술지도비", L15, 0) -> 0 | AI15: =IF(P15="사용자항목7", L15, 0) -> 0 | AJ15: =IF(P15="석면분담금", L15, 0) -> 0 | AK15: =IF(P15="임금채권분담금", L15, 0) -> 0 | AL15: =IF(P15="사용자항목10", L15, 0) -> 0 | AM15: =IF(P15="사용자항목11", L15, 0) -> 0 | AN15: =IF(P15="사용자항목12", L15, 0) -> 0 | AO15: =IF(P15="사용자항목13", L15, 0) -> 0 | AP15: =IF(P15="사용자항목14", L15, 0) -> 0 | AQ15: =IF(P15="사용자항목15", L15, 0) -> 0 | AR15: =IF(P15="사용자항목16", L15, 0) -> 0 | AS15: =IF(P15="사용자항목17", L15, 0) -> 0 | AT15: =IF(P15="사용자항목18", L15, 0) -> 0 | AU15: =IF(P15="사용자항목19", L15, 0) -> 0
A16: 준공청소 | C16: M2 | D16: 298.72 | F16: =ROUNDDOWN(D16*E16, 0) -> 0 | H16: =ROUNDDOWN(D16*G16, 0) -> 0 | J16: =ROUNDDOWN(D16*I16, 0) -> 0 | K16: =E16+G16+I16 -> 0 | L16: =F16+H16+J16 -> 0 | O16: ="" | P16: 기계경비 | Q16: 1 | R16: =IF(P16="기계경비", J16, 0) -> 0 | S16: =IF(P16="운반비", L16, 0) -> 0 | T16: =IF(P16="작업부산물", F16, 0) -> 0 | U16: =IF(P16="관급", F16, 0) -> 0 | V16: =IF(P16="외주비", J16, 0) -> 0 | W16: =IF(P16="장비비", J16, 0) -> 0 | X16: =IF(P16="폐기물처리비", L16, 0) -> 0 | Y16: =IF(P16="가설비", J16, 0) -> 0 | Z16: =IF(P16="잡비제외분", F16, 0) -> 0 | AA16: =IF(P16="사급자재대", L16, 0) -> 0 | AB16: =IF(P16="관급자재대", L16, 0) -> 0 | AC16: =IF(P16="사용자항목1", L16, 0) -> 0 | AD16: =IF(P16="사용자항목2", L16, 0) -> 0 | AE16: =IF(P16="안전관리비", L16, 0) -> 0 | AF16: =IF(P16="품질관리비", L16, 0) -> 0 | AG16: =IF(P16="작업부산물(철거해체)", L16, 0) -> 0 | AH16: =IF(P16="재해예방기술지도비", L16, 0) -> 0 | AI16: =IF(P16="사용자항목7", L16, 0) -> 0 | AJ16: =IF(P16="석면분담금", L16, 0) -> 0 | AK16: =IF(P16="임금채권분담금", L16, 0) -> 0 | AL16: =IF(P16="사용자항목10", L16, 0) -> 0 | AM16: =IF(P16="사용자항목11", L16, 0) -> 0 | AN16: =IF(P16="사용자항목12", L16, 0) -> 0 | AO16: =IF(P16="사용자항목13", L16, 0) -> 0 | AP16: =IF(P16="사용자항목14", L16, 0) -> 0 | AQ16: =IF(P16="사용자항목15", L16, 0) -> 0 | AR16: =IF(P16="사용자항목16", L16, 0) -> 0 | AS16: =IF(P16="사용자항목17", L16, 0) -> 0 | AT16: =IF(P16="사용자항목18", L16, 0) -> 0 | AU16: =IF(P16="사용자항목19", L16, 0) -> 0
A17: 건축물현장정리 | B17: 개보수 | C17: M2 | D17: 298.72 | F17: =ROUNDDOWN(D17*E17, 0) -> 0 | H17: =ROUNDDOWN(D17*G17, 0) -> 0 | J17: =ROUNDDOWN(D17*I17, 0) -> 0 | K17: =E17+G17+I17 -> 0 | L17: =F17+H17+J17 -> 0 | O17: ="" | P17: 기계경비 | Q17: 1 | R17: =IF(P17="기계경비", J17, 0) -> 0 | S17: =IF(P17="운반비", L17, 0) -> 0 | T17: =IF(P17="작업부산물", F17, 0) -> 0 | U17: =IF(P17="관급", F17, 0) -> 0 | V17: =IF(P17="외주비", J17, 0) -> 0 | W17: =IF(P17="장비비", J17, 0) -> 0 | X17: =IF(P17="폐기물처리비", L17, 0) -> 0 | Y17: =IF(P17="가설비", J17, 0) -> 0 | Z17: =IF(P17="잡비제외분", F17, 0) -> 0 | AA17: =IF(P17="사급자재대", L17, 0) -> 0 | AB17: =IF(P17="관급자재대", L17, 0) -> 0 | AC17: =IF(P17="사용자항목1", L17, 0) -> 0 | AD17: =IF(P17="사용자항목2", L17, 0) -> 0 | AE17: =IF(P17="안전관리비", L17, 0) -> 0 | AF17: =IF(P17="품질관리비", L17, 0) -> 0 | AG17: =IF(P17="작업부산물(철거해체)", L17, 0) -> 0 | AH17: =IF(P17="재해예방기술지도비", L17, 0) -> 0 | AI17: =IF(P17="사용자항목7", L17, 0) -> 0 | AJ17: =IF(P17="석면분담금", L17, 0) -> 0 | AK17: =IF(P17="임금채권분담금", L17, 0) -> 0 | AL17: =IF(P17="사용자항목10", L17, 0) -> 0 | AM17: =IF(P17="사용자항목11", L17, 0) -> 0 | AN17: =IF(P17="사용자항목12", L17, 0) -> 0 | AO17: =IF(P17="사용자항목13", L17, 0) -> 0 | AP17: =IF(P17="사용자항목14", L17, 0) -> 0 | AQ17: =IF(P17="사용자항목15", L17, 0) -> 0 | AR17: =IF(P17="사용자항목16", L17, 0) -> 0 | AS17: =IF(P17="사용자항목17", L17, 0) -> 0 | AT17: =IF(P17="사용자항목18", L17, 0) -> 0 | AU17: =IF(P17="사용자항목19", L17, 0) -> 0
A18: 가설출입문 철거 | B18: 1.0∼3.0㎡이하, 설치품의 20% | C18: 개소 | D18: 24 | F18: =ROUNDDOWN(D18*E18, 0) -> 0 | H18: =ROUNDDOWN(D18*G18, 0) -> 0 | J18: =ROUNDDOWN(D18*I18, 0) -> 0 | K18: =E18+G18+I18 -> 0 | L18: =F18+H18+J18 -> 0 | O18: ="" | P18: 기계경비 | Q18: 1 | R18: =IF(P18="기계경비", J18, 0) -> 0 | S18: =IF(P18="운반비", L18, 0) -> 0 | T18: =IF(P18="작업부산물", F18, 0) -> 0 | U18: =IF(P18="관급", F18, 0) -> 0 | V18: =IF(P18="외주비", J18, 0) -> 0 | W18: =IF(P18="장비비", J18, 0) -> 0 | X18: =IF(P18="폐기물처리비", L18, 0) -> 0 | Y18: =IF(P18="가설비", J18, 0) -> 0 | Z18: =IF(P18="잡비제외분", F18, 0) -> 0 | AA18: =IF(P18="사급자재대", L18, 0) -> 0 | AB18: =IF(P18="관급자재대", L18, 0) -> 0 | AC18: =IF(P18="사용자항목1", L18, 0) -> 0 | AD18: =IF(P18="사용자항목2", L18, 0) -> 0 | AE18: =IF(P18="안전관리비", L18, 0) -> 0 | AF18: =IF(P18="품질관리비", L18, 0) -> 0 | AG18: =IF(P18="작업부산물(철거해체)", L18, 0) -> 0 | AH18: =IF(P18="재해예방기술지도비", L18, 0) -> 0 | AI18: =IF(P18="사용자항목7", L18, 0) -> 0 | AJ18: =IF(P18="석면분담금", L18, 0) -> 0 | AK18: =IF(P18="임금채권분담금", L18, 0) -> 0 | AL18: =IF(P18="사용자항목10", L18, 0) -> 0 | AM18: =IF(P18="사용자항목11", L18, 0) -> 0 | AN18: =IF(P18="사용자항목12", L18, 0) -> 0 | AO18: =IF(P18="사용자항목13", L18, 0) -> 0 | AP18: =IF(P18="사용자항목14", L18, 0) -> 0 | AQ18: =IF(P18="사용자항목15", L18, 0) -> 0 | AR18: =IF(P18="사용자항목16", L18, 0) -> 0 | AS18: =IF(P18="사용자항목17", L18, 0) -> 0 | AT18: =IF(P18="사용자항목18", L18, 0) -> 0 | AU18: =IF(P18="사용자항목19", L18, 0) -> 0 | AY18: PK적산
A20: 합 계 | F20: =ROUNDDOWN(SUMIF(Q6:Q19, "1", F6:F19), 0) -> 0 | H20: =ROUNDDOWN(SUMIF(Q6:Q19, "1", H6:H19), 0) -> 0 | J20: =ROUNDDOWN(SUMIF(Q6:Q19, "1", J6:J19), 0) -> 0 | L20: =F20+H20+J20 -> 0 | R20: =ROUNDDOWN(SUM(R6:R18), 0) -> 0 | S20: =ROUNDDOWN(SUM(S6:S18), 0) -> 0 | T20: =ROUNDDOWN(SUM(T6:T18), 0) -> 0 | U20: =ROUNDDOWN(SUM(U6:U18), 0) -> 0 | V20: =ROUNDDOWN(SUM(V6:V18), 0) -> 0 | W20: =ROUNDDOWN(SUM(W6:W18), 0) -> 0 | X20: =ROUNDDOWN(SUM(X6:X18), 0) -> 0 | Y20: =ROUNDDOWN(SUM(Y6:Y18), 0) -> 0 | ... AY20: =ROUNDDOWN(SUM(AY6:AY18), 0) -> 0
A21: 010102. 철거공사
